BEGIN:VCALENDAR
VERSION:2.0
PRODID:-//Laramie Events - ECPv6.15.17.1//NONSGML v1.0//EN
CALSCALE:GREGORIAN
METHOD:PUBLISH
X-WR-CALNAME:Laramie Events
X-ORIGINAL-URL:https://laramieevents.com
X-WR-CALDESC:Events for Laramie Events
REFRESH-INTERVAL;VALUE=DURATION:PT1H
X-Robots-Tag:noindex
X-PUBLISHED-TTL:PT1H
BEGIN:VTIMEZONE
TZID:America/Denver
BEGIN:DAYLIGHT
TZOFFSETFROM:-0700
TZOFFSETTO:-0600
TZNAME:MDT
DTSTART:20250309T090000
END:DAYLIGHT
BEGIN:STANDARD
TZOFFSETFROM:-0600
TZOFFSETTO:-0700
TZNAME:MST
DTSTART:20251102T080000
END:STANDARD
BEGIN:DAYLIGHT
TZOFFSETFROM:-0700
TZOFFSETTO:-0600
TZNAME:MDT
DTSTART:20260308T090000
END:DAYLIGHT
BEGIN:STANDARD
TZOFFSETFROM:-0600
TZOFFSETTO:-0700
TZNAME:MST
DTSTART:20261101T080000
END:STANDARD
BEGIN:DAYLIGHT
TZOFFSETFROM:-0700
TZOFFSETTO:-0600
TZNAME:MDT
DTSTART:20270314T090000
END:DAYLIGHT
BEGIN:STANDARD
TZOFFSETFROM:-0600
TZOFFSETTO:-0700
TZNAME:MST
DTSTART:20271107T080000
END:STANDARD
END:VTIMEZONE
BEGIN:VEVENT
DTSTART;VALUE=DATE:20260305
DTEND;VALUE=DATE:20260306
DTSTAMP:20260423T180008
CREATED:20260212T143232Z
LAST-MODIFIED:20260212T143232Z
UID:10007881-1772668800-1772755199@laramieevents.com
SUMMARY:Weekly Yoga At The Centennial Public Library
DESCRIPTION:The Centennial Public Library will offer yoga twice a week with two different styles of yoga. Vinyasa flow 9 to 10am Mondays and Restorative/Yoga Nidra Thursdays 6 to 7pm. The classes will take place at the library and the suggested donation is $10 to $15 per class. See the flyer for more info on what each yoga class is.
URL:https://laramieevents.com/event/weekly-yoga-at-the-centennial-public-library/2026-03-05/
ATTACH;FMTTYPE=image/jpeg:https://laramieevents.com/wp-content/uploads/sites/3/2026/02/unnamed-2.jpg
END:VEVENT
BEGIN:VEVENT
DTSTART;TZID=America/Denver:20260305T173000
DTEND;TZID=America/Denver:20260305T193000
DTSTAMP:20260423T180008
CREATED:20260224T160906Z
LAST-MODIFIED:20260224T161252Z
UID:10009222-1772731800-1772739000@laramieevents.com
SUMMARY:Special Meeting Of Laramie Urban Renewal Agency
DESCRIPTION:Notice is hereby given that a Laramie Urban Renewal Agency special meeting will be held on Thursday\, March 5\, 2026\, at 5:30 p.m.\, in person at the Laramie Municipal Operations Center\, North Platte Conference Room\, 4373 N. 3rd Street\, or via Zoom\, link listed below.  The agenda will include consideration of the minutes of the Laramie Urban Renewal Agency and consideration of the  West Side Plan & Project and will be posted at www.cityoflaramie.org/agendacenter four days prior to the meeting. Please contact the City of Laramie Assistant City Manager’s Office at 307-721-5304 for further information. \nOnline Stream Link (Zoom): \nhttps://cityoflaramie.zoom.us/j/87503210375?pwd=D4jJ3AdMyHWUyaHDbr4IEydoNqsQf7.1 \nPasscode:282076\, Webinar ID: 875 0321 0375
URL:https://laramieevents.com/event/special-meeting-of-laramie-urban-renewal-agency/
ATTACH;FMTTYPE=image/png:https://laramieevents.com/wp-content/uploads/sites/3/2026/02/unnamed.png
END:VEVENT
BEGIN:VEVENT
DTSTART;TZID=America/Denver:20260305T173000
DTEND;TZID=America/Denver:20260305T210000
DTSTAMP:20260423T180008
CREATED:20260211T194901Z
LAST-MODIFIED:20260211T194901Z
UID:10007874-1772731800-1772744400@laramieevents.com
SUMMARY:Laramie Chamber Awards Banquet
DESCRIPTION:The LCBA Annual Awards Banquet is an evening of celebration and recognition honoring the outstanding businesses\, leaders\, and professionals who make a lasting impact in the Laramie community. This signature event includes dinner and a formal awards ceremony recognizing excellence in leadership\, innovation\, service\, and community involvement. Held at the UW Conference Center\, the banquet brings together members\, partners\, and community leaders to reflect on the past year’s achievements and celebrate the continued strength of Laramie’s business community. The Annual Awards Banquet highlights those who go above and beyond while showcasing the collective progress and momentum of our local economy. \nRegister for tickets at this link
URL:https://laramieevents.com/event/laramie-chamber-awards-banquet/
ATTACH;FMTTYPE=image/png:https://laramieevents.com/wp-content/uploads/sites/3/2026/02/Capture.png
END:VEVENT
BEGIN:VEVENT
DTSTART;TZID=America/Denver:20260305T190000
DTEND;TZID=America/Denver:20260305T210000
DTSTAMP:20260423T180008
CREATED:20260130T014954Z
LAST-MODIFIED:20260130T014954Z
UID:10007791-1772737200-1772744400@laramieevents.com
SUMMARY:Open Jam Night at the Gryphon Theatre
DESCRIPTION:Calling all musicians for open jams at the Gryphon Theatre. \nBring an instrument. Full stage lights and sound. Drums and amps provided. \nIn partnership with UWYO Music Production Club. \n7:00 pm on the first Thursday of the month.
URL:https://laramieevents.com/event/open-jam-night-at-the-gryphon-theatre/2026-03-05/
LOCATION:Gryphon Theatre\, 710 E Garfield St Studio #333\, Laramie\, WY\, 82070\, United States
CATEGORIES:Live Music
ATTACH;FMTTYPE=image/png:https://laramieevents.com/wp-content/uploads/sites/3/2026/01/Open-Jams-Poster-OFF-CAMPUS-NO-QR.png
END:VEVENT
END:VCALENDAR