BEGIN:VCALENDAR
VERSION:2.0
PRODID:-//Laramie Events - ECPv6.15.17.1//NONSGML v1.0//EN
CALSCALE:GREGORIAN
METHOD:PUBLISH
X-ORIGINAL-URL:https://laramieevents.com
X-WR-CALDESC:Events for Laramie Events
REFRESH-INTERVAL;VALUE=DURATION:PT1H
X-Robots-Tag:noindex
X-PUBLISHED-TTL:PT1H
BEGIN:VTIMEZONE
TZID:America/Denver
BEGIN:DAYLIGHT
TZOFFSETFROM:-0700
TZOFFSETTO:-0600
TZNAME:MDT
DTSTART:20250309T090000
END:DAYLIGHT
BEGIN:STANDARD
TZOFFSETFROM:-0600
TZOFFSETTO:-0700
TZNAME:MST
DTSTART:20251102T080000
END:STANDARD
BEGIN:DAYLIGHT
TZOFFSETFROM:-0700
TZOFFSETTO:-0600
TZNAME:MDT
DTSTART:20260308T090000
END:DAYLIGHT
BEGIN:STANDARD
TZOFFSETFROM:-0600
TZOFFSETTO:-0700
TZNAME:MST
DTSTART:20261101T080000
END:STANDARD
BEGIN:DAYLIGHT
TZOFFSETFROM:-0700
TZOFFSETTO:-0600
TZNAME:MDT
DTSTART:20270314T090000
END:DAYLIGHT
BEGIN:STANDARD
TZOFFSETFROM:-0600
TZOFFSETTO:-0700
TZNAME:MST
DTSTART:20271107T080000
END:STANDARD
END:VTIMEZONE
BEGIN:VEVENT
DTSTART;TZID=America/Denver:20260304T080000
DTEND;TZID=America/Denver:20260304T170000
DTSTAMP:20260423T180159
CREATED:20260212T143540Z
LAST-MODIFIED:20260212T143540Z
UID:10008397-1772611200-1772643600@laramieevents.com
SUMMARY:Centennial Library Book Club
DESCRIPTION:From the organization: \nWe decided to discuss the book at the next meeting (Drive your Plow over the bones of the dead). I’m a little more than 1/2 way through and it really is a terrific read\, and fairly fast. \nNext book is The Beekeeper of Aleppo on Wednesday\, March 4 @ 5p. \nCentennialWYBookClub@gmail.com email for more info or to join the club \nJoin our Facebook page at Centennial Book Club Facebook Group. \nHere is the book list for 2026: \nFeb – Drive your Plow over the bones of the dead – Sarah \nMarch – The Beekeeper of Aleppo – Michele \nApril – The Correspondent – Sarah \nMay – Lynette table for two \nJune Deb the Lemon Tree \nJuly – Deb – Isola \nAugust – Stephanie – facing the mountains \nSept Julie- Wild dark shore \nOct -Judy O – Plainsong \nNov – The Paris Wife – Jan \nDec – The Alice Network – Michele \nJan – Mr Wigg
URL:https://laramieevents.com/event/centennial-library-book-club/
ATTACH;FMTTYPE=image/jpeg:https://laramieevents.com/wp-content/uploads/sites/3/2026/02/unnamed-3.jpg
END:VEVENT
BEGIN:VEVENT
DTSTART;TZID=America/Denver:20260304T170000
DTEND;TZID=America/Denver:20260304T183000
DTSTAMP:20260423T180159
CREATED:20260211T193640Z
LAST-MODIFIED:20260211T193640Z
UID:10007814-1772643600-1772649000@laramieevents.com
SUMMARY:Cancer Crusaders Club
DESCRIPTION:From Ivinson Memorial Hospital \nWe are tackling cancer together. Anyone whose life has been touched by cancer is invited. We meet the first Wednesday of every month at 5:15 PM. You can join us virtually via Zoom or in person at the Cancer Center Education Room. For directions or Zoom link\, please contact Cindy Garnich: (307) 755-4464
URL:https://laramieevents.com/event/cancer-crusaders-club/2026-03-04/
ATTACH;FMTTYPE=image/png:https://laramieevents.com/wp-content/uploads/sites/3/2026/02/htchnm-awareness-5730258_1280.png
END:VEVENT
END:VCALENDAR