BEGIN:VCALENDAR
VERSION:2.0
PRODID:-//Laramie Events - ECPv6.15.17.1//NONSGML v1.0//EN
CALSCALE:GREGORIAN
METHOD:PUBLISH
X-ORIGINAL-URL:https://laramieevents.com
X-WR-CALDESC:Events for Laramie Events
REFRESH-INTERVAL;VALUE=DURATION:PT1H
X-Robots-Tag:noindex
X-PUBLISHED-TTL:PT1H
BEGIN:VTIMEZONE
TZID:America/Denver
BEGIN:DAYLIGHT
TZOFFSETFROM:-0700
TZOFFSETTO:-0600
TZNAME:MDT
DTSTART:20250309T090000
END:DAYLIGHT
BEGIN:STANDARD
TZOFFSETFROM:-0600
TZOFFSETTO:-0700
TZNAME:MST
DTSTART:20251102T080000
END:STANDARD
BEGIN:DAYLIGHT
TZOFFSETFROM:-0700
TZOFFSETTO:-0600
TZNAME:MDT
DTSTART:20260308T090000
END:DAYLIGHT
BEGIN:STANDARD
TZOFFSETFROM:-0600
TZOFFSETTO:-0700
TZNAME:MST
DTSTART:20261101T080000
END:STANDARD
BEGIN:DAYLIGHT
TZOFFSETFROM:-0700
TZOFFSETTO:-0600
TZNAME:MDT
DTSTART:20270314T090000
END:DAYLIGHT
BEGIN:STANDARD
TZOFFSETFROM:-0600
TZOFFSETTO:-0700
TZNAME:MST
DTSTART:20271107T080000
END:STANDARD
END:VTIMEZONE
BEGIN:VEVENT
DTSTART;TZID=America/Denver:20260303T123000
DTEND;TZID=America/Denver:20260303T123000
DTSTAMP:20260423T180203
CREATED:20260224T182003Z
LAST-MODIFIED:20260224T182549Z
UID:10009223-1772541000-1772541000@laramieevents.com
SUMMARY:UW And Wyoming Small Business Development Center Network  AI Marketing Webinar
DESCRIPTION:Small-business owners\, entrepreneurs and startups will have the opportunity to learn how to use various artificial intelligence (AI) chatbots to enhance their marketing\, market research and intellectual property protection skills Tuesday\, March 3. \nPaul Johnson\, Kayley Achi and Monica Patten will lead a Wyoming Small Business Development Center (SBDC) Network webinar\, titled “AI Marketing\, Market Research and Intellectual Property Workshop\,” from noon-12:30 p.m. To register\, go here. Registration is free. \nThe Wyoming SBDC Network offers business expertise to help Wyoming residents think about\, launch\, grow\, reinvent or exit their business. The Wyoming SBDC Network is hosted by the University of Wyoming with state funds from the Wyoming Business Council and funded\, in part\, through a cooperative agreement with the U.S. Small Business Administration. \nDuring the webinar\, Achi will demonstrate how Google Gemini can help small-business owners conduct basic market research tasks. Johnson will demonstrate how to use Claude AI to easily create marketing content for social media\, websites or product descriptions. Patten will discuss what information small-business owners should and should not share with AI chatbots to keep their trade secrets safe and protect their intellectual property. \nJohnson is the cybersecurity for small business program manager for the Wyoming SBDC Network. \nAchi is the program manager for the Wyoming SBDC Network’s Market Research Center. \nPatten is the Wyoming SBDC Network’s research and commercialization director. \nFor more information\, call Tyler Schanck\, marketing\, communications and database manager for the Wyoming SBDC Network\, at (307) 343-0925 or email tschanck@uwyo.edu.
URL:https://laramieevents.com/event/uw-and-wyoming-small-business-development-center-network-ai-marketing-webinar/
ATTACH;FMTTYPE=image/jpeg:https://laramieevents.com/wp-content/uploads/sites/3/2026/02/aicanvas-robot-8634899_1280.jpg
END:VEVENT
END:VCALENDAR