BEGIN:VCALENDAR
VERSION:2.0
PRODID:-//Laramie Events - ECPv6.15.17.1//NONSGML v1.0//EN
CALSCALE:GREGORIAN
METHOD:PUBLISH
X-ORIGINAL-URL:https://laramieevents.com
X-WR-CALDESC:Events for Laramie Events
REFRESH-INTERVAL;VALUE=DURATION:PT1H
X-Robots-Tag:noindex
X-PUBLISHED-TTL:PT1H
BEGIN:VTIMEZONE
TZID:America/Denver
BEGIN:DAYLIGHT
TZOFFSETFROM:-0700
TZOFFSETTO:-0600
TZNAME:MDT
DTSTART:20250309T090000
END:DAYLIGHT
BEGIN:STANDARD
TZOFFSETFROM:-0600
TZOFFSETTO:-0700
TZNAME:MST
DTSTART:20251102T080000
END:STANDARD
BEGIN:DAYLIGHT
TZOFFSETFROM:-0700
TZOFFSETTO:-0600
TZNAME:MDT
DTSTART:20260308T090000
END:DAYLIGHT
BEGIN:STANDARD
TZOFFSETFROM:-0600
TZOFFSETTO:-0700
TZNAME:MST
DTSTART:20261101T080000
END:STANDARD
BEGIN:DAYLIGHT
TZOFFSETFROM:-0700
TZOFFSETTO:-0600
TZNAME:MDT
DTSTART:20270314T090000
END:DAYLIGHT
BEGIN:STANDARD
TZOFFSETFROM:-0600
TZOFFSETTO:-0700
TZNAME:MST
DTSTART:20271107T080000
END:STANDARD
END:VTIMEZONE
BEGIN:VEVENT
DTSTART;VALUE=DATE:20260221
DTEND;VALUE=DATE:20260222
DTSTAMP:20260423T194903
CREATED:20260211T184154Z
LAST-MODIFIED:20260211T184154Z
UID:10007813-1771632000-1771718399@laramieevents.com
SUMMARY:Centennial 20206 Poker Run
DESCRIPTION:It starts at the Post in Centennial Feb 21st at 10am. $15 per hand
URL:https://laramieevents.com/event/centennial-20206-poker-run/
ATTACH;FMTTYPE=image/png:https://laramieevents.com/wp-content/uploads/sites/3/2026/02/Screenshot-2026-02-06-125023_0CF6F056-A999-B498-C86E69769B055EBD_0cf9b284-e0f3-0853-d5e060d74ae8aab1.png
END:VEVENT
BEGIN:VEVENT
DTSTART;TZID=America/Denver:20260221T100000
DTEND;TZID=America/Denver:20260221T140000
DTSTAMP:20260423T194903
CREATED:20260203T160557Z
LAST-MODIFIED:20260203T160818Z
UID:10007799-1771668000-1771682400@laramieevents.com
SUMMARY:Laramie Elks "Battle Of The Boards" Cornhole Tournament & Silent Auction
DESCRIPTION:Test your skills against the best players in the region at the made for primetime backyard skills game of cornhole!  Laramie Elks Lodge 582 and Southeast Baggers Wyoming present the Inaugural Battle of the Boards Cornhole Tournament. \nOn Saturday\, February 21\, 2026\, the best local and regional cornhole players will compete in both singles and doubles play at the Laramie Elks Lodge\, 103 S. 2nd Street.  Doubles play starts at 10:00 a.m. with singles play to follow.  The cost to enter is $40/doubles team and $20/single player.  Register early with Scoreholio App. Provided enough players are signed up there will be a competitive and recreational division for both doubles and singles.    \nThis event is held to raise funds for Laramie Elks Lodge 582’s philanthropic activities.  In 2026\, your local Elks Lodge raised over $50\,000 for local initiatives\, provided volunteer support to the Adopt-A-Highway program\, and provided over 500 meals on Christmas Day.  “Elks Care\, Elks Share!” is our motto.  There are going to be 50/50 drawings\, silent auction items\, along with food and commemorative cornhole shirts for sale.  Help us continue to help our community! \nDonations of silent auction items are being accepted at the Laramie Elks Lodge 582\, 103 S. 2nd Street.  If you would like to donate or have questions related to this event\, please feel free to contact the Laramie Elks Lodge at (307) 742-2024 or at laramieelks582@gmail.com.   \nSee the flyer for more info or reach out to the Elks
URL:https://laramieevents.com/event/laramie-elks-battle-of-the-boards-cornhole-tournament/
ATTACH;FMTTYPE=image/jpeg:https://laramieevents.com/wp-content/uploads/sites/3/2026/02/Cornhole-Flyer.jpg
END:VEVENT
BEGIN:VEVENT
DTSTART;TZID=America/Denver:20260221T130000
DTEND;TZID=America/Denver:20260221T140000
DTSTAMP:20260423T194903
CREATED:20260212T203649Z
LAST-MODIFIED:20260212T203649Z
UID:10008460-1771678800-1771682400@laramieevents.com
SUMMARY:Kids Lego Time At Albany Co. Public Library in Laramie
DESCRIPTION:From the event organizer: \nCalling all Lego builders! We provide the Legos\, you provide the imagination. Program for children in grades K-6th. Every Saturday 1-2pm in the Laramie Library’s Wyoming Room
URL:https://laramieevents.com/event/kids-lego-time-at-albany-co-public-library-in-laramie/2026-02-21/
END:VEVENT
BEGIN:VEVENT
DTSTART;TZID=America/Denver:20260221T180000
DTEND;TZID=America/Denver:20260221T210000
DTSTAMP:20260423T194903
CREATED:20260213T161146Z
LAST-MODIFIED:20260213T162824Z
UID:10009211-1771696800-1771707600@laramieevents.com
SUMMARY:Banding Together: A Night For Neighbors Fundraiser With Laramie Interfaith
DESCRIPTION:From the event organizers: \nDid you know it’s been nearly one year since locals Trinity and Trevor Thatcher purchased the Cowboy Saloon and Dance Hall? We did! To help celebrate their one-year anniversary\, local troubadour and general Laramie personality\, Walt Hammontree\, presents a night of lively music and dancing with his band\, House of Cards\, at one of Laramie’s greatest venues\, the Cowboy Saloon and Dance Hall. For one night only\, Laramie Interfaith takes over the college bar for a slightly less rowdy (but just as fun!) night. Come dance the night away and support a good cause – complete with a silent auction and cash bar. It’s a night to celebrate\, support\, and find company with our neighbors since we are\, after all\, Neighbors helping Neighbors. \nBuy tickets at this link
URL:https://laramieevents.com/event/banding-together-a-night-for-neighbors-fundraiser-with-laramie-interfaith/
ATTACH;FMTTYPE=image/jpeg:https://laramieevents.com/wp-content/uploads/sites/3/2026/02/unnamed-4.jpg
END:VEVENT
BEGIN:VEVENT
DTSTART;TZID=America/Denver:20260221T190000
DTEND;TZID=America/Denver:20260221T210000
DTSTAMP:20260423T194903
CREATED:20260116T195808Z
LAST-MODIFIED:20260116T195808Z
UID:10007785-1771700400-1771707600@laramieevents.com
SUMMARY:Relative Theatrics Presents FEAST. by Megan Gogerty
DESCRIPTION:Relative Theatrics is proud to present the Wyoming Premiere of FEAST. by Megan Gogerty in partnership with the Laramie Civic Center and ALCES Community Works. The play runs February 13th through 21st in the Phoenix Ballroom at the Laramie Plains Civic Center  \nThis play is directed by Will Bowling and Jacqueline Milburn and features Kathy Kirkalide Play Description:  \nWhen AGATHAE\, an ancient magical creature disguised as a middle-aged lady\, invites us to her dinner party\, she attempts to form a truth and reconciliation committee to address the wrongs committed by our forefathers\, only to discover in her grief that she may have accidentally helped to create the patriarchy. An immersive\, visceral theatre experience where mythology crashes into pop culture\, FEAST. reimagines the Beowulf story as a cautionary tale against the rising forces of authoritarianism.  \nThe opening weekend of performances is February 13th and 14th 2026 at 7:30 pm. Performances continue February 18th\, 19th\, 20th and 21st at 7:30pm.  \nAll performances are located at the Laramie Plains Civic Center in the Phoenix Ballroom. As part of the production there will be a communal dish served for all audience members. This dish will be available when doors open at 7:00pm.  \nA preview pay-what-you-can performance will take place at 7:30pm on February 12th\, 2026. Additionally there will be a post show talk back immediately following the show on February 19th.  \nTo enhance accessibility\, Relative Theatrics is offering general admission tickets at three different price points ($43/$28/$18). Tickets are currently for sale and can be purchased online at www.RelativeTheatrics.com.  \nFEAST. is supported in part by the Wyoming Arts Council\, with support from the National Endowment for the Arts and the Wyoming Legislature\, Wyoming Humanities\, and the City of Laramie and Albany County Community Partner funds\, as well as the Albany County Recreation Board.  \nRelative Theatrics engages community in thoughtful\, contemporary theatre\, expands worldviews and connects us to collective humanity. \nFEAST. – Fact Sheet  \nCAST  \nKathy Kirkaldie as Agathae  \nPRODUCTION TEAM  \nPlaywright – Megan Gogerty  \nDirector – Will Bowling and Jacqueline Milburn  \nStage Manager – Jacqueline Milburn  \nCostume Design – Nicole Foss  \nLighting Design – Ben Boyd  \nSound Design – Alex Brown  \nRELATIVE THEATRICS STAFF  \nArtistic Director – Sean Coyle  \nProduction Manager – Kim Lockhart  \nTechnical Director – Ben Boyd  \nEducation Director – Will Bowling  \nLOCATION:  \nLaramie Plains Civic Center Phoenix Ballroom  \nDATES/TIMES:  \nFebruary 13th\, 14th\, 18th\, 19th\, 20th and 21st at 7:30PM.  \nSeating starts 30 minutes prior to show time.  \nPay-What-You-Can preview performance: February 12th at 7:30PM  \nPost show Talk Back: February 19th  \nTICKET PRICES  \nAll Performances offer a general admission pick-your-price option of $43\, $28\, or $18.* *No one will be turned away for lack of funds – contact executive@relativetheatrics.com for more information  \nTICKETS: Online at http://www.RelativeTheatrics.com or call 307-314-2334  \nMEDIA CONTACTS  \nSean Coyle – artistic@relativetheatrics.com
URL:https://laramieevents.com/event/relative-theatrics-presents-feast-by-megan-gogerty/2026-02-21/
ATTACH;FMTTYPE=image/png:https://laramieevents.com/wp-content/uploads/sites/3/2026/01/FEAST.-Poster-Facebook-Post.png
END:VEVENT
BEGIN:VEVENT
DTSTART;TZID=America/Denver:20260221T193000
DTEND;TZID=America/Denver:20260221T213000
DTSTAMP:20260423T194903
CREATED:20260213T003210Z
LAST-MODIFIED:20260213T003210Z
UID:10009210-1771702200-1771709400@laramieevents.com
SUMMARY:Acclaimed Pianist Sergei Rachmaninoff And Cellist Beth Vanderborgh To Perform At UW
DESCRIPTION:Mark your calendars for an unforgettable evening of chamber music as the University of Wyoming welcomes celebrated cellist Beth Vanderborgh and virtuoso pianist Brooks Hafey.\n\n\nThis powerhouse duo will bring two early 20th-century masterpieces to life:\n Nadia Boulanger’s evocative 3 Pieces for Cello & Piano\n Sergei Rachmaninoff’s epic Cello Sonata\, Op. 19—a Romantic cornerstone known for its lush melodies and technical fire.\n\n\nMeet the Artists:\n Beth Vanderborgh: UW Professor and Cheyenne Symphony Principal Cellist\, praised by The Strad for her “lyrical and technically accomplished” play.\n Brooks Hafey: Chadron State College Professor and global soloist with expertise spanning from Debussy to Beethoven.\n\n\n Where: BCPA Recital Hall\n When: February 21 at 7:30 p.m.\nAdmission is open to the public—come support incredible local artistry! For more details on upcoming performances\, visit the UW Department of Music.
URL:https://laramieevents.com/event/acclaimed-pianist-sergei-rachmaninoff-and-cellist-beth-vanderborgh-to-perform-at-uw/
ATTACH;FMTTYPE=image/jpeg:https://laramieevents.com/wp-content/uploads/sites/3/2026/02/631885488_905653555761180_2134499647031559539_n-1.jpg
END:VEVENT
END:VCALENDAR