BEGIN:VCALENDAR
VERSION:2.0
PRODID:-//Laramie Events - ECPv6.15.17.1//NONSGML v1.0//EN
CALSCALE:GREGORIAN
METHOD:PUBLISH
X-ORIGINAL-URL:https://laramieevents.com
X-WR-CALDESC:Events for Laramie Events
REFRESH-INTERVAL;VALUE=DURATION:PT1H
X-Robots-Tag:noindex
X-PUBLISHED-TTL:PT1H
BEGIN:VTIMEZONE
TZID:America/Denver
BEGIN:DAYLIGHT
TZOFFSETFROM:-0700
TZOFFSETTO:-0600
TZNAME:MDT
DTSTART:20250309T090000
END:DAYLIGHT
BEGIN:STANDARD
TZOFFSETFROM:-0600
TZOFFSETTO:-0700
TZNAME:MST
DTSTART:20251102T080000
END:STANDARD
BEGIN:DAYLIGHT
TZOFFSETFROM:-0700
TZOFFSETTO:-0600
TZNAME:MDT
DTSTART:20260308T090000
END:DAYLIGHT
BEGIN:STANDARD
TZOFFSETFROM:-0600
TZOFFSETTO:-0700
TZNAME:MST
DTSTART:20261101T080000
END:STANDARD
BEGIN:DAYLIGHT
TZOFFSETFROM:-0700
TZOFFSETTO:-0600
TZNAME:MDT
DTSTART:20270314T090000
END:DAYLIGHT
BEGIN:STANDARD
TZOFFSETFROM:-0600
TZOFFSETTO:-0700
TZNAME:MST
DTSTART:20271107T080000
END:STANDARD
END:VTIMEZONE
BEGIN:VEVENT
DTSTART;TZID=America/Denver:20260218T080000
DTEND;TZID=America/Denver:20260218T170000
DTSTAMP:20260423T194946
CREATED:20260116T195808Z
LAST-MODIFIED:20260116T195808Z
UID:10007782-1771401600-1771434000@laramieevents.com
SUMMARY:Relative Theatrics Presents FEAST. by Megan Gogerty
DESCRIPTION:Relative Theatrics is proud to present the Wyoming Premiere of FEAST. by Megan Gogerty in partnership with the Laramie Civic Center and ALCES Community Works. The play runs February 13th through 21st in the Phoenix Ballroom at the Laramie Plains Civic Center  \nThis play is directed by Will Bowling and Jacqueline Milburn and features Kathy Kirkalide Play Description:  \nWhen AGATHAE\, an ancient magical creature disguised as a middle-aged lady\, invites us to her dinner party\, she attempts to form a truth and reconciliation committee to address the wrongs committed by our forefathers\, only to discover in her grief that she may have accidentally helped to create the patriarchy. An immersive\, visceral theatre experience where mythology crashes into pop culture\, FEAST. reimagines the Beowulf story as a cautionary tale against the rising forces of authoritarianism.  \nThe opening weekend of performances is February 13th and 14th 2026 at 7:30 pm. Performances continue February 18th\, 19th\, 20th and 21st at 7:30pm.  \nAll performances are located at the Laramie Plains Civic Center in the Phoenix Ballroom. As part of the production there will be a communal dish served for all audience members. This dish will be available when doors open at 7:00pm.  \nA preview pay-what-you-can performance will take place at 7:30pm on February 12th\, 2026. Additionally there will be a post show talk back immediately following the show on February 19th.  \nTo enhance accessibility\, Relative Theatrics is offering general admission tickets at three different price points ($43/$28/$18). Tickets are currently for sale and can be purchased online at www.RelativeTheatrics.com.  \nFEAST. is supported in part by the Wyoming Arts Council\, with support from the National Endowment for the Arts and the Wyoming Legislature\, Wyoming Humanities\, and the City of Laramie and Albany County Community Partner funds\, as well as the Albany County Recreation Board.  \nRelative Theatrics engages community in thoughtful\, contemporary theatre\, expands worldviews and connects us to collective humanity. \nFEAST. – Fact Sheet  \nCAST  \nKathy Kirkaldie as Agathae  \nPRODUCTION TEAM  \nPlaywright – Megan Gogerty  \nDirector – Will Bowling and Jacqueline Milburn  \nStage Manager – Jacqueline Milburn  \nCostume Design – Nicole Foss  \nLighting Design – Ben Boyd  \nSound Design – Alex Brown  \nRELATIVE THEATRICS STAFF  \nArtistic Director – Sean Coyle  \nProduction Manager – Kim Lockhart  \nTechnical Director – Ben Boyd  \nEducation Director – Will Bowling  \nLOCATION:  \nLaramie Plains Civic Center Phoenix Ballroom  \nDATES/TIMES:  \nFebruary 13th\, 14th\, 18th\, 19th\, 20th and 21st at 7:30PM.  \nSeating starts 30 minutes prior to show time.  \nPay-What-You-Can preview performance: February 12th at 7:30PM  \nPost show Talk Back: February 19th  \nTICKET PRICES  \nAll Performances offer a general admission pick-your-price option of $43\, $28\, or $18.* *No one will be turned away for lack of funds – contact executive@relativetheatrics.com for more information  \nTICKETS: Online at http://www.RelativeTheatrics.com or call 307-314-2334  \nMEDIA CONTACTS  \nSean Coyle – artistic@relativetheatrics.com
URL:https://laramieevents.com/event/relative-theatrics-presents-feast-by-megan-gogerty/2026-02-18/
ATTACH;FMTTYPE=image/png:https://laramieevents.com/wp-content/uploads/sites/3/2026/01/FEAST.-Poster-Facebook-Post.png
END:VEVENT
END:VCALENDAR