BEGIN:VCALENDAR
VERSION:2.0
PRODID:-//Laramie Events - ECPv6.15.17.1//NONSGML v1.0//EN
CALSCALE:GREGORIAN
METHOD:PUBLISH
X-ORIGINAL-URL:https://laramieevents.com
X-WR-CALDESC:Events for Laramie Events
REFRESH-INTERVAL;VALUE=DURATION:PT1H
X-Robots-Tag:noindex
X-PUBLISHED-TTL:PT1H
BEGIN:VTIMEZONE
TZID:America/Denver
BEGIN:DAYLIGHT
TZOFFSETFROM:-0700
TZOFFSETTO:-0600
TZNAME:MDT
DTSTART:20250309T090000
END:DAYLIGHT
BEGIN:STANDARD
TZOFFSETFROM:-0600
TZOFFSETTO:-0700
TZNAME:MST
DTSTART:20251102T080000
END:STANDARD
BEGIN:DAYLIGHT
TZOFFSETFROM:-0700
TZOFFSETTO:-0600
TZNAME:MDT
DTSTART:20260308T090000
END:DAYLIGHT
BEGIN:STANDARD
TZOFFSETFROM:-0600
TZOFFSETTO:-0700
TZNAME:MST
DTSTART:20261101T080000
END:STANDARD
BEGIN:DAYLIGHT
TZOFFSETFROM:-0700
TZOFFSETTO:-0600
TZNAME:MDT
DTSTART:20270314T090000
END:DAYLIGHT
BEGIN:STANDARD
TZOFFSETFROM:-0600
TZOFFSETTO:-0700
TZNAME:MST
DTSTART:20271107T080000
END:STANDARD
END:VTIMEZONE
BEGIN:VEVENT
DTSTART;TZID=America/Denver:20260213T160000
DTEND;TZID=America/Denver:20260213T200000
DTSTAMP:20260423T194945
CREATED:20251215T154213Z
LAST-MODIFIED:20251215T154213Z
UID:10007764-1770998400-1771012800@laramieevents.com
SUMMARY:"A Night To Shine" FREE Special Needs Prom (Registration Required)
DESCRIPTION:For more information about Night to Shine Laramie or to register\, visit newlifelaramie.org/night-to-shine.\n\n\nNew Life Church in partnership with the Hilton Garden Inn Laramie\, part of the Pulte Family Charitable Foundation’s Humanitarian Hotel portfolio\, are proud to announce Night to Shine Laramie\, a prom-style celebration honoring individuals with special needs ages 14 and older. The event will be held from 4:00 p.m. to 8:00 p.m. on February 13\, 2026\, at the University of Wyoming Conference Center\, bringing together families\, volunteers\, community partners\, and local leaders for an evening centered on joy\, dignity\, and love.\n\nNight to Shine is a global movement sponsored by the Tim Tebow Foundation and hosted in 62 countries worldwide to create an inclusive and uplifting experience for honored guests. Laramie will be a part of the worldwide Night to Shine community\, offering each guest the full red-carpet treatment and crowning every attendee as king or queen of the prom.\n\n“We are honored to bring Night to Shine to Laramie\,” said Chris Green\, President of Humanitarian Hotels for the Pulte Family Charitable Foundation. “Our team is committed to creating an unforgettable\, joy-filled evening for every guest and family who joins us. We look forward to a night that will uplift hearts and bring our entire community together.”\n\n“This event reflects the heart of our city\,” added Pastor Matt Baumgartner of New Life Church Laramie\, the official host of the event. “Night to Shine is about celebrating the worth\, dignity\, and God-given purpose of every individual. We are grateful for the chance to serve our community alongside so many dedicated partners and volunteers.”\n\nNight to Shine Laramie will feature:\n • Red carpet arrivals with cheering fans\n • Boutonnieres and corsages\n • Professional photography\n • A full dinner and festive dance floor\n • Sensory-friendly and quiet spaces\n • Volunteer buddies for each honored guest\n • Special appearances and entertainment\n\nRegistration for guests will open on December 2\, 2025\, and registration for volunteers will open on December 15\, 2025. Because the event is provided at no cost to participants\, Night to Shine Laramie welcomes partnerships\, donations\, and volunteer support from across the region.\n\n“As a Humanitarian Hotel\, we see firsthand how powerful this community can be when it comes together\,” said Marty Schaefer\, General Manager of the Hilton Garden Inn Laramie. “Sponsorships allow us to offer Night to Shine Laramie at no cost to our guests\, and they help cover essential expenses such as required background screenings\, onsite medical personnel\, and other critical elements that ensure a safe and exceptional experience.”\n\nBusinesses and individuals interested in sponsoring the event may contact Marty Schaefer\, General Manager of the Hilton Garden Inn Laramie\, at marty.schaefer@hilton.com.\n\nFor more information about Night to Shine Laramie or to register\, visit newlifelaramie.org/night-to-shine.
URL:https://laramieevents.com/event/a-night-to-shine-free-special-needs-prom-registration-required/
ATTACH;FMTTYPE=image/jpeg:https://laramieevents.com/wp-content/uploads/sites/3/2025/12/Capture.jpg
END:VEVENT
BEGIN:VEVENT
DTSTART;TZID=America/Denver:20260213T193000
DTEND;TZID=America/Denver:20260213T210000
DTSTAMP:20260423T194945
CREATED:20260116T195808Z
LAST-MODIFIED:20260116T195808Z
UID:10007780-1771011000-1771016400@laramieevents.com
SUMMARY:Relative Theatrics Presents FEAST. by Megan Gogerty
DESCRIPTION:Relative Theatrics is proud to present the Wyoming Premiere of FEAST. by Megan Gogerty in partnership with the Laramie Civic Center and ALCES Community Works. The play runs February 13th through 21st in the Phoenix Ballroom at the Laramie Plains Civic Center  \nThis play is directed by Will Bowling and Jacqueline Milburn and features Kathy Kirkalide Play Description:  \nWhen AGATHAE\, an ancient magical creature disguised as a middle-aged lady\, invites us to her dinner party\, she attempts to form a truth and reconciliation committee to address the wrongs committed by our forefathers\, only to discover in her grief that she may have accidentally helped to create the patriarchy. An immersive\, visceral theatre experience where mythology crashes into pop culture\, FEAST. reimagines the Beowulf story as a cautionary tale against the rising forces of authoritarianism.  \nThe opening weekend of performances is February 13th and 14th 2026 at 7:30 pm. Performances continue February 18th\, 19th\, 20th and 21st at 7:30pm.  \nAll performances are located at the Laramie Plains Civic Center in the Phoenix Ballroom. As part of the production there will be a communal dish served for all audience members. This dish will be available when doors open at 7:00pm.  \nA preview pay-what-you-can performance will take place at 7:30pm on February 12th\, 2026. Additionally there will be a post show talk back immediately following the show on February 19th.  \nTo enhance accessibility\, Relative Theatrics is offering general admission tickets at three different price points ($43/$28/$18). Tickets are currently for sale and can be purchased online at www.RelativeTheatrics.com.  \nFEAST. is supported in part by the Wyoming Arts Council\, with support from the National Endowment for the Arts and the Wyoming Legislature\, Wyoming Humanities\, and the City of Laramie and Albany County Community Partner funds\, as well as the Albany County Recreation Board.  \nRelative Theatrics engages community in thoughtful\, contemporary theatre\, expands worldviews and connects us to collective humanity. \nFEAST. – Fact Sheet  \nCAST  \nKathy Kirkaldie as Agathae  \nPRODUCTION TEAM  \nPlaywright – Megan Gogerty  \nDirector – Will Bowling and Jacqueline Milburn  \nStage Manager – Jacqueline Milburn  \nCostume Design – Nicole Foss  \nLighting Design – Ben Boyd  \nSound Design – Alex Brown  \nRELATIVE THEATRICS STAFF  \nArtistic Director – Sean Coyle  \nProduction Manager – Kim Lockhart  \nTechnical Director – Ben Boyd  \nEducation Director – Will Bowling  \nLOCATION:  \nLaramie Plains Civic Center Phoenix Ballroom  \nDATES/TIMES:  \nFebruary 13th\, 14th\, 18th\, 19th\, 20th and 21st at 7:30PM.  \nSeating starts 30 minutes prior to show time.  \nPay-What-You-Can preview performance: February 12th at 7:30PM  \nPost show Talk Back: February 19th  \nTICKET PRICES  \nAll Performances offer a general admission pick-your-price option of $43\, $28\, or $18.* *No one will be turned away for lack of funds – contact executive@relativetheatrics.com for more information  \nTICKETS: Online at http://www.RelativeTheatrics.com or call 307-314-2334  \nMEDIA CONTACTS  \nSean Coyle – artistic@relativetheatrics.com
URL:https://laramieevents.com/event/relative-theatrics-presents-feast-by-megan-gogerty/2026-02-13/
ATTACH;FMTTYPE=image/png:https://laramieevents.com/wp-content/uploads/sites/3/2026/01/FEAST.-Poster-Facebook-Post.png
END:VEVENT
BEGIN:VEVENT
DTSTART;TZID=America/Denver:20260213T200000
DTEND;TZID=America/Denver:20260213T230000
DTSTAMP:20260423T194945
CREATED:20260108T183000Z
LAST-MODIFIED:20260108T183000Z
UID:10007771-1771012800-1771023600@laramieevents.com
SUMMARY:Laradise Music Showcase: iluvnandi / Beef / treetrunk / Yegarma
DESCRIPTION:Friday\, February 13th\, join us at the Gryphon Theatre for the second installment of the Laradise Music Showcase series. \niluvnandi / Beef / treetrunk / Yegarama will be throwing down for a Valentine’s Day Eve/ Friday the 13th spectacle! \nCome support local artists! \nShow: 8:00 pm \nDoors: 7:00 pm
URL:https://laramieevents.com/event/laradise-music-showcase-iluvnandi-beef-treetrunk-yegarma/
LOCATION:Gryphon Theatre\, 710 E Garfield St Studio #333\, Laramie\, WY\, 82070\, United States
CATEGORIES:Live Music
ATTACH;FMTTYPE=image/jpeg:https://laramieevents.com/wp-content/uploads/sites/3/2026/01/EDM2026-1-scaled.jpg
END:VEVENT
BEGIN:VEVENT
DTSTART;TZID=America/Denver:20260213T200000
DTEND;TZID=America/Denver:20260213T230000
DTSTAMP:20260423T194945
CREATED:20260108T183001Z
LAST-MODIFIED:20260108T183001Z
UID:10007770-1771012800-1771023600@laramieevents.com
SUMMARY:Laradise Music Showcase: iluvnandi / Beef / treetrunk / Yegarma
DESCRIPTION:Friday\, February 13th\, join us at the Gryphon Theatre for the second installment of the Laradise Music Showcase series. iluvnandi / Beef / treetrunk / Yegarama will be throwing down for a Valentine’s Day Eve/ Friday the 13th spectacle! Come support local artists! \nShow: 8:00 pm \nDoors: 7:00 pm
URL:https://laramieevents.com/event/laradise-music-showcase-iluvnandi-beef-treetrunk-yegarma-2/
LOCATION:Gryphon Theatre\, 710 E Garfield St Studio #333\, Laramie\, WY\, 82070\, United States
CATEGORIES:Live Music
ATTACH;FMTTYPE=image/jpeg:https://laramieevents.com/wp-content/uploads/sites/3/2026/01/EDM2026-scaled.jpg
END:VEVENT
END:VCALENDAR