BEGIN:VCALENDAR
VERSION:2.0
PRODID:-//Laramie Events - ECPv6.15.17.1//NONSGML v1.0//EN
CALSCALE:GREGORIAN
METHOD:PUBLISH
X-ORIGINAL-URL:https://laramieevents.com
X-WR-CALDESC:Events for Laramie Events
REFRESH-INTERVAL;VALUE=DURATION:PT1H
X-Robots-Tag:noindex
X-PUBLISHED-TTL:PT1H
BEGIN:VTIMEZONE
TZID:America/Denver
BEGIN:DAYLIGHT
TZOFFSETFROM:-0700
TZOFFSETTO:-0600
TZNAME:MDT
DTSTART:20250309T090000
END:DAYLIGHT
BEGIN:STANDARD
TZOFFSETFROM:-0600
TZOFFSETTO:-0700
TZNAME:MST
DTSTART:20251102T080000
END:STANDARD
BEGIN:DAYLIGHT
TZOFFSETFROM:-0700
TZOFFSETTO:-0600
TZNAME:MDT
DTSTART:20260308T090000
END:DAYLIGHT
BEGIN:STANDARD
TZOFFSETFROM:-0600
TZOFFSETTO:-0700
TZNAME:MST
DTSTART:20261101T080000
END:STANDARD
BEGIN:DAYLIGHT
TZOFFSETFROM:-0700
TZOFFSETTO:-0600
TZNAME:MDT
DTSTART:20270314T090000
END:DAYLIGHT
BEGIN:STANDARD
TZOFFSETFROM:-0600
TZOFFSETTO:-0700
TZNAME:MST
DTSTART:20271107T080000
END:STANDARD
END:VTIMEZONE
BEGIN:VEVENT
DTSTART;TZID=America/Denver:20260120T130000
DTEND;TZID=America/Denver:20260120T170000
DTSTAMP:20260423T220058
CREATED:20250423T234803Z
LAST-MODIFIED:20250423T234803Z
UID:10003618-1768914000-1768928400@laramieevents.com
SUMMARY:Basic Life Support Certification-CPR/Cardiovascular Care AND Recertification
DESCRIPTION:From the event organizer: \nThe American Heart Association’s BLS Course has been updat­ed to reflect new science in the 2015 AHA Guidelines Update for CPR and Emergency Car­dio­vas­cu­lar Care. This course builds a foundation of lifesaving BLS skills\, emphasizing the importance of continuous\, high-quality CPR.Sign up at ivinsonshopital.org/education \n  \nRegister for certification or re certification at this link \nUpcoming Recurrences For REGISTRATION\nTuesday\, May 20\, 2025 1:00pm – 5:00pm \nSaturday\, June 7\, 2025 1:00pm – 5:00pm \nTuesday\, June 17\, 2025 1:00pm – 5:00pm \nTuesday\, July 22\, 2025 1:00pm – 5:00pm \nTuesday\, August 19\, 2025 1:00pm – 5:00pm \nTuesday\, September 16\, 2025 1:00pm – 5:00pm \nTuesday\, October 21\, 2025 1:00pm – 5:00pm \n  \nSee recertification dates at this link
URL:https://laramieevents.com/event/basic-life-support-certification-cpr-cardiovascular-care-and-recertification/2026-01-20/
ATTACH;FMTTYPE=image/png:https://laramieevents.com/wp-content/uploads/sites/3/2025/04/download-5.png
END:VEVENT
BEGIN:VEVENT
DTSTART;TZID=America/Denver:20260120T190000
DTEND;TZID=America/Denver:20260120T210000
DTSTAMP:20260423T220058
CREATED:20260108T055947Z
LAST-MODIFIED:20260108T055947Z
UID:10007775-1768935600-1768942800@laramieevents.com
SUMMARY:History Of Pole Mountain Including Military Installations
DESCRIPTION:From the event organizers: \n\nOn Tuesday\, January 20th\, please join the Albany County Historical Society at 7:00pm at the Alice Hardie Stevens Center at 6th & University in Laramie. Dave Marcum will present a program about the History of Pole Mountain Including Military Installations. The Pole Mountain area of the Medicine Bow National Forest is located north of Interstate 80 between Laramie and Cheyenne in Albany County. While we currently know the area primarily for recreational use and the uniqueness of its terrain\, in the past the area was utilized by the military. Dave will present an overview of various military activities that occurred in the Pole Mountain area from 1900-1970. Free admission. Everyone is welcome! Refreshments will be served.
URL:https://laramieevents.com/event/history-of-pole-mountain-including-military-installations/
ATTACH;FMTTYPE=image/png:https://laramieevents.com/wp-content/uploads/sites/3/2026/01/Capture.png
END:VEVENT
END:VCALENDAR