BEGIN:VCALENDAR
VERSION:2.0
PRODID:-//Laramie Events - ECPv6.15.17.1//NONSGML v1.0//EN
CALSCALE:GREGORIAN
METHOD:PUBLISH
X-WR-CALNAME:Laramie Events
X-ORIGINAL-URL:https://laramieevents.com
X-WR-CALDESC:Events for Laramie Events
REFRESH-INTERVAL;VALUE=DURATION:PT1H
X-Robots-Tag:noindex
X-PUBLISHED-TTL:PT1H
BEGIN:VTIMEZONE
TZID:America/Denver
BEGIN:DAYLIGHT
TZOFFSETFROM:-0700
TZOFFSETTO:-0600
TZNAME:MDT
DTSTART:20240310T090000
END:DAYLIGHT
BEGIN:STANDARD
TZOFFSETFROM:-0600
TZOFFSETTO:-0700
TZNAME:MST
DTSTART:20241103T080000
END:STANDARD
BEGIN:DAYLIGHT
TZOFFSETFROM:-0700
TZOFFSETTO:-0600
TZNAME:MDT
DTSTART:20250309T090000
END:DAYLIGHT
BEGIN:STANDARD
TZOFFSETFROM:-0600
TZOFFSETTO:-0700
TZNAME:MST
DTSTART:20251102T080000
END:STANDARD
BEGIN:DAYLIGHT
TZOFFSETFROM:-0700
TZOFFSETTO:-0600
TZNAME:MDT
DTSTART:20260308T090000
END:DAYLIGHT
BEGIN:STANDARD
TZOFFSETFROM:-0600
TZOFFSETTO:-0700
TZNAME:MST
DTSTART:20261101T080000
END:STANDARD
END:VTIMEZONE
BEGIN:VEVENT
DTSTART;TZID=America/Denver:20251225T110000
DTEND;TZID=America/Denver:20251225T130000
DTSTAMP:20260423T235414
CREATED:20251212T235929Z
LAST-MODIFIED:20251212T235929Z
UID:10007763-1766660400-1766667600@laramieevents.com
SUMMARY:Laramie Elks Lodge Annual Community Christmas Dinner
DESCRIPTION:Traditional holiday dinner will be served in the dining room at the lodge located at 103 S 2nd St in Laramie or delivered to you.  For a delivery\, please call by Monday\, December 22 to 307-742-2024 or 307-399-4601.  This meal is open to the public thanks to the many Laramie businesses making donations and approximately 75 volunteers.
URL:https://laramieevents.com/event/laramie-elks-lodge-annual-community-christmas-dinner/
CATEGORIES:Food
ATTACH;FMTTYPE=image/png:https://laramieevents.com/wp-content/uploads/sites/3/2025/12/download.png
END:VEVENT
END:VCALENDAR