BEGIN:VCALENDAR
VERSION:2.0
PRODID:-//Laramie Events - ECPv6.15.17.1//NONSGML v1.0//EN
CALSCALE:GREGORIAN
METHOD:PUBLISH
X-ORIGINAL-URL:https://laramieevents.com
X-WR-CALDESC:Events for Laramie Events
REFRESH-INTERVAL;VALUE=DURATION:PT1H
X-Robots-Tag:noindex
X-PUBLISHED-TTL:PT1H
BEGIN:VTIMEZONE
TZID:America/Denver
BEGIN:DAYLIGHT
TZOFFSETFROM:-0700
TZOFFSETTO:-0600
TZNAME:MDT
DTSTART:20240310T090000
END:DAYLIGHT
BEGIN:STANDARD
TZOFFSETFROM:-0600
TZOFFSETTO:-0700
TZNAME:MST
DTSTART:20241103T080000
END:STANDARD
BEGIN:DAYLIGHT
TZOFFSETFROM:-0700
TZOFFSETTO:-0600
TZNAME:MDT
DTSTART:20250309T090000
END:DAYLIGHT
BEGIN:STANDARD
TZOFFSETFROM:-0600
TZOFFSETTO:-0700
TZNAME:MST
DTSTART:20251102T080000
END:STANDARD
BEGIN:DAYLIGHT
TZOFFSETFROM:-0700
TZOFFSETTO:-0600
TZNAME:MDT
DTSTART:20260308T090000
END:DAYLIGHT
BEGIN:STANDARD
TZOFFSETFROM:-0600
TZOFFSETTO:-0700
TZNAME:MST
DTSTART:20261101T080000
END:STANDARD
END:VTIMEZONE
BEGIN:VEVENT
DTSTART;TZID=America/Denver:20251220T193000
DTEND;TZID=America/Denver:20251220T213000
DTSTAMP:20260423T235550
CREATED:20251205T054025Z
LAST-MODIFIED:20251205T054025Z
UID:10007761-1766259000-1766266200@laramieevents.com
SUMMARY:Free Movie at the Gryphon: National Lampoon’s Christmas Vacation
DESCRIPTION:It’s Christmas time and the Griswold’s are preparing a big family celebration\, but things never run smoothly for Clark\, his wife Ellen and their two kids. Clark’s perennial bad luck is aggravated by his obnoxious family guests\, but he manages to keep going knowing that his Christmas bonus is due soon. \nDoors: 7:00 pm \nShow: 7:30 pm
URL:https://laramieevents.com/event/free-movie-at-the-gryphon-national-lampoons-christmas-vacation/
LOCATION:Gryphon Theatre\, 710 E Garfield St Studio #333\, Laramie\, WY\, 82070\, United States
ATTACH;FMTTYPE=image/jpeg:https://laramieevents.com/wp-content/uploads/sites/3/2025/12/Untitled_Artwork-scaled.jpeg
END:VEVENT
END:VCALENDAR