BEGIN:VCALENDAR
VERSION:2.0
PRODID:-//Laramie Events - ECPv6.15.17.1//NONSGML v1.0//EN
CALSCALE:GREGORIAN
METHOD:PUBLISH
X-WR-CALNAME:Laramie Events
X-ORIGINAL-URL:https://laramieevents.com
X-WR-CALDESC:Events for Laramie Events
REFRESH-INTERVAL;VALUE=DURATION:PT1H
X-Robots-Tag:noindex
X-PUBLISHED-TTL:PT1H
BEGIN:VTIMEZONE
TZID:America/Denver
BEGIN:DAYLIGHT
TZOFFSETFROM:-0700
TZOFFSETTO:-0600
TZNAME:MDT
DTSTART:20240310T090000
END:DAYLIGHT
BEGIN:STANDARD
TZOFFSETFROM:-0600
TZOFFSETTO:-0700
TZNAME:MST
DTSTART:20241103T080000
END:STANDARD
BEGIN:DAYLIGHT
TZOFFSETFROM:-0700
TZOFFSETTO:-0600
TZNAME:MDT
DTSTART:20250309T090000
END:DAYLIGHT
BEGIN:STANDARD
TZOFFSETFROM:-0600
TZOFFSETTO:-0700
TZNAME:MST
DTSTART:20251102T080000
END:STANDARD
BEGIN:DAYLIGHT
TZOFFSETFROM:-0700
TZOFFSETTO:-0600
TZNAME:MDT
DTSTART:20260308T090000
END:DAYLIGHT
BEGIN:STANDARD
TZOFFSETFROM:-0600
TZOFFSETTO:-0700
TZNAME:MST
DTSTART:20261101T080000
END:STANDARD
END:VTIMEZONE
BEGIN:VEVENT
DTSTART;TZID=America/Denver:20251212T173000
DTEND;TZID=America/Denver:20251212T190000
DTSTAMP:20260423T235413
CREATED:20251020T025216Z
LAST-MODIFIED:20251020T025216Z
UID:10005895-1765560600-1765566000@laramieevents.com
SUMMARY:Learn line dancing
DESCRIPTION:See the flier for more details on these lessons running Fridays Nov 7 to Dec 12th 530 to 7pm at the rec center
URL:https://laramieevents.com/event/learn-line-dancing/2025-12-12/
ATTACH;FMTTYPE=image/jpeg:https://laramieevents.com/wp-content/uploads/sites/3/2025/10/562303375_1228948775940268_254137466366032391_n.jpg
END:VEVENT
BEGIN:VEVENT
DTSTART;TZID=America/Denver:20251212T173000
DTEND;TZID=America/Denver:20251212T190000
DTSTAMP:20260423T235413
CREATED:20251201T185729Z
LAST-MODIFIED:20251201T192423Z
UID:10007762-1765560600-1765566000@laramieevents.com
SUMMARY:Elks Lodge 582 Cares Christmas For Kids Fundraiser (Dinner\, Silent Auction And Appearance By Santa)
DESCRIPTION:Laramie\, Wyoming – From 5:30p.m. to 7:30pm on December 12th\, Laramie Elks Lodge 582 is hosting a Christmas for Kids Fundraiser to support Christmas for Kids and the Laramie Police Department Foundation’s Shop with a Cop. Please join us for a chili dinner\, silent auction\, and Santa Claus handing out candy canes and Christmas wishes to all. \n$5.00 will get you chili with all the fixings. Hot chocolate and drink specials will be available.  Silent auction will be available where you will be able to bid to win that special gift or something for yourself from local donors.  Food will be served at 5:30pm.  All proceeds will be donated to ACSD’s Christmas for Kids and the Laramie Police Department Foundation’s Shop with a Cop.  We will be able to accept cash\, check and credit cards however\, cash and checks are preferred. \nDonations of silent auction items are being accepted at the Laramie Elks Lodge 582\, 103 S. 2nd Street.  If you would like to donate or have questions related to this event\, please feel free to contact Laramie Elks Lodge at (307) 742-2024 or at laramieelks582@gmail.com.
URL:https://laramieevents.com/event/elks-lodge-582-cares-christmas-for-kids-fundraiser-dinner-silent-auction-and-appearance-by-santa/
ATTACH;FMTTYPE=image/jpeg:https://laramieevents.com/wp-content/uploads/sites/3/2025/12/unnamed-1.jpg
END:VEVENT
BEGIN:VEVENT
DTSTART;TZID=America/Denver:20251212T200000
DTEND;TZID=America/Denver:20251212T230000
DTSTAMP:20260423T235413
CREATED:20251113T153625Z
LAST-MODIFIED:20251113T153625Z
UID:10007751-1765569600-1765580400@laramieevents.com
SUMMARY:Float Like A Buffalo with Frogboat
DESCRIPTION:Two Colorado bands crusin’ their way up north to give us a spectacle of a rock show at the Gryphon Theatre! Float Like A Buffalo and Frogboat will have us grooving the night away. \nShow: 8:00 pm \nDoors: 7:00 pm
URL:https://laramieevents.com/event/float-like-a-buffalo-with-frogboat/
LOCATION:Gryphon Theatre\, 710 E Garfield St Studio #333\, Laramie\, WY\, 82070\, United States
CATEGORIES:Live Music
ATTACH;FMTTYPE=image/jpeg:https://laramieevents.com/wp-content/uploads/sites/3/2025/11/Float4x5-scaled.jpeg
END:VEVENT
END:VCALENDAR