BEGIN:VCALENDAR
VERSION:2.0
PRODID:-//Laramie Events - ECPv6.15.17.1//NONSGML v1.0//EN
CALSCALE:GREGORIAN
METHOD:PUBLISH
X-WR-CALNAME:Laramie Events
X-ORIGINAL-URL:https://laramieevents.com
X-WR-CALDESC:Events for Laramie Events
REFRESH-INTERVAL;VALUE=DURATION:PT1H
X-Robots-Tag:noindex
X-PUBLISHED-TTL:PT1H
BEGIN:VTIMEZONE
TZID:America/Denver
BEGIN:DAYLIGHT
TZOFFSETFROM:-0700
TZOFFSETTO:-0600
TZNAME:MDT
DTSTART:20240310T090000
END:DAYLIGHT
BEGIN:STANDARD
TZOFFSETFROM:-0600
TZOFFSETTO:-0700
TZNAME:MST
DTSTART:20241103T080000
END:STANDARD
BEGIN:DAYLIGHT
TZOFFSETFROM:-0700
TZOFFSETTO:-0600
TZNAME:MDT
DTSTART:20250309T090000
END:DAYLIGHT
BEGIN:STANDARD
TZOFFSETFROM:-0600
TZOFFSETTO:-0700
TZNAME:MST
DTSTART:20251102T080000
END:STANDARD
BEGIN:DAYLIGHT
TZOFFSETFROM:-0700
TZOFFSETTO:-0600
TZNAME:MDT
DTSTART:20260308T090000
END:DAYLIGHT
BEGIN:STANDARD
TZOFFSETFROM:-0600
TZOFFSETTO:-0700
TZNAME:MST
DTSTART:20261101T080000
END:STANDARD
END:VTIMEZONE
BEGIN:VEVENT
DTSTART;TZID=America/Denver:20251206T080000
DTEND;TZID=America/Denver:20251206T110000
DTSTAMP:20260423T235415
CREATED:20250214T205942Z
LAST-MODIFIED:20250917T165545Z
UID:10003310-1765008000-1765018800@laramieevents.com
SUMMARY:19th Annual Breakfast with Santa
DESCRIPTION:Enjoy breakfast\, cookie decorating\, and get a photo taken with Santa. \nProceeds from ticket sales benefit Laramie Interfaith.
URL:https://laramieevents.com/event/19th-annual-breakfast-with-santa/
LOCATION:Laramie Plains Civic Center\, 710 E Garfield\, Laramie\, WY\, 82070\, United States
CATEGORIES:Fundraiser,Kid Friendly
ATTACH;FMTTYPE=image/gif:https://laramieevents.com/wp-content/uploads/sites/3/2021/10/Breakfast-with-Santa.gif
END:VEVENT
BEGIN:VEVENT
DTSTART;TZID=America/Denver:20251206T083000
DTEND;TZID=America/Denver:20251206T160000
DTSTAMP:20260423T235415
CREATED:20251126T224642Z
LAST-MODIFIED:20251126T224642Z
UID:10007760-1765009800-1765036800@laramieevents.com
SUMMARY:Snowy Mountain Christmas Bazaar
DESCRIPTION:Jrom the event organizers:\n\nJoin us for the 8th Annual Snowy Mountain Christmas Bazaar!\nDecember 6th | 9am-4pm\nBlack Fox on Welsh Lane\n1000 Welsh Lane\n\n\nWe’re thrilled to welcome even more vendors this year\, now spread throughout the magical home portion of the event space. Stepping inside truly feels like a Hallmark movie – only better.\n\n\nEnjoy delicious food concessions provided by the Laramie Girls Softball Team as part of their fundraiser\, and soak in all the festive charm. The halls are decked\, the music is joyful\, and Santa and Mrs. Claus will be joining us for photo opportunities!\n\n\nThis is a one-of-a-kind holiday bazaar you won’t want to miss.
URL:https://laramieevents.com/event/snowy-mountain-christmas-bazaar-2/
ATTACH;FMTTYPE=image/jpeg:https://laramieevents.com/wp-content/uploads/sites/3/2025/11/589723049_10163226559260589_5505935578387739941_n.jpg
END:VEVENT
BEGIN:VEVENT
DTSTART;TZID=America/Denver:20251206T203000
DTEND;TZID=America/Denver:20251206T230000
DTSTAMP:20260423T235415
CREATED:20251113T153608Z
LAST-MODIFIED:20251113T153608Z
UID:10007752-1765053000-1765062000@laramieevents.com
SUMMARY:Gem City Dolls Present: Sealed with a Kiss
DESCRIPTION:A burlesque show celebrating the Golden Era! \nBring singles to tip! \nDoors: 7:30 pm \nShow: 8:30 pm
URL:https://laramieevents.com/event/gem-city-dolls-present-sealed-with-a-kiss/
LOCATION:Gryphon Theatre\, 710 E Garfield St Studio #333\, Laramie\, WY\, 82070\, United States
ATTACH;FMTTYPE=image/jpeg:https://laramieevents.com/wp-content/uploads/sites/3/2025/11/Burlesque25-scaled.jpg
END:VEVENT
END:VCALENDAR