BEGIN:VCALENDAR
VERSION:2.0
PRODID:-//Laramie Events - ECPv6.15.17.1//NONSGML v1.0//EN
CALSCALE:GREGORIAN
METHOD:PUBLISH
X-ORIGINAL-URL:https://laramieevents.com
X-WR-CALDESC:Events for Laramie Events
REFRESH-INTERVAL;VALUE=DURATION:PT1H
X-Robots-Tag:noindex
X-PUBLISHED-TTL:PT1H
BEGIN:VTIMEZONE
TZID:America/Denver
BEGIN:DAYLIGHT
TZOFFSETFROM:-0700
TZOFFSETTO:-0600
TZNAME:MDT
DTSTART:20240310T090000
END:DAYLIGHT
BEGIN:STANDARD
TZOFFSETFROM:-0600
TZOFFSETTO:-0700
TZNAME:MST
DTSTART:20241103T080000
END:STANDARD
BEGIN:DAYLIGHT
TZOFFSETFROM:-0700
TZOFFSETTO:-0600
TZNAME:MDT
DTSTART:20250309T090000
END:DAYLIGHT
BEGIN:STANDARD
TZOFFSETFROM:-0600
TZOFFSETTO:-0700
TZNAME:MST
DTSTART:20251102T080000
END:STANDARD
BEGIN:DAYLIGHT
TZOFFSETFROM:-0700
TZOFFSETTO:-0600
TZNAME:MDT
DTSTART:20260308T090000
END:DAYLIGHT
BEGIN:STANDARD
TZOFFSETFROM:-0600
TZOFFSETTO:-0700
TZNAME:MST
DTSTART:20261101T080000
END:STANDARD
END:VTIMEZONE
BEGIN:VEVENT
DTSTART;TZID=America/Denver:20251205T173000
DTEND;TZID=America/Denver:20251205T190000
DTSTAMP:20260423T235549
CREATED:20251020T025216Z
LAST-MODIFIED:20251020T025216Z
UID:10005894-1764955800-1764961200@laramieevents.com
SUMMARY:Learn line dancing
DESCRIPTION:See the flier for more details on these lessons running Fridays Nov 7 to Dec 12th 530 to 7pm at the rec center
URL:https://laramieevents.com/event/learn-line-dancing/2025-12-05/
ATTACH;FMTTYPE=image/jpeg:https://laramieevents.com/wp-content/uploads/sites/3/2025/10/562303375_1228948775940268_254137466366032391_n.jpg
END:VEVENT
BEGIN:VEVENT
DTSTART;TZID=America/Denver:20251205T180000
DTEND;TZID=America/Denver:20251205T200000
DTSTAMP:20260423T235549
CREATED:20250911T233802Z
LAST-MODIFIED:20250912T002759Z
UID:10004055-1764957600-1764964800@laramieevents.com
SUMMARY:FREE Christmas Movie Night
DESCRIPTION:The Buchanan Center for Performing Arts is hold this event for free. \n 
URL:https://laramieevents.com/event/free-christmas-movie-night/
ATTACH;FMTTYPE=image/jpeg:https://laramieevents.com/wp-content/uploads/sites/3/2025/09/christmas-1903042_1280.jpg
END:VEVENT
END:VCALENDAR