BEGIN:VCALENDAR
VERSION:2.0
PRODID:-//Laramie Events - ECPv6.15.17.1//NONSGML v1.0//EN
CALSCALE:GREGORIAN
METHOD:PUBLISH
X-ORIGINAL-URL:https://laramieevents.com
X-WR-CALDESC:Events for Laramie Events
REFRESH-INTERVAL;VALUE=DURATION:PT1H
X-Robots-Tag:noindex
X-PUBLISHED-TTL:PT1H
BEGIN:VTIMEZONE
TZID:America/Denver
BEGIN:DAYLIGHT
TZOFFSETFROM:-0700
TZOFFSETTO:-0600
TZNAME:MDT
DTSTART:20240310T090000
END:DAYLIGHT
BEGIN:STANDARD
TZOFFSETFROM:-0600
TZOFFSETTO:-0700
TZNAME:MST
DTSTART:20241103T080000
END:STANDARD
BEGIN:DAYLIGHT
TZOFFSETFROM:-0700
TZOFFSETTO:-0600
TZNAME:MDT
DTSTART:20250309T090000
END:DAYLIGHT
BEGIN:STANDARD
TZOFFSETFROM:-0600
TZOFFSETTO:-0700
TZNAME:MST
DTSTART:20251102T080000
END:STANDARD
BEGIN:DAYLIGHT
TZOFFSETFROM:-0700
TZOFFSETTO:-0600
TZNAME:MDT
DTSTART:20260308T090000
END:DAYLIGHT
BEGIN:STANDARD
TZOFFSETFROM:-0600
TZOFFSETTO:-0700
TZNAME:MST
DTSTART:20261101T080000
END:STANDARD
END:VTIMEZONE
BEGIN:VEVENT
DTSTART;TZID=America/Denver:20251201T190000
DTEND;TZID=America/Denver:20251201T210000
DTSTAMP:20260423T235550
CREATED:20251120T221959Z
LAST-MODIFIED:20251120T221959Z
UID:10007756-1764615600-1764622800@laramieevents.com
SUMMARY:"Cloverton" Christmas Concert @ Snowy Range Baptist Church
DESCRIPTION:Perfoming Dec 1st.  See the flier and bio for more info. \n \n  \nWithout the help of a record label\, Cloverton propelled onto the Christian music scene in 2011  as the first ever ROCK THE CAMP contest winners hosted by TobyMac and Camp Electric.  Soon after receiving this prestigious honor\, Cloverton scored the #1 most downloaded song in  the history of KLOVE radio for their first single “Take Me into the Beautiful\,” which also  charted at #12 on the overall Christian Billboard top 25. The Manhattan based band followed  up that effort with an unforgettable Christmas rendition of Leonard Cohen’s song “Hallelujah\,”  reaching millions of viewers (YouTube) in just weeks while climbing to the #1 slot on iTunes  and being featured on CNN\, The Blaze (Glenn Beck)\, and several other media outlets.   \nThe band would go on to record and release their first full-length studio album with a wildly  successful crowd-funding campaign. The record “Patterns” was met with favorable critical  reviews and was widely embraced by their growing fan-base. A year later\, Cloverton would  release a Christmas EP titled “We Sing Joy” which climbed to #1 for multiple weeks on  iTunes. The band would follow that up in 2017 with the full-length record\, “Bloom” which was  touted as their most complete and creative piece of work to date. In 2019\, Cloverton released  another Christmas EP titled “Come and Adore\,” and continues to build upon one of the longest  running and successful annual Christmas tours in the market.   \nFrom their humble beginnings as a small church worship team\, to the respected and sustained  success as an independent CCM band\, Cloverton paved a new way for independent Christian  music…  \n“None of us are into compromising or settling for the status quo. It’s a daily choice. To what or  who am I surrendering today?” front man Lance Stafford says. “We are either moving toward  or away from the person God has specifically created each of us to be. Our hope is that the  music we create can accompany others as they walk out that journey.”
URL:https://laramieevents.com/event/cloverton-christmas-concert-snowy-range-baptist-church/
ATTACH;FMTTYPE=image/jpeg:https://laramieevents.com/wp-content/uploads/sites/3/2025/11/cloverton-poster-with-QR.jpg
END:VEVENT
END:VCALENDAR