BEGIN:VCALENDAR
VERSION:2.0
PRODID:-//Laramie Events - ECPv6.15.17.1//NONSGML v1.0//EN
CALSCALE:GREGORIAN
METHOD:PUBLISH
X-ORIGINAL-URL:https://laramieevents.com
X-WR-CALDESC:Events for Laramie Events
REFRESH-INTERVAL;VALUE=DURATION:PT1H
X-Robots-Tag:noindex
X-PUBLISHED-TTL:PT1H
BEGIN:VTIMEZONE
TZID:America/Denver
BEGIN:DAYLIGHT
TZOFFSETFROM:-0700
TZOFFSETTO:-0600
TZNAME:MDT
DTSTART:20240310T090000
END:DAYLIGHT
BEGIN:STANDARD
TZOFFSETFROM:-0600
TZOFFSETTO:-0700
TZNAME:MST
DTSTART:20241103T080000
END:STANDARD
BEGIN:DAYLIGHT
TZOFFSETFROM:-0700
TZOFFSETTO:-0600
TZNAME:MDT
DTSTART:20250309T090000
END:DAYLIGHT
BEGIN:STANDARD
TZOFFSETFROM:-0600
TZOFFSETTO:-0700
TZNAME:MST
DTSTART:20251102T080000
END:STANDARD
BEGIN:DAYLIGHT
TZOFFSETFROM:-0700
TZOFFSETTO:-0600
TZNAME:MDT
DTSTART:20260308T090000
END:DAYLIGHT
BEGIN:STANDARD
TZOFFSETFROM:-0600
TZOFFSETTO:-0700
TZNAME:MST
DTSTART:20261101T080000
END:STANDARD
END:VTIMEZONE
BEGIN:VEVENT
DTSTART;TZID=America/Denver:20251107T080000
DTEND;TZID=America/Denver:20251107T170000
DTSTAMP:20260424T015124
CREATED:20251020T025216Z
LAST-MODIFIED:20251020T025216Z
UID:10005889-1762502400-1762534800@laramieevents.com
SUMMARY:Learn line dancing
DESCRIPTION:See the flier for more details on these lessons running Fridays Nov 7 to Dec 12th 530 to 7pm at the rec center
URL:https://laramieevents.com/event/learn-line-dancing/2025-11-07/1/
ATTACH;FMTTYPE=image/jpeg:https://laramieevents.com/wp-content/uploads/sites/3/2025/10/562303375_1228948775940268_254137466366032391_n.jpg
END:VEVENT
BEGIN:VEVENT
DTSTART;TZID=America/Denver:20251107T173000
DTEND;TZID=America/Denver:20251107T190000
DTSTAMP:20260424T015124
CREATED:20251020T025216Z
LAST-MODIFIED:20251020T025216Z
UID:10005890-1762536600-1762542000@laramieevents.com
SUMMARY:Learn line dancing
DESCRIPTION:See the flier for more details on these lessons running Fridays Nov 7 to Dec 12th 530 to 7pm at the rec center
URL:https://laramieevents.com/event/learn-line-dancing/2025-11-07/2/
ATTACH;FMTTYPE=image/jpeg:https://laramieevents.com/wp-content/uploads/sites/3/2025/10/562303375_1228948775940268_254137466366032391_n.jpg
END:VEVENT
BEGIN:VEVENT
DTSTART;TZID=America/Denver:20251107T193000
DTEND;TZID=America/Denver:20251107T220000
DTSTAMP:20260424T015124
CREATED:20251013T155557Z
LAST-MODIFIED:20251113T153500Z
UID:10005930-1762543800-1762552800@laramieevents.com
SUMMARY:Relative Theatrics Presents STRAIGHT WHITE MEN
DESCRIPTION:Relative Theatrics Presents STRAIGHT WHITE MEN by Young Jean Lee Relative Theatrics is proud to present STRAIGHT WHITE MEN by Young Jean Lee in association with the SAFE Men program. The play runs November 7th through 15th in the Gryphon Theatre at the Laramie Plains Civic Center  \nThis play is directed by Kim Lockhart and features Will Bowling\, Sean Coyle\, Connor Durkee\, and J Shogren.  \nPlay Description:  \nWhen Ed and his three adult sons come together to celebrate Christmas\, they enjoy cheerful trash-talking\, pranks\, and takeout Chinese. Then they confront a problem that even being a happy family can’t solve: When identity matters\, and privilege is problematic\, what is the value of being a straight white man?  \nThe opening weekend of performances is November 7th and November 8th 2025 at 7:30 pm. Performances continue November 12th\, 13th\, 14th and 15th at 7:30pm. All performances are located at the Laramie Plains Civic Center in the Gryphon Theatre. A preview pay-what-you-can performance will take place at 7:30pm on November 6th\, 2025. Additionally there will be a post show talk back immediately following the show on November 13th funded by the Wyoming Humanities Crossroad Grant.  \nTo enhance accessibility\, Relative Theatrics is offering general admission tickets at three different price points ($43/$28/$18). Tickets are currently for sale and can be purchased online at www.RelativeTheatrics.com.  \nSTRAIGHT WHITE MEN is supported in part by the Wyoming Arts Council\, with support from the National Endowment for the Arts and the Wyoming Legislature\, Wyoming Humanities\, and the City of Laramie and Albany County Community Partner funds\, as well as the Albany County Recreation Board.  \nRelative Theatrics engages community in thoughtful\, contemporary theatre\, expands worldviews and connects us to collective humanity.  \nSTRAIGHT WHITE MEN Reviews:  \n‘Lee’s play is funny\, well-observed\, often surprisingly gentle\, and refreshingly nuanced. Straight White Men: I’m here for it.’ Evening Standard  \n‘A timely identity study that gives a powerful critique of 21st-century white male psychology’ The Guardian  \n‘Ingenious\, provocative and richly entertaining’ The Independent  \n‘An intriguing look at male bonding. Equally poignant as it is provocative. Boyz Magazine \nLOCATION:  \nLaramie Plains Civic Center Gryphon Theatre  \nDATES/TIMES: November 7th\, 8th\, 12th\, 13th\, 14th and 15th at 7:30PM. Seating starts 30 minutes prior to show time.  \nPay-What-You-Can preview performance: November 6th at 7:30PM  \nPost show Talk Back: November 13th  \nTICKET PRICES  \nAll Performances offer a general admission pick-your-price option of $43\, $28\, or $18.* *No one will be turned away for lack of funds – contact executive@relativetheatrics.com for more information  \nTICKETS: Online at http://www.RelativeTheatrics.com or call 307-314-2334  \nMEDIA CONTACTS  \nSean Coyle – artistic@relativetheatrics.com
URL:https://laramieevents.com/event/relative-theatrics-presents-straight-white-men/2025-11-07/
ATTACH;FMTTYPE=image/png:https://laramieevents.com/wp-content/uploads/sites/3/2025/10/SWM-Facebook.png
END:VEVENT
END:VCALENDAR