BEGIN:VCALENDAR
VERSION:2.0
PRODID:-//Laramie Events - ECPv6.15.17.1//NONSGML v1.0//EN
CALSCALE:GREGORIAN
METHOD:PUBLISH
X-WR-CALNAME:Laramie Events
X-ORIGINAL-URL:https://laramieevents.com
X-WR-CALDESC:Events for Laramie Events
REFRESH-INTERVAL;VALUE=DURATION:PT1H
X-Robots-Tag:noindex
X-PUBLISHED-TTL:PT1H
BEGIN:VTIMEZONE
TZID:America/Denver
BEGIN:DAYLIGHT
TZOFFSETFROM:-0700
TZOFFSETTO:-0600
TZNAME:MDT
DTSTART:20240310T090000
END:DAYLIGHT
BEGIN:STANDARD
TZOFFSETFROM:-0600
TZOFFSETTO:-0700
TZNAME:MST
DTSTART:20241103T080000
END:STANDARD
BEGIN:DAYLIGHT
TZOFFSETFROM:-0700
TZOFFSETTO:-0600
TZNAME:MDT
DTSTART:20250309T090000
END:DAYLIGHT
BEGIN:STANDARD
TZOFFSETFROM:-0600
TZOFFSETTO:-0700
TZNAME:MST
DTSTART:20251102T080000
END:STANDARD
BEGIN:DAYLIGHT
TZOFFSETFROM:-0700
TZOFFSETTO:-0600
TZNAME:MDT
DTSTART:20260308T090000
END:DAYLIGHT
BEGIN:STANDARD
TZOFFSETFROM:-0600
TZOFFSETTO:-0700
TZNAME:MST
DTSTART:20261101T080000
END:STANDARD
END:VTIMEZONE
BEGIN:VEVENT
DTSTART;TZID=America/Denver:20251024T180000
DTEND;TZID=America/Denver:20251024T203000
DTSTAMP:20260424T034257
CREATED:20250919T012434Z
LAST-MODIFIED:20250919T012434Z
UID:10004062-1761328800-1761337800@laramieevents.com
SUMMARY:Ghostly 5K Fundraiser To Support Human Trafficking Survivors
DESCRIPTION:Laramie will get a whole lot brighter! The Albany Advisory Council on Trafficking’s “Ghostly Glow Run & Costume Contest 5K” is turning Fox Run Golf Course into a hilarious\, headlamp-bobbing parade of glowing ghosts and dazzling dragons. Even the coyotes will probably blink at the neon river of runners! \nWitches cackling past sparkly superheroes\, and fluorescent fairies zipping by light-up robots\, all kicking up a joyful fuss for a fantastic cause. Every giggle and every glowing step means more support for human trafficking survivors. By the time the last luminous runner crosses the makeshift line (marked by a very enthusiastic volunteer!)\, the night will be a success – a whirlwind of whimsical fun fueled by a whole lotta heart. The fight against trafficking just got a whole lot more sparkly! \nGo to www.aactwy.org/events to register. \n 
URL:https://laramieevents.com/event/ghostly-5k-fundraiser-to-support-human-trafficking-survivors/
ATTACH;FMTTYPE=image/jpeg:https://laramieevents.com/wp-content/uploads/sites/3/2025/09/IMG_2330-1.jpeg
END:VEVENT
BEGIN:VEVENT
DTSTART;TZID=America/Denver:20251024T190000
DTEND;TZID=America/Denver:20251024T210000
DTSTAMP:20260424T034257
CREATED:20251008T225510Z
LAST-MODIFIED:20251008T225806Z
UID:10004071-1761332400-1761339600@laramieevents.com
SUMMARY:FREE Drive In Movie
DESCRIPTION:From the organizers at Laramie Range Ford:\n\noin us for another drive-in style movie\, this one with a twist to benefit the local chapter of MomCo! Entry is still free as always\, but we will have a concession stand with snacks and beverages for sale. All proceed will be donated to MomCo and Laramie Range Ford will match whatever is raised! Enjoy this fun family friendly night out for a good cause!\nDoors open at 6:30 at Laramie Range Ford3609 Grand\, \, movie starts at 7pm. We’ll have outdoor speakers and an FM transmitter so you can listen from the comfort of your vehicle or bring chairs and blankets if the weather is nice. We look forward to having you!\nTo learn more about MomCo\, visit: https://www.themom.co/home
URL:https://laramieevents.com/event/free-drive-in-movie-2/
ATTACH;FMTTYPE=image/jpeg:https://laramieevents.com/wp-content/uploads/sites/3/2025/10/559297115_826273136820515_693260617192593582_n-scaled.jpg
END:VEVENT
BEGIN:VEVENT
DTSTART;TZID=America/Denver:20251024T190000
DTEND;TZID=America/Denver:20251024T220000
DTSTAMP:20260424T034257
CREATED:20251021T143405Z
LAST-MODIFIED:20251021T143633Z
UID:10005902-1761332400-1761343200@laramieevents.com
SUMMARY:The Possessed Manor at the American Legion Post 14
DESCRIPTION:A Haunted House brought to you by the Scare Crew at the American Legion. Parental discretion is advised. \nOctober 24th & 25th\, 30th & 31st\, November 1st from 7pm to 10pm \n$5 admission cash only\, ATM available
URL:https://laramieevents.com/event/the-possessed-manor-at-the-american-legion-post-14/2025-10-24/
LOCATION:417 E Ivinson Laramie\, Wy 82070\, 417 E Invinson\, Laramie\, WY\, 82072\, United States
ATTACH;FMTTYPE=image/jpeg:https://laramieevents.com/wp-content/uploads/sites/3/2025/10/IMG_0157.jpeg
END:VEVENT
BEGIN:VEVENT
DTSTART;TZID=America/Denver:20251024T200000
DTEND;TZID=America/Denver:20251024T223000
DTSTAMP:20260424T034257
CREATED:20251021T143226Z
LAST-MODIFIED:20251021T143226Z
UID:10005888-1761336000-1761345000@laramieevents.com
SUMMARY:Banshee Tree w/ Cicada Summer
DESCRIPTION:Doors: 7:00pm \nShow: 8:00pm \nBanshee Tree (Denver\, Co) blurs the lines between jazz\, indie\, psych and electro swing. Their live performance showcases intricately composed\, emotional songs with high energy\, trance like grooves.. Based out of Denver\, BT has shared the stage with many national acts including Greensky Bluegrass\, Balkan Bump\, Twiddle and Leftover Salmon\, and they tour nationally for growing audiences. You can find out more and follow their tour at www.banshee-tree.com
URL:https://laramieevents.com/event/banshee-tree-w-cicada-summer/
LOCATION:Gryphon Theatre\, 710 E Garfield St Studio #333\, Laramie\, WY\, 82070\, United States
CATEGORIES:Live Music
ATTACH;FMTTYPE=image/jpeg:https://laramieevents.com/wp-content/uploads/sites/3/2025/10/Banshee_Tree-1-scaled.jpeg
ORGANIZER;CN="Laramie Plains Civic Center":MAILTO:jbrauer@lpccwy.org
END:VEVENT
END:VCALENDAR