BEGIN:VCALENDAR
VERSION:2.0
PRODID:-//Laramie Events - ECPv6.15.17.1//NONSGML v1.0//EN
CALSCALE:GREGORIAN
METHOD:PUBLISH
X-WR-CALNAME:Laramie Events
X-ORIGINAL-URL:https://laramieevents.com
X-WR-CALDESC:Events for Laramie Events
REFRESH-INTERVAL;VALUE=DURATION:PT1H
X-Robots-Tag:noindex
X-PUBLISHED-TTL:PT1H
BEGIN:VTIMEZONE
TZID:America/Denver
BEGIN:DAYLIGHT
TZOFFSETFROM:-0700
TZOFFSETTO:-0600
TZNAME:MDT
DTSTART:20240310T090000
END:DAYLIGHT
BEGIN:STANDARD
TZOFFSETFROM:-0600
TZOFFSETTO:-0700
TZNAME:MST
DTSTART:20241103T080000
END:STANDARD
BEGIN:DAYLIGHT
TZOFFSETFROM:-0700
TZOFFSETTO:-0600
TZNAME:MDT
DTSTART:20250309T090000
END:DAYLIGHT
BEGIN:STANDARD
TZOFFSETFROM:-0600
TZOFFSETTO:-0700
TZNAME:MST
DTSTART:20251102T080000
END:STANDARD
BEGIN:DAYLIGHT
TZOFFSETFROM:-0700
TZOFFSETTO:-0600
TZNAME:MDT
DTSTART:20260308T090000
END:DAYLIGHT
BEGIN:STANDARD
TZOFFSETFROM:-0600
TZOFFSETTO:-0700
TZNAME:MST
DTSTART:20261101T080000
END:STANDARD
END:VTIMEZONE
BEGIN:VEVENT
DTSTART;TZID=America/Denver:20251013T180000
DTEND;TZID=America/Denver:20251013T200000
DTSTAMP:20260424T054756
CREATED:20251007T151839Z
LAST-MODIFIED:20251007T151839Z
UID:10004069-1760378400-1760385600@laramieevents.com
SUMMARY:Documentary Screening\, “1946: The Mistranslation That Shifted Culture"
DESCRIPTION:The public is invited to attend a special screening of “1946: The Mistranslation That Shifted Culture”\, a feature documentary that follows the story of researchers who trace the origins of the anti-gay movement among Christians to a grave mistranslation of the Bible in 1946. It chronicles the discovery of never-before-seen archives at Yale University which unveil astonishing new revelations\, and casts significant doubt on any biblical basis for LGBTQIA+ prejudice. Featuring commentary from prominent scholars as well as opposing pastors\, including the personal stories of the film’s creators\, 1946 is at once challenging\, enlightening\, and inspiring. Refreshments and discussion will follow the screening. The screening is sponsored by St. Paul’s\, the Shepard Symposium on Social Justice and PFLAG Laramie. For more information email pflaglaramie@gmail.com.
URL:https://laramieevents.com/event/documentary-screening-1946-the-mistranslation-that-shifted-culture/
LOCATION:St. Paul’s UCC\, 602 E Garfield\, Laramie\, WY\, 82070\, United States
ATTACH;FMTTYPE=image/jpeg:https://laramieevents.com/wp-content/uploads/sites/3/2025/10/1946-the-mistranslation-that-shifted-culture.jpeg
ORGANIZER;CN="St. Paul's UCC":MAILTO:stpucc@gmail.com
END:VEVENT
END:VCALENDAR