BEGIN:VCALENDAR
VERSION:2.0
PRODID:-//Laramie Events - ECPv6.15.17.1//NONSGML v1.0//EN
CALSCALE:GREGORIAN
METHOD:PUBLISH
X-ORIGINAL-URL:https://laramieevents.com
X-WR-CALDESC:Events for Laramie Events
REFRESH-INTERVAL;VALUE=DURATION:PT1H
X-Robots-Tag:noindex
X-PUBLISHED-TTL:PT1H
BEGIN:VTIMEZONE
TZID:America/Denver
BEGIN:DAYLIGHT
TZOFFSETFROM:-0700
TZOFFSETTO:-0600
TZNAME:MDT
DTSTART:20240310T090000
END:DAYLIGHT
BEGIN:STANDARD
TZOFFSETFROM:-0600
TZOFFSETTO:-0700
TZNAME:MST
DTSTART:20241103T080000
END:STANDARD
BEGIN:DAYLIGHT
TZOFFSETFROM:-0700
TZOFFSETTO:-0600
TZNAME:MDT
DTSTART:20250309T090000
END:DAYLIGHT
BEGIN:STANDARD
TZOFFSETFROM:-0600
TZOFFSETTO:-0700
TZNAME:MST
DTSTART:20251102T080000
END:STANDARD
BEGIN:DAYLIGHT
TZOFFSETFROM:-0700
TZOFFSETTO:-0600
TZNAME:MDT
DTSTART:20260308T090000
END:DAYLIGHT
BEGIN:STANDARD
TZOFFSETFROM:-0600
TZOFFSETTO:-0700
TZNAME:MST
DTSTART:20261101T080000
END:STANDARD
END:VTIMEZONE
BEGIN:VEVENT
DTSTART;TZID=America/Denver:20251012T100000
DTEND;TZID=America/Denver:20251012T150000
DTSTAMP:20260424T034220
CREATED:20250918T225240Z
LAST-MODIFIED:20250919T144540Z
UID:10004061-1760263200-1760281200@laramieevents.com
SUMMARY:Laramie Hay Company Fall Festival
DESCRIPTION:Save the Date! This year’s event is set to be even more enjoyable\, featuring an enlarged hay maze and additional activities for everyone’s entertainment. The Snowy Range FFA has generously offered to provide the manpower\, and we encourage you to demonstrate your appreciation by making a donation to support the FFA. As in previous years\, the event is free\, with all donations going directly to the FFA
URL:https://laramieevents.com/event/laramie-hay-company-fall-festival/
ATTACH;FMTTYPE=image/jpeg:https://laramieevents.com/wp-content/uploads/sites/3/2025/09/532240941_1145318484284628_2100749575243490628_n.jpg
END:VEVENT
BEGIN:VEVENT
DTSTART;TZID=America/Denver:20251012T110000
DTEND;TZID=America/Denver:20251012T140000
DTSTAMP:20260424T034220
CREATED:20250422T143609Z
LAST-MODIFIED:20250422T143609Z
UID:10003606-1760266800-1760277600@laramieevents.com
SUMMARY:VFW Laramie Brunch
DESCRIPTION:From the organizers: \nChef Dan and the guys from Gold Spur Outfitters are back with brunch after taking a break for the summer. Come by for the best Brunch in Laramie\, Oct 12 11am to 2pm\, 2142 E GarfieldClassic Breakfast\n2 eggs anyway\, bacon\, home fries\, toast\n\nOmelet\nChoice of ham or bacon\, onions\, peppers\, tomatoes with home fries\n\nLaramie Skillet\nHome fries\, roasted sweet pepper chili\, topped with an over easy egg and pico de gallo\n\nFrench Toast\n3 slices of French Toast\, bacon\, real maple syrup\n\nBLT\nBacon\, lettuce\, tomato\, and mayo on toasted sourdough\n\nGrilled Ham\, Egg\, and Cheese\nHam\, egg any way\, and cheddar cheese on toasted sourdough
URL:https://laramieevents.com/event/vfw-laramie-brunch/
ATTACH;FMTTYPE=image/jpeg:https://laramieevents.com/wp-content/uploads/sites/3/2025/04/489047984_122129225438622417_5424439826340664481_n.jpg
END:VEVENT
BEGIN:VEVENT
DTSTART;TZID=America/Denver:20251012T163000
DTEND;TZID=America/Denver:20251012T180000
DTSTAMP:20260424T034220
CREATED:20250220T010050Z
LAST-MODIFIED:20250220T010050Z
UID:10003344-1760286600-1760292000@laramieevents.com
SUMMARY:Laramie Connections Free Sunday Dinner
DESCRIPTION:From the organizers:\n4:30 pm Sundays @ First Baptist Church\nEveryone is welcome to come and enjoy a hot meal Sunday evenings along with great company.  While regular meal offerings are closed on the weekends we are happy to step in and offer a free meal gathering. \nOur meal is provided by the Laramie Soup Kitchen\, Laramie Interfaith and Eppson Center being closed on the weekends.
URL:https://laramieevents.com/event/laramie-connections-free-sunday-dinner/2025-10-12/
ATTACH;FMTTYPE=image/png:https://laramieevents.com/wp-content/uploads/sites/3/2025/02/family-dinner-3407701_1280.png
END:VEVENT
END:VCALENDAR