BEGIN:VCALENDAR
VERSION:2.0
PRODID:-//Laramie Events - ECPv6.15.17.1//NONSGML v1.0//EN
CALSCALE:GREGORIAN
METHOD:PUBLISH
X-WR-CALNAME:Laramie Events
X-ORIGINAL-URL:https://laramieevents.com
X-WR-CALDESC:Events for Laramie Events
REFRESH-INTERVAL;VALUE=DURATION:PT1H
X-Robots-Tag:noindex
X-PUBLISHED-TTL:PT1H
BEGIN:VTIMEZONE
TZID:America/Denver
BEGIN:DAYLIGHT
TZOFFSETFROM:-0700
TZOFFSETTO:-0600
TZNAME:MDT
DTSTART:20240310T090000
END:DAYLIGHT
BEGIN:STANDARD
TZOFFSETFROM:-0600
TZOFFSETTO:-0700
TZNAME:MST
DTSTART:20241103T080000
END:STANDARD
BEGIN:DAYLIGHT
TZOFFSETFROM:-0700
TZOFFSETTO:-0600
TZNAME:MDT
DTSTART:20250309T090000
END:DAYLIGHT
BEGIN:STANDARD
TZOFFSETFROM:-0600
TZOFFSETTO:-0700
TZNAME:MST
DTSTART:20251102T080000
END:STANDARD
BEGIN:DAYLIGHT
TZOFFSETFROM:-0700
TZOFFSETTO:-0600
TZNAME:MDT
DTSTART:20260308T090000
END:DAYLIGHT
BEGIN:STANDARD
TZOFFSETFROM:-0600
TZOFFSETTO:-0700
TZNAME:MST
DTSTART:20261101T080000
END:STANDARD
END:VTIMEZONE
BEGIN:VEVENT
DTSTART;TZID=America/Denver:20251005T110000
DTEND;TZID=America/Denver:20251005T140000
DTSTAMP:20260424T034258
CREATED:20250928T161533Z
LAST-MODIFIED:20250928T161533Z
UID:10004067-1759662000-1759672800@laramieevents.com
SUMMARY:Touch A Truck Event With Firehouse Subs
DESCRIPTION:From the organizers: \nIn celebration of First Responder’s Month\, participating Firehouse Subs restaurants are hosting a Touch-the-Truck event  Sunday\, October 5 11am to 2pm. A fun\, educational and interactive event for the entire family\, Touch-the-Truck events invite families to come out and interact with working fire trucks and meet first responders. \nJoin us to help celebrate our local heroes! It’ll take place at the store\, 570 N 3rd in the Safeway Plaza.
URL:https://laramieevents.com/event/touch-a-truck-event-with-firehouse-subs/
ATTACH;FMTTYPE=image/png:https://laramieevents.com/wp-content/uploads/sites/3/2025/09/Capture-1.png
END:VEVENT
BEGIN:VEVENT
DTSTART;TZID=America/Denver:20251005T163000
DTEND;TZID=America/Denver:20251005T180000
DTSTAMP:20260424T034258
CREATED:20250220T010050Z
LAST-MODIFIED:20250220T010050Z
UID:10003343-1759681800-1759687200@laramieevents.com
SUMMARY:Laramie Connections Free Sunday Dinner
DESCRIPTION:From the organizers:\n4:30 pm Sundays @ First Baptist Church\nEveryone is welcome to come and enjoy a hot meal Sunday evenings along with great company.  While regular meal offerings are closed on the weekends we are happy to step in and offer a free meal gathering. \nOur meal is provided by the Laramie Soup Kitchen\, Laramie Interfaith and Eppson Center being closed on the weekends.
URL:https://laramieevents.com/event/laramie-connections-free-sunday-dinner/2025-10-05/
ATTACH;FMTTYPE=image/png:https://laramieevents.com/wp-content/uploads/sites/3/2025/02/family-dinner-3407701_1280.png
END:VEVENT
END:VCALENDAR