BEGIN:VCALENDAR
VERSION:2.0
PRODID:-//Laramie Events - ECPv6.15.17.1//NONSGML v1.0//EN
CALSCALE:GREGORIAN
METHOD:PUBLISH
X-ORIGINAL-URL:https://laramieevents.com
X-WR-CALDESC:Events for Laramie Events
REFRESH-INTERVAL;VALUE=DURATION:PT1H
X-Robots-Tag:noindex
X-PUBLISHED-TTL:PT1H
BEGIN:VTIMEZONE
TZID:America/Denver
BEGIN:DAYLIGHT
TZOFFSETFROM:-0700
TZOFFSETTO:-0600
TZNAME:MDT
DTSTART:20240310T090000
END:DAYLIGHT
BEGIN:STANDARD
TZOFFSETFROM:-0600
TZOFFSETTO:-0700
TZNAME:MST
DTSTART:20241103T080000
END:STANDARD
BEGIN:DAYLIGHT
TZOFFSETFROM:-0700
TZOFFSETTO:-0600
TZNAME:MDT
DTSTART:20250309T090000
END:DAYLIGHT
BEGIN:STANDARD
TZOFFSETFROM:-0600
TZOFFSETTO:-0700
TZNAME:MST
DTSTART:20251102T080000
END:STANDARD
BEGIN:DAYLIGHT
TZOFFSETFROM:-0700
TZOFFSETTO:-0600
TZNAME:MDT
DTSTART:20260308T090000
END:DAYLIGHT
BEGIN:STANDARD
TZOFFSETFROM:-0600
TZOFFSETTO:-0700
TZNAME:MST
DTSTART:20261101T080000
END:STANDARD
END:VTIMEZONE
BEGIN:VEVENT
DTSTART;VALUE=DATE:20250929
DTEND;VALUE=DATE:20251004
DTSTAMP:20260424T034223
CREATED:20250922T190316Z
LAST-MODIFIED:20250922T190316Z
UID:10004063-1759104000-1759535999@laramieevents.com
SUMMARY:Food Drive at LHS
DESCRIPTION:Bring dry or canned food to LHS during homecoming week Sept 29-Oct 3 or to the LHS football game Oct 3 at 6pm.
URL:https://laramieevents.com/event/food-drive-at-lhs/
ATTACH;FMTTYPE=image/png:https://laramieevents.com/wp-content/uploads/sites/3/2025/09/IMG_2420.png
END:VEVENT
BEGIN:VEVENT
DTSTART;TZID=America/Denver:20251002T163000
DTEND;TZID=America/Denver:20251002T180000
DTSTAMP:20260424T034223
CREATED:20250915T152411Z
LAST-MODIFIED:20250915T152411Z
UID:10004058-1759422600-1759428000@laramieevents.com
SUMMARY:Paint Laramie Pink Business After Hours Event
DESCRIPTION:Wear pink during Ivinson Memorial Hospitals Business After hours event Oct 2nd 430 to 6pm as they talk about their cancer center and other initiatives. See the flier for more details
URL:https://laramieevents.com/event/paint-laramie-pink-business-after-hours-event/
ATTACH;FMTTYPE=image/jpeg:https://laramieevents.com/wp-content/uploads/sites/3/2025/09/unnamed-1-1.jpg
END:VEVENT
END:VCALENDAR