BEGIN:VCALENDAR
VERSION:2.0
PRODID:-//Laramie Events - ECPv6.15.17.1//NONSGML v1.0//EN
CALSCALE:GREGORIAN
METHOD:PUBLISH
X-ORIGINAL-URL:https://laramieevents.com
X-WR-CALDESC:Events for Laramie Events
REFRESH-INTERVAL;VALUE=DURATION:PT1H
X-Robots-Tag:noindex
X-PUBLISHED-TTL:PT1H
BEGIN:VTIMEZONE
TZID:America/Denver
BEGIN:DAYLIGHT
TZOFFSETFROM:-0700
TZOFFSETTO:-0600
TZNAME:MDT
DTSTART:20240310T090000
END:DAYLIGHT
BEGIN:STANDARD
TZOFFSETFROM:-0600
TZOFFSETTO:-0700
TZNAME:MST
DTSTART:20241103T080000
END:STANDARD
BEGIN:DAYLIGHT
TZOFFSETFROM:-0700
TZOFFSETTO:-0600
TZNAME:MDT
DTSTART:20250309T090000
END:DAYLIGHT
BEGIN:STANDARD
TZOFFSETFROM:-0600
TZOFFSETTO:-0700
TZNAME:MST
DTSTART:20251102T080000
END:STANDARD
BEGIN:DAYLIGHT
TZOFFSETFROM:-0700
TZOFFSETTO:-0600
TZNAME:MDT
DTSTART:20260308T090000
END:DAYLIGHT
BEGIN:STANDARD
TZOFFSETFROM:-0600
TZOFFSETTO:-0700
TZNAME:MST
DTSTART:20261101T080000
END:STANDARD
END:VTIMEZONE
BEGIN:VEVENT
DTSTART;TZID=America/Denver:20250911T193000
DTEND;TZID=America/Denver:20250911T213000
DTSTAMP:20260424T054902
CREATED:20250818T150218Z
LAST-MODIFIED:20250818T150625Z
UID:10004037-1757619000-1757626200@laramieevents.com
SUMMARY:Relative Theatrics Presents MARY GETS HERS by Emma Horwitz 
DESCRIPTION:Relative Theatrics Presents MARY GETS HERS by Emma Horwitz  \nRelative Theatrics is proud to present MARY GETS HERS by Emma Horwitz in association with the University of Wyoming Department of Theatre and Dance. The play runs September 5th through 13th in the Studio Theatre at the Buchanan Center for the Performing Arts.  \nThis play is directed by Sean Coyle and features Aurora Dunning\, Patch Kluge\, Kim Lockhart\, Jared Mohr-Leiva\, and Hannah Waskowitz.  \nPlay Description:  \nIt’s the 10th century! A plague rages on in Germany! Everyone is turning into foam! When two overzealous hermits find an abandoned orphan named Mary\, they scheme a saintly rescue mission to protect her purity at any and all costs. Mary\, however\, has other plans for herself\, in this new play inspired by Hrotsvitha of Gandersheim’s closet drama-comedy Abraham\, or the Rise and Repentance of Mary.  \nThe opening weekend of performances is September 5th and September 6th 2025 at 7:30 pm. Performances continue September 10th\, 11th\, 12th and 13th at 7:30pm. All performances are located at the UW Buchanan Center for the Performing Arts in the Studio Theatre. A preview pay-what-you-can performance will take place at 7:30pm on September 4th\, 2025. Additionally there will be a post show talk back immediately following the show on September 11th funded by the Wyoming Humanities Crossroad Grant.  \nTo enhance accessibility\, Relative Theatrics is offering general admission tickets at three different price points ($43/$28/$18). Tickets are currently for sale and can be purchased online at www.RelativeTheatrics.com.  \nMARY GETS HERS is supported in part by the Wyoming Arts Council\, with support from the National Endowment for the Arts and the Wyoming Legislature\, Wyoming Humanities\, and the City of Laramie and Albany County Community Partner funds.  \nRelative Theatrics engages community in thoughtful\, contemporary theatre\, expands worldviews and connects us to collective humanity. \n  \nLOCATION:  \nUW Buchanan Center for the Performing Arts Studio Theatre  \nDATES/TIMES: September 5th\, 6th\, 10th\, 11th\, 12th and 13th at 7:30PM. Seating starts 30 minutes prior to show time.  \nPay-What-You-Can preview performance: September 4th at 7:30PM  \nPost show Talk Back: September 11th  \nTICKET PRICES  \nAll Performances offer a general admission pick-your-price option of $43\, $28\, or $18.* *No one will be turned away for lack of funds – contact executive@relativetheatrics.com for more information  \nTICKETS: Online at http://www.RelativeTheatrics.com  \nMEDIA CONTACTS  \nSean Coyle – artistic@relativetheatrics.com
URL:https://laramieevents.com/event/relative-theatrics-presents-mary-gets-hers-by-emma-horwitz/2025-09-11/
ATTACH;FMTTYPE=image/jpeg:https://laramieevents.com/wp-content/uploads/sites/3/2025/08/Capture1.jpg
END:VEVENT
END:VCALENDAR