BEGIN:VCALENDAR
VERSION:2.0
PRODID:-//Laramie Events - ECPv6.15.17.1//NONSGML v1.0//EN
CALSCALE:GREGORIAN
METHOD:PUBLISH
X-ORIGINAL-URL:https://laramieevents.com
X-WR-CALDESC:Events for Laramie Events
REFRESH-INTERVAL;VALUE=DURATION:PT1H
X-Robots-Tag:noindex
X-PUBLISHED-TTL:PT1H
BEGIN:VTIMEZONE
TZID:America/Denver
BEGIN:DAYLIGHT
TZOFFSETFROM:-0700
TZOFFSETTO:-0600
TZNAME:MDT
DTSTART:20240310T090000
END:DAYLIGHT
BEGIN:STANDARD
TZOFFSETFROM:-0600
TZOFFSETTO:-0700
TZNAME:MST
DTSTART:20241103T080000
END:STANDARD
BEGIN:DAYLIGHT
TZOFFSETFROM:-0700
TZOFFSETTO:-0600
TZNAME:MDT
DTSTART:20250309T090000
END:DAYLIGHT
BEGIN:STANDARD
TZOFFSETFROM:-0600
TZOFFSETTO:-0700
TZNAME:MST
DTSTART:20251102T080000
END:STANDARD
BEGIN:DAYLIGHT
TZOFFSETFROM:-0700
TZOFFSETTO:-0600
TZNAME:MDT
DTSTART:20260308T090000
END:DAYLIGHT
BEGIN:STANDARD
TZOFFSETFROM:-0600
TZOFFSETTO:-0700
TZNAME:MST
DTSTART:20261101T080000
END:STANDARD
END:VTIMEZONE
BEGIN:VEVENT
DTSTART;TZID=America/Denver:20250903T160000
DTEND;TZID=America/Denver:20250903T180000
DTSTAMP:20260424T054902
CREATED:20250822T223058Z
LAST-MODIFIED:20250822T223058Z
UID:10004040-1756915200-1756922400@laramieevents.com
SUMMARY:Laramie Chamber Career Expo
DESCRIPTION:Career Expo \n\nDate: Wednesday\, September 3\, 2025\nTime: 4:00 PM – 6:00 PM\nLocation: Albany County Fairgrounds – 3510 S. 3rd St\, Laramie\, WY 82070\n\nThe Career Expo is open to everyone—students\, job seekers\, professionals\, and community members alike. This event is a chance to explore job opportunities\, connect with local employers\, and take the next step toward your career goals. Attendees will also receive a free professional headshot and one free drink from The Soda Pit.
URL:https://laramieevents.com/event/laramie-chamber-career-expo/
ATTACH;FMTTYPE=image/jpeg:https://laramieevents.com/wp-content/uploads/sites/3/2025/08/Capture.jpg
END:VEVENT
BEGIN:VEVENT
DTSTART;TZID=America/Denver:20250903T160000
DTEND;TZID=America/Denver:20250903T180000
DTSTAMP:20260424T054902
CREATED:20250822T223631Z
LAST-MODIFIED:20250822T223631Z
UID:10004041-1756915200-1756922400@laramieevents.com
SUMMARY:Laramie Chamber Career Fair
DESCRIPTION:Career Expo \n\nDate: Wednesday\, September 3\, 2025\nTime: 4:00 PM – 6:00 PM\nLocation: Albany County Fairgrounds – 3510 S. 3rd St\, Laramie\, WY 82070\n\nThe Career Expo is open to everyone—students\, job seekers\, professionals\, and community members alike. This event is a chance to explore job opportunities\, connect with local employers\, and take the next step toward your career goals. Attendees will also receive a free professional headshot and one free drink from The Soda Pit.
URL:https://laramieevents.com/event/laramie-chamber-career-fair/
ATTACH;FMTTYPE=image/jpeg:https://laramieevents.com/wp-content/uploads/sites/3/2025/08/Capture.jpg
END:VEVENT
BEGIN:VEVENT
DTSTART;TZID=America/Denver:20250903T160000
DTEND;TZID=America/Denver:20250903T180000
DTSTAMP:20260424T054902
CREATED:20250828T170424Z
LAST-MODIFIED:20250828T170424Z
UID:10004045-1756915200-1756922400@laramieevents.com
SUMMARY:Laramie Career Expo
DESCRIPTION:Looking for an opportunity—whether it’s an internship\, part-time job\, or full-time position? The Laramie Career Expo is your chance to connect with some of the best employers in town and see what’s available right here in our community. Enjoy a free drink from Soda Pit\, complimentary professional headshots\, and a welcoming space to network\, ask questions\, and explore new career paths. Whether you’re just starting out or looking for a change\, this event is packed with opportunities for you. Come take the next step in your journey and discover where your future could begin.
URL:https://laramieevents.com/event/laramie-career-expo/
LOCATION:Albany County Fairgrounds\, 3510 S 3rd St\, Laramie\, WY\, 82070\, United States
END:VEVENT
END:VCALENDAR