BEGIN:VCALENDAR
VERSION:2.0
PRODID:-//Laramie Events - ECPv6.15.17.1//NONSGML v1.0//EN
CALSCALE:GREGORIAN
METHOD:PUBLISH
X-WR-CALNAME:Laramie Events
X-ORIGINAL-URL:https://laramieevents.com
X-WR-CALDESC:Events for Laramie Events
REFRESH-INTERVAL;VALUE=DURATION:PT1H
X-Robots-Tag:noindex
X-PUBLISHED-TTL:PT1H
BEGIN:VTIMEZONE
TZID:America/Denver
BEGIN:DAYLIGHT
TZOFFSETFROM:-0700
TZOFFSETTO:-0600
TZNAME:MDT
DTSTART:20240310T090000
END:DAYLIGHT
BEGIN:STANDARD
TZOFFSETFROM:-0600
TZOFFSETTO:-0700
TZNAME:MST
DTSTART:20241103T080000
END:STANDARD
BEGIN:DAYLIGHT
TZOFFSETFROM:-0700
TZOFFSETTO:-0600
TZNAME:MDT
DTSTART:20250309T090000
END:DAYLIGHT
BEGIN:STANDARD
TZOFFSETFROM:-0600
TZOFFSETTO:-0700
TZNAME:MST
DTSTART:20251102T080000
END:STANDARD
BEGIN:DAYLIGHT
TZOFFSETFROM:-0700
TZOFFSETTO:-0600
TZNAME:MDT
DTSTART:20260308T090000
END:DAYLIGHT
BEGIN:STANDARD
TZOFFSETFROM:-0600
TZOFFSETTO:-0700
TZNAME:MST
DTSTART:20261101T080000
END:STANDARD
END:VTIMEZONE
BEGIN:VEVENT
DTSTART;TZID=America/Denver:20250830T100000
DTEND;TZID=America/Denver:20250830T200000
DTSTAMP:20260424T075344
CREATED:20241121T212222Z
LAST-MODIFIED:20241121T212222Z
UID:10003266-1756548000-1756584000@laramieevents.com
SUMMARY:307 Film Festival Presented by Grand Ave Urgent Care
DESCRIPTION:The 307 Film Festival celebrates films and filmmakers from across Wyoming\, the United States\, and Internationally! \nTaking place in scenic Laramie\, Wyoming\, home of the University of Wyoming\, the 307 Film Festival screens at Studio City – a state-of-the-art theatre with a 60-foot screen and reclining seats. \nTickets are available at 307filmfestival.com
URL:https://laramieevents.com/event/307-film-festival-presented-by-grand-ave-urgent-care/2025-08-30/
LOCATION:Studio City Theatre
ATTACH;FMTTYPE=image/png:https://laramieevents.com/wp-content/uploads/sites/3/2024/11/307IFF-NEW-LOGO-2023.png
END:VEVENT
END:VCALENDAR