BEGIN:VCALENDAR
VERSION:2.0
PRODID:-//Laramie Events - ECPv6.15.17.1//NONSGML v1.0//EN
CALSCALE:GREGORIAN
METHOD:PUBLISH
X-ORIGINAL-URL:https://laramieevents.com
X-WR-CALDESC:Events for Laramie Events
REFRESH-INTERVAL;VALUE=DURATION:PT1H
X-Robots-Tag:noindex
X-PUBLISHED-TTL:PT1H
BEGIN:VTIMEZONE
TZID:America/Denver
BEGIN:DAYLIGHT
TZOFFSETFROM:-0700
TZOFFSETTO:-0600
TZNAME:MDT
DTSTART:20240310T090000
END:DAYLIGHT
BEGIN:STANDARD
TZOFFSETFROM:-0600
TZOFFSETTO:-0700
TZNAME:MST
DTSTART:20241103T080000
END:STANDARD
BEGIN:DAYLIGHT
TZOFFSETFROM:-0700
TZOFFSETTO:-0600
TZNAME:MDT
DTSTART:20250309T090000
END:DAYLIGHT
BEGIN:STANDARD
TZOFFSETFROM:-0600
TZOFFSETTO:-0700
TZNAME:MST
DTSTART:20251102T080000
END:STANDARD
BEGIN:DAYLIGHT
TZOFFSETFROM:-0700
TZOFFSETTO:-0600
TZNAME:MDT
DTSTART:20260308T090000
END:DAYLIGHT
BEGIN:STANDARD
TZOFFSETFROM:-0600
TZOFFSETTO:-0700
TZNAME:MST
DTSTART:20261101T080000
END:STANDARD
END:VTIMEZONE
BEGIN:VEVENT
DTSTART;TZID=America/Denver:20250617T113000
DTEND;TZID=America/Denver:20250815T130000
DTSTAMP:20260424T075657
CREATED:20250609T154750Z
LAST-MODIFIED:20250609T154750Z
UID:10003683-1750159800-1755262800@laramieevents.com
SUMMARY:FREE Summer Lunch Program With Feeding Laramie Valley
DESCRIPTION:From the organizers: \n\nJune 17th to august 15th! \nMonday – Friday\, 11:30 a.m. to 1:00 p.m. \nFLV building at LaBonte Park\, 968 N 9th St\, Laramie \n$1.50 suggested donation for adults accompanying children. \n\n\n\n\n​Everyone is welcome and no RSVP is necessary!​ \n\n\nActivities include outdoor recreational time and arts and crafts \n\n\nLunch is served between 11:30 a.m. and 1:00 p.m.  \n\n\n\n 
URL:https://laramieevents.com/event/free-summer-lunch-program-with-feeding-laramie-valley/
ATTACH;FMTTYPE=image/jpeg:https://laramieevents.com/wp-content/uploads/sites/3/2025/06/Capture.jpg
END:VEVENT
BEGIN:VEVENT
DTSTART;VALUE=DATE:20250717
DTEND;VALUE=DATE:20250819
DTSTAMP:20260424T075657
CREATED:20250717T161746Z
LAST-MODIFIED:20250717T161746Z
UID:10004019-1752710400-1755561599@laramieevents.com
SUMMARY:Fill The Backpack For Stage Point FCU's School Supply Drive
DESCRIPTION:From the organizers: \nWe are collecting donations to fill backpacks for students in need. Drop off items at 365 N. Third St. in Laramie until August 18th. Special requests include crayons\, pencils\, erasers\, folders\, colored pencils\, dry erase markers\, glue sticks\, tissues\, hand sanitizer\, and Clorox wipes. And any other item that may be helpful and fun for students and teachers. Every item counts! \nAll packs will be distributed to elementary schools in Albany County
URL:https://laramieevents.com/event/fill-the-backpack-for-stage-point-fcus-school-supply-drive/
ATTACH;FMTTYPE=image/jpeg:https://laramieevents.com/wp-content/uploads/sites/3/2025/07/unnamed-scaled.jpg
END:VEVENT
BEGIN:VEVENT
DTSTART;TZID=America/Denver:20250729T150000
DTEND;TZID=America/Denver:20250729T183000
DTSTAMP:20260424T075657
CREATED:20250609T235141Z
LAST-MODIFIED:20250609T235141Z
UID:10003688-1753801200-1753813800@laramieevents.com
SUMMARY:Tuesday Local Market
DESCRIPTION:From the organizers: \nTuesday Local Market\, Laramie\, Wyoming’s local farmers market\, returns to Undine Park this summer every Tuesday in July and August from 3:00 to 6:30pm. The market hosts about 25 vendors from Laramie and Southeast Wyoming\, including organically grown produce\, food and beverage trucks\, fresh made pasta\, sides and baked goods\, art\, crafts and non-profits offering local resources and information\, as well as live local music weekly. \nHeld in the Southeast corner of Undine Park\, Tuesday Local Market offers a laid-back family friendly atmosphere\, including kids’ activities like face painting and the opportunity to chill on the grass with a meal while listening to live local music from blues to folk and more. This year\, Tuesday Local Market teams up with Laramie Cruiser Ride\, a fun group meeting in themed costume to ride around town on cruiser bikes. The market and vendors will join the cheer with weekly specials and other goodies.\nTuesday Local Market\, headed by a volunteer Board of Directors\, is a community organization that exists to host and promote sustainable\, fresh\, and local food and products throughout the summer for community members and visitors of all ages. The market ran as Thursday Local Market for many years and closed after the 2021 season. At the request of many community members\, the market reorganized and reopened in summer 2024. \nFind Tuesday Local Market on Tuesday afternoons\, from July 1 through August 26\, at the southeast corner of 7th and Ord Streets in Undine Park in Laramie. Music generally runs from 4 to 5 or 5:30pm.\nFollow the market on Facebook and Instagram at Laramie Local Market for up-to-date information or visit the website at www.laramielocalmarket.net.
URL:https://laramieevents.com/event/tuesday-local-market/2025-07-29/
ATTACH;FMTTYPE=image/png:https://laramieevents.com/wp-content/uploads/sites/3/2025/06/Capture-1.png
END:VEVENT
BEGIN:VEVENT
DTSTART;TZID=America/Denver:20250729T180000
DTEND;TZID=America/Denver:20250729T193000
DTSTAMP:20260424T075657
CREATED:20250722T173332Z
LAST-MODIFIED:20250722T173359Z
UID:10004021-1753812000-1753817400@laramieevents.com
SUMMARY:City Council Meeting Open House
DESCRIPTION:See the flier below for more details\, you can participate in person or by Zoom \n \n 
URL:https://laramieevents.com/event/city-council-meeting-open-house/
ATTACH;FMTTYPE=image/jpeg:https://laramieevents.com/wp-content/uploads/sites/3/2025/07/Capture.jpg
END:VEVENT
END:VCALENDAR