BEGIN:VCALENDAR
VERSION:2.0
PRODID:-//Laramie Events - ECPv6.15.17.1//NONSGML v1.0//EN
CALSCALE:GREGORIAN
METHOD:PUBLISH
X-ORIGINAL-URL:https://laramieevents.com
X-WR-CALDESC:Events for Laramie Events
REFRESH-INTERVAL;VALUE=DURATION:PT1H
X-Robots-Tag:noindex
X-PUBLISHED-TTL:PT1H
BEGIN:VTIMEZONE
TZID:America/Denver
BEGIN:DAYLIGHT
TZOFFSETFROM:-0700
TZOFFSETTO:-0600
TZNAME:MDT
DTSTART:20240310T090000
END:DAYLIGHT
BEGIN:STANDARD
TZOFFSETFROM:-0600
TZOFFSETTO:-0700
TZNAME:MST
DTSTART:20241103T080000
END:STANDARD
BEGIN:DAYLIGHT
TZOFFSETFROM:-0700
TZOFFSETTO:-0600
TZNAME:MDT
DTSTART:20250309T090000
END:DAYLIGHT
BEGIN:STANDARD
TZOFFSETFROM:-0600
TZOFFSETTO:-0700
TZNAME:MST
DTSTART:20251102T080000
END:STANDARD
BEGIN:DAYLIGHT
TZOFFSETFROM:-0700
TZOFFSETTO:-0600
TZNAME:MDT
DTSTART:20260308T090000
END:DAYLIGHT
BEGIN:STANDARD
TZOFFSETFROM:-0600
TZOFFSETTO:-0700
TZNAME:MST
DTSTART:20261101T080000
END:STANDARD
END:VTIMEZONE
BEGIN:VEVENT
DTSTART;TZID=America/Denver:20250617T113000
DTEND;TZID=America/Denver:20250815T130000
DTSTAMP:20260424T100511
CREATED:20250609T154750Z
LAST-MODIFIED:20250609T154750Z
UID:10003683-1750159800-1755262800@laramieevents.com
SUMMARY:FREE Summer Lunch Program With Feeding Laramie Valley
DESCRIPTION:From the organizers: \n\nJune 17th to august 15th! \nMonday – Friday\, 11:30 a.m. to 1:00 p.m. \nFLV building at LaBonte Park\, 968 N 9th St\, Laramie \n$1.50 suggested donation for adults accompanying children. \n\n\n\n\n​Everyone is welcome and no RSVP is necessary!​ \n\n\nActivities include outdoor recreational time and arts and crafts \n\n\nLunch is served between 11:30 a.m. and 1:00 p.m.  \n\n\n\n 
URL:https://laramieevents.com/event/free-summer-lunch-program-with-feeding-laramie-valley/
ATTACH;FMTTYPE=image/jpeg:https://laramieevents.com/wp-content/uploads/sites/3/2025/06/Capture.jpg
END:VEVENT
BEGIN:VEVENT
DTSTART;TZID=America/Denver:20250712T113000
DTEND;TZID=America/Denver:20250712T180000
DTSTAMP:20260424T100511
CREATED:20250629T062156Z
LAST-MODIFIED:20250629T062156Z
UID:10004011-1752319800-1752343200@laramieevents.com
SUMMARY:Laramie Brewfest
DESCRIPTION:The event takes place July 12\, with doors opening for VIP members at 1130\, general admission is at 130pm. \nVisit the following link for more details: https://laramiemainstreet.org/brewfest
URL:https://laramieevents.com/event/laramie-brewfest-2/
ATTACH;FMTTYPE=image/png:https://laramieevents.com/wp-content/uploads/sites/3/2025/06/2-1.png
END:VEVENT
BEGIN:VEVENT
DTSTART;TZID=America/Denver:20250712T180000
DTEND;TZID=America/Denver:20250712T210000
DTSTAMP:20260424T100511
CREATED:20250707T233246Z
LAST-MODIFIED:20250707T233246Z
UID:10004015-1752343200-1752354000@laramieevents.com
SUMMARY:Naughty Pines Roller Derby
DESCRIPTION:All home bouts are held at the Laramie Ice and Events Center at 3510 E. Garfield St.\, Laramie\, WY\, 82070. Doors typically open at 6pm and the bout begins at 7pm\, but make sure to check their website or Facebook page before the event to confirm the time. \nTickets typically cost $10\, and kids under 12 are always free. Food\, beer\, and merchandise are sold onsite at all events\, and there is always an after party for all players and fans of both teams.
URL:https://laramieevents.com/event/naughty-pines-roller-derby/
ATTACH;FMTTYPE=image/jpeg:https://laramieevents.com/wp-content/uploads/sites/3/2025/07/Untitled-design-2.jpeg
END:VEVENT
END:VCALENDAR