BEGIN:VCALENDAR
VERSION:2.0
PRODID:-//Laramie Events - ECPv6.15.17.1//NONSGML v1.0//EN
CALSCALE:GREGORIAN
METHOD:PUBLISH
X-ORIGINAL-URL:https://laramieevents.com
X-WR-CALDESC:Events for Laramie Events
REFRESH-INTERVAL;VALUE=DURATION:PT1H
X-Robots-Tag:noindex
X-PUBLISHED-TTL:PT1H
BEGIN:VTIMEZONE
TZID:America/Denver
BEGIN:DAYLIGHT
TZOFFSETFROM:-0700
TZOFFSETTO:-0600
TZNAME:MDT
DTSTART:20240310T090000
END:DAYLIGHT
BEGIN:STANDARD
TZOFFSETFROM:-0600
TZOFFSETTO:-0700
TZNAME:MST
DTSTART:20241103T080000
END:STANDARD
BEGIN:DAYLIGHT
TZOFFSETFROM:-0700
TZOFFSETTO:-0600
TZNAME:MDT
DTSTART:20250309T090000
END:DAYLIGHT
BEGIN:STANDARD
TZOFFSETFROM:-0600
TZOFFSETTO:-0700
TZNAME:MST
DTSTART:20251102T080000
END:STANDARD
BEGIN:DAYLIGHT
TZOFFSETFROM:-0700
TZOFFSETTO:-0600
TZNAME:MDT
DTSTART:20260308T090000
END:DAYLIGHT
BEGIN:STANDARD
TZOFFSETFROM:-0600
TZOFFSETTO:-0700
TZNAME:MST
DTSTART:20261101T080000
END:STANDARD
END:VTIMEZONE
BEGIN:VEVENT
DTSTART;VALUE=DATE:20250519
DTEND;VALUE=DATE:20250610
DTSTAMP:20260424T120635
CREATED:20250512T163416Z
LAST-MODIFIED:20250512T163813Z
UID:10003678-1747612800-1749513599@laramieevents.com
SUMMARY:Enchilada Sale Fundraiser With The Eppson Center For Seniors
DESCRIPTION:The Eppson Center for Seniors is taking pre orders for enchiladas until June 2nd with pick up on June 14th. Proceeds will go to help the Eppson Center provide services to seniors in Albany County!  Order them using the QR Code in the flyer\, go to their website https://www.eppsoncenter.org or call them. See the flier for more details
URL:https://laramieevents.com/event/enchilada-sale-fundraiser-with-the-eppson-center-for-seniors/2025-05-19/
ATTACH;FMTTYPE=image/jpeg:https://laramieevents.com/wp-content/uploads/sites/3/2025/05/Capture-1.jpg
END:VEVENT
BEGIN:VEVENT
DTSTART;VALUE=DATE:20250526
DTEND;VALUE=DATE:20250617
DTSTAMP:20260424T120635
CREATED:20250512T163416Z
LAST-MODIFIED:20250512T163813Z
UID:10003679-1748217600-1750118399@laramieevents.com
SUMMARY:Enchilada Sale Fundraiser With The Eppson Center For Seniors
DESCRIPTION:The Eppson Center for Seniors is taking pre orders for enchiladas until June 2nd with pick up on June 14th. Proceeds will go to help the Eppson Center provide services to seniors in Albany County!  Order them using the QR Code in the flyer\, go to their website https://www.eppsoncenter.org or call them. See the flier for more details
URL:https://laramieevents.com/event/enchilada-sale-fundraiser-with-the-eppson-center-for-seniors/2025-05-26/
ATTACH;FMTTYPE=image/jpeg:https://laramieevents.com/wp-content/uploads/sites/3/2025/05/Capture-1.jpg
END:VEVENT
BEGIN:VEVENT
DTSTART;VALUE=DATE:20250602
DTEND;VALUE=DATE:20250624
DTSTAMP:20260424T120635
CREATED:20250512T163416Z
LAST-MODIFIED:20250512T163813Z
UID:10003680-1748822400-1750723199@laramieevents.com
SUMMARY:Enchilada Sale Fundraiser With The Eppson Center For Seniors
DESCRIPTION:The Eppson Center for Seniors is taking pre orders for enchiladas until June 2nd with pick up on June 14th. Proceeds will go to help the Eppson Center provide services to seniors in Albany County!  Order them using the QR Code in the flyer\, go to their website https://www.eppsoncenter.org or call them. See the flier for more details
URL:https://laramieevents.com/event/enchilada-sale-fundraiser-with-the-eppson-center-for-seniors/2025-06-02/
ATTACH;FMTTYPE=image/jpeg:https://laramieevents.com/wp-content/uploads/sites/3/2025/05/Capture-1.jpg
END:VEVENT
BEGIN:VEVENT
DTSTART;TZID=America/Denver:20250607T100000
DTEND;TZID=America/Denver:20250607T170000
DTSTAMP:20260424T120635
CREATED:20250404T154607Z
LAST-MODIFIED:20250404T154607Z
UID:10003575-1749290400-1749315600@laramieevents.com
SUMMARY:Taste of Laradise 2025
DESCRIPTION:This annual event highlights the vibrant community of Albany County\, provides a fun forum to explore Laramie’s downtown businesses\, and raises funds for causes that make a real difference\, with this year’s designated charity being the Laramie Youth Crisis Center. Attendees spend the day perusing downtown businesses\, enjoying cocktails and featured food at participating bars and restaurants\, while shopping retail specials and socializing with street bands\, food trucks and other frivolity in downtown. The day culminates in a raffle of high value\, exciting prizes.
URL:https://laramieevents.com/event/taste-of-laradise-2025/
LOCATION:Downtown Laramie
CATEGORIES:Family,Food,Fundraiser,Kid Friendly,Live Music
ATTACH;FMTTYPE=image/png:https://laramieevents.com/wp-content/uploads/sites/3/2025/03/2025-Banner-for-Facebook-1.png
ORGANIZER;CN="Laramie Rotary Club":MAILTO:montoya.paul@gmail.com
END:VEVENT
BEGIN:VEVENT
DTSTART;TZID=America/Denver:20250607T130000
DTEND;TZID=America/Denver:20250607T170000
DTSTAMP:20260424T120635
CREATED:20250423T234803Z
LAST-MODIFIED:20250423T234803Z
UID:10003610-1749301200-1749315600@laramieevents.com
SUMMARY:Basic Life Support Certification-CPR/Cardiovascular Care AND Recertification
DESCRIPTION:From the event organizer: \nThe American Heart Association’s BLS Course has been updat­ed to reflect new science in the 2015 AHA Guidelines Update for CPR and Emergency Car­dio­vas­cu­lar Care. This course builds a foundation of lifesaving BLS skills\, emphasizing the importance of continuous\, high-quality CPR.Sign up at ivinsonshopital.org/education \n  \nRegister for certification or re certification at this link \nUpcoming Recurrences For REGISTRATION\nTuesday\, May 20\, 2025 1:00pm – 5:00pm \nSaturday\, June 7\, 2025 1:00pm – 5:00pm \nTuesday\, June 17\, 2025 1:00pm – 5:00pm \nTuesday\, July 22\, 2025 1:00pm – 5:00pm \nTuesday\, August 19\, 2025 1:00pm – 5:00pm \nTuesday\, September 16\, 2025 1:00pm – 5:00pm \nTuesday\, October 21\, 2025 1:00pm – 5:00pm \n  \nSee recertification dates at this link
URL:https://laramieevents.com/event/basic-life-support-certification-cpr-cardiovascular-care-and-recertification/2025-06-07/
ATTACH;FMTTYPE=image/png:https://laramieevents.com/wp-content/uploads/sites/3/2025/04/download-5.png
END:VEVENT
END:VCALENDAR