BEGIN:VCALENDAR
VERSION:2.0
PRODID:-//Laramie Events - ECPv6.15.17.1//NONSGML v1.0//EN
CALSCALE:GREGORIAN
METHOD:PUBLISH
X-WR-CALNAME:Laramie Events
X-ORIGINAL-URL:https://laramieevents.com
X-WR-CALDESC:Events for Laramie Events
REFRESH-INTERVAL;VALUE=DURATION:PT1H
X-Robots-Tag:noindex
X-PUBLISHED-TTL:PT1H
BEGIN:VTIMEZONE
TZID:America/Denver
BEGIN:DAYLIGHT
TZOFFSETFROM:-0700
TZOFFSETTO:-0600
TZNAME:MDT
DTSTART:20240310T090000
END:DAYLIGHT
BEGIN:STANDARD
TZOFFSETFROM:-0600
TZOFFSETTO:-0700
TZNAME:MST
DTSTART:20241103T080000
END:STANDARD
BEGIN:DAYLIGHT
TZOFFSETFROM:-0700
TZOFFSETTO:-0600
TZNAME:MDT
DTSTART:20250309T090000
END:DAYLIGHT
BEGIN:STANDARD
TZOFFSETFROM:-0600
TZOFFSETTO:-0700
TZNAME:MST
DTSTART:20251102T080000
END:STANDARD
BEGIN:DAYLIGHT
TZOFFSETFROM:-0700
TZOFFSETTO:-0600
TZNAME:MDT
DTSTART:20260308T090000
END:DAYLIGHT
BEGIN:STANDARD
TZOFFSETFROM:-0600
TZOFFSETTO:-0700
TZNAME:MST
DTSTART:20261101T080000
END:STANDARD
END:VTIMEZONE
BEGIN:VEVENT
DTSTART;VALUE=DATE:20250512
DTEND;VALUE=DATE:20250603
DTSTAMP:20260424T134336
CREATED:20250512T163416Z
LAST-MODIFIED:20250512T163813Z
UID:10003677-1747008000-1748908799@laramieevents.com
SUMMARY:Enchilada Sale Fundraiser With The Eppson Center For Seniors
DESCRIPTION:The Eppson Center for Seniors is taking pre orders for enchiladas until June 2nd with pick up on June 14th. Proceeds will go to help the Eppson Center provide services to seniors in Albany County!  Order them using the QR Code in the flyer\, go to their website https://www.eppsoncenter.org or call them. See the flier for more details
URL:https://laramieevents.com/event/enchilada-sale-fundraiser-with-the-eppson-center-for-seniors/2025-05-12/
ATTACH;FMTTYPE=image/jpeg:https://laramieevents.com/wp-content/uploads/sites/3/2025/05/Capture-1.jpg
END:VEVENT
BEGIN:VEVENT
DTSTART;VALUE=DATE:20250519
DTEND;VALUE=DATE:20250610
DTSTAMP:20260424T134336
CREATED:20250512T163416Z
LAST-MODIFIED:20250512T163813Z
UID:10003678-1747612800-1749513599@laramieevents.com
SUMMARY:Enchilada Sale Fundraiser With The Eppson Center For Seniors
DESCRIPTION:The Eppson Center for Seniors is taking pre orders for enchiladas until June 2nd with pick up on June 14th. Proceeds will go to help the Eppson Center provide services to seniors in Albany County!  Order them using the QR Code in the flyer\, go to their website https://www.eppsoncenter.org or call them. See the flier for more details
URL:https://laramieevents.com/event/enchilada-sale-fundraiser-with-the-eppson-center-for-seniors/2025-05-19/
ATTACH;FMTTYPE=image/jpeg:https://laramieevents.com/wp-content/uploads/sites/3/2025/05/Capture-1.jpg
END:VEVENT
BEGIN:VEVENT
DTSTART;TZID=America/Denver:20250522T173000
DTEND;TZID=America/Denver:20250522T190000
DTSTAMP:20260424T134336
CREATED:20250509T004504Z
LAST-MODIFIED:20250509T165300Z
UID:10003676-1747935000-1747940400@laramieevents.com
SUMMARY:Rocky Mountain Power Wildfire Safety And Reliability Event
DESCRIPTION:You’re invited to find out how we’re increasing safety and reliability in your community during wildfire season and year-round.\n\n\n\n\n\nAttend the free in-person event in Laramie to: \n\nFind out how we use advanced forecasting to put us ahead of the weather and hear about our ongoing work to strengthen our system.\nLearn how Public Safety Power Shutoffs\, enhanced safety settings and emergency de-energization work.\nGet answers to your wildfire questions during a Q&A session with our experts.\nLearn about preparedness and safety from local public safety partners and community-based organizations.\n\n\n\n\n\n\n\nRegister for our Community Wildfire Event: \n\nThursday\, May 22\, 5:30 p.m. to 7 p.m.\nMarian H. Rochelle Gateway Center\n222 South 22nd Street\, Laramie\, WY 82070
URL:https://laramieevents.com/event/rocky-mountain-power-wildfire-safety-and-reliability/
ATTACH;FMTTYPE=image/jpeg:https://laramieevents.com/wp-content/uploads/sites/3/2025/05/unnamed-5.jpg
END:VEVENT
BEGIN:VEVENT
DTSTART;TZID=America/Denver:20250522T190000
DTEND;TZID=America/Denver:20250522T210000
DTSTAMP:20260424T134336
CREATED:20250508T155830Z
LAST-MODIFIED:20250508T155830Z
UID:10003675-1747940400-1747947600@laramieevents.com
SUMMARY:Relative Theatrics: Play/Write Showcase Of ACSD#1 Student Authored Plays
DESCRIPTION:Relative Theatrics (RT) presents the 3rd Annual Play/Write Showcase on May 22nd in the Thrust Theatre of UW’s Buchanan Center for the Performing Arts (BCPA). This showcase consists of 10 student-written plays and is the culmination of the third year of RT’s education initiative: Play/Write Wyoming.  \nSince the fall of 2024\, RT staff members & teaching artists Will Bowling\, Kim Lockhart and Sean Coyle\, have been working with 5th graders at Linford and Slade Elementaries\, and 4th-6th graders at Rock River Elementary\, to teach a 21-week curriculum that focuses on theatre arts skills\, and creative writing and literacy academic standards. Over the course of the year\, students learned improvisation exercises and acting techniques\, and were taught the basics of script writing. Each student has written an original short play of their own that will be bound and published by RT.  \n“Play/Write offers students in Albany County a much-needed arts education program\, and hopes to foster a new generation of writers\, performers and theatre goers\,” says RT Education Director Will Bowling. RT’s Play/ Write Program is modeled after a program of the same name Bowling helped start in New Orleans in 2010\, which continues to grow and serve public school students. The Relative Theatrics Education Team has adapted the program to fit the needs of students in Laramie\, hopes to expand to service all Albany County schools by the 26/27 academic year\, and to other parts of the state in the coming years.  \nAs a celebration of all student work\, 10 plays will be performed by Wyoming theatre artists from all backgrounds. Participating companies include artists from Relative Theatrics\, Laramie’s own The Unexpected Company\, a group of University of Wyoming theatre students\, a high school group from the WYO Performing Arts and Education center in Sheridan\, and the STAGE III Theater Company from Casper. The evening will be a community celebration of student creativity and the talents of intergenerational theater artists from around the state.  \nPlay/Write Wyoming will be performed as a morning field trip for participating students\, and then RT will host an evening showcase for the general public at 7PM\, with seating beginning at 6:30PM. The event is free\, open to the public\, and suitable for all ages. Relative Theatrics is committed to providing universal access to all of our events. American Sign Language accommodations can be made as necessary. Please contact Sean Coyle at executive@relativetheatrics.com to request accommodations by May 15th. \nPlay/Write Wyoming is supported in part by the National Endowment for the Arts\, the Wyoming Arts Council (with support from the National Endowment for the Arts and the Wyoming Legislature)\, the Hughes Charitable Foundation\, City of Laramie and Albany County Community Partner Funds\, Albany County School District #1\, the Rocky Mountain Power Foundation\, The Laura Jane Musser Fund\, and the Brooks and Joan Fortune Family Foundation.  \nAbout Relative Theatrics  \nFounded in 2013\, Relative Theatrics is a local nonprofit performing arts organization in Laramie. It is our mission to engage the community in thoughtful\, contemporary theatre\, expand worldviews\, and connect us to collective humanity. We believe that theatre is a forum with the power to illuminate the binding qualities of humanity and reinforce the ideals that as a society we have values that pose as common ground and emotions that relate us to one another. Taking artistic risk\, we provide a community gathering place where thoughts can be exchanged about society\, culture\, and the power of creativity. www.relativetheatrics.com 
URL:https://laramieevents.com/event/relative-theatrics-play-write-showcase-of-acsd1-student-authored-plays/
ATTACH;FMTTYPE=image/jpeg:https://laramieevents.com/wp-content/uploads/sites/3/2025/05/Capture.jpg
END:VEVENT
END:VCALENDAR