BEGIN:VCALENDAR
VERSION:2.0
PRODID:-//Laramie Events - ECPv6.15.17.1//NONSGML v1.0//EN
CALSCALE:GREGORIAN
METHOD:PUBLISH
X-ORIGINAL-URL:https://laramieevents.com
X-WR-CALDESC:Events for Laramie Events
REFRESH-INTERVAL;VALUE=DURATION:PT1H
X-Robots-Tag:noindex
X-PUBLISHED-TTL:PT1H
BEGIN:VTIMEZONE
TZID:America/Denver
BEGIN:DAYLIGHT
TZOFFSETFROM:-0700
TZOFFSETTO:-0600
TZNAME:MDT
DTSTART:20240310T090000
END:DAYLIGHT
BEGIN:STANDARD
TZOFFSETFROM:-0600
TZOFFSETTO:-0700
TZNAME:MST
DTSTART:20241103T080000
END:STANDARD
BEGIN:DAYLIGHT
TZOFFSETFROM:-0700
TZOFFSETTO:-0600
TZNAME:MDT
DTSTART:20250309T090000
END:DAYLIGHT
BEGIN:STANDARD
TZOFFSETFROM:-0600
TZOFFSETTO:-0700
TZNAME:MST
DTSTART:20251102T080000
END:STANDARD
BEGIN:DAYLIGHT
TZOFFSETFROM:-0700
TZOFFSETTO:-0600
TZNAME:MDT
DTSTART:20260308T090000
END:DAYLIGHT
BEGIN:STANDARD
TZOFFSETFROM:-0600
TZOFFSETTO:-0700
TZNAME:MST
DTSTART:20261101T080000
END:STANDARD
END:VTIMEZONE
BEGIN:VEVENT
DTSTART;TZID=America/Denver:20250419T100000
DTEND;TZID=America/Denver:20250419T100000
DTSTAMP:20260424T152148
CREATED:20250404T030916Z
LAST-MODIFIED:20250404T030916Z
UID:10003587-1745056800-1745056800@laramieevents.com
SUMMARY:Annual Kiwanis Club Easter Egg Hunt
DESCRIPTION:Easter Egg Hunt at Kiwanis Park in West Laramie. It starts promptly at 10:00 AM. 3 age groups for kids 12 and under. Bring your own basket or bag.
URL:https://laramieevents.com/event/annual-kiwanis-club-easter-egg-hunt/
LOCATION:Kiwanis Park\, 150 N. Grant Street\, Laramie\, WY\, 82070\, United States
CATEGORIES:Kid Friendly
ATTACH;FMTTYPE=image/jpeg:https://laramieevents.com/wp-content/uploads/sites/3/2025/04/2025-Easter-Egg-Hunt-Flyer.jpg
ORGANIZER;CN="Laramie Kiwanis Club":MAILTO:buzzard011@hotmail.com
END:VEVENT
BEGIN:VEVENT
DTSTART;TZID=America/Denver:20250419T100000
DTEND;TZID=America/Denver:20250419T130000
DTSTAMP:20260424T152148
CREATED:20250415T003116Z
LAST-MODIFIED:20250415T003116Z
UID:10003600-1745056800-1745067600@laramieevents.com
SUMMARY:Easter At The Elks For ALL AGES
DESCRIPTION: From 10am to 1pm on April 19th\, the Laramie Elks Lodge 582\, 103 S. 2nd Street\, is hosting Easter at the Elks.  This event is free and open to the public and intended to provide a fun activity for families\, showcase the Laramie Elks Lodge 582\, and encourage membership to the lodge. There will be FREE children’s activities\, drink specials and light refreshments during this time.   \nTo donate\, volunteer\, or if you would like more information related to this event or Laramie Elks Lodge 582\, please feel free to contact us at (307) 742-2024 or by email at laramieelks582@gmail.com.  
URL:https://laramieevents.com/event/easter-at-the-elks-for-all-ages/
ATTACH;FMTTYPE=image/jpeg:https://laramieevents.com/wp-content/uploads/sites/3/2025/04/Slide2.jpg
END:VEVENT
END:VCALENDAR