BEGIN:VCALENDAR
VERSION:2.0
PRODID:-//Laramie Events - ECPv6.15.17.1//NONSGML v1.0//EN
CALSCALE:GREGORIAN
METHOD:PUBLISH
X-ORIGINAL-URL:https://laramieevents.com
X-WR-CALDESC:Events for Laramie Events
REFRESH-INTERVAL;VALUE=DURATION:PT1H
X-Robots-Tag:noindex
X-PUBLISHED-TTL:PT1H
BEGIN:VTIMEZONE
TZID:America/Denver
BEGIN:DAYLIGHT
TZOFFSETFROM:-0700
TZOFFSETTO:-0600
TZNAME:MDT
DTSTART:20240310T090000
END:DAYLIGHT
BEGIN:STANDARD
TZOFFSETFROM:-0600
TZOFFSETTO:-0700
TZNAME:MST
DTSTART:20241103T080000
END:STANDARD
BEGIN:DAYLIGHT
TZOFFSETFROM:-0700
TZOFFSETTO:-0600
TZNAME:MDT
DTSTART:20250309T090000
END:DAYLIGHT
BEGIN:STANDARD
TZOFFSETFROM:-0600
TZOFFSETTO:-0700
TZNAME:MST
DTSTART:20251102T080000
END:STANDARD
BEGIN:DAYLIGHT
TZOFFSETFROM:-0700
TZOFFSETTO:-0600
TZNAME:MDT
DTSTART:20260308T090000
END:DAYLIGHT
BEGIN:STANDARD
TZOFFSETFROM:-0600
TZOFFSETTO:-0700
TZNAME:MST
DTSTART:20261101T080000
END:STANDARD
END:VTIMEZONE
BEGIN:VEVENT
DTSTART;TZID=America/Denver:20250411T100000
DTEND;TZID=America/Denver:20250412T030000
DTSTAMP:20260424T152147
CREATED:20250405T003644Z
LAST-MODIFIED:20250405T003644Z
UID:10003591-1744365600-1744426800@laramieevents.com
SUMMARY:Late Night International Karaoke
DESCRIPTION:10:00 pm Late Night International Karaoke \nLovejoy’s 101 Grand Ave
URL:https://laramieevents.com/event/late-night-international-karaoke/
ATTACH;FMTTYPE=image/jpeg:https://laramieevents.com/wp-content/uploads/sites/3/2025/04/video-4647668_1280.jpg
END:VEVENT
BEGIN:VEVENT
DTSTART;TZID=America/Denver:20250412T093000
DTEND;TZID=America/Denver:20250412T113000
DTSTAMP:20260424T152147
CREATED:20250404T154327Z
LAST-MODIFIED:20250404T154327Z
UID:10003588-1744450200-1744457400@laramieevents.com
SUMMARY:Week of the Young Child Fair
DESCRIPTION:Fun-filled opportunities for play. Learn about health\, educational and childcare opportunities for families with young children. \nThere will be free giveaways\, snacks\, activities and stories. \nThe event is Saturday April 12th from 9:30 to 11:30 AM at the Laramie Plains Civic Center’s South Gym.
URL:https://laramieevents.com/event/week-of-the-young-child-fair/
LOCATION:Laramie Plains Civic Center\, 710 E Garfield\, Laramie\, WY\, 82070\, United States
CATEGORIES:Family,Kid Friendly
END:VEVENT
BEGIN:VEVENT
DTSTART;TZID=America/Denver:20250412T140000
DTEND;TZID=America/Denver:20250412T173000
DTSTAMP:20260424T152147
CREATED:20250405T003037Z
LAST-MODIFIED:20250405T003037Z
UID:10003589-1744466400-1744479000@laramieevents.com
SUMMARY:“International Culture Adventure” Hosted by WyoGlobal FREE EVENT!
DESCRIPTION:The Collective 100 S 2nd St \nSATURDAY\, APRIL 12:   \n2:00 – 5:30 pm “International Culture Adventure” Hosted by WyoGlobal FREE EVENT! \n\nThroughout the event:\n\nMusic and dance from the international community\nPosters and demonstrations by international students and scholars from UW\n4:00pm Shared stories – gather stories for 2025 festival. You are invited to read your essay at 4pm on our story stage.
URL:https://laramieevents.com/event/international-culture-adventure-hosted-by-wyoglobal-free-event/
ATTACH;FMTTYPE=image/jpeg:https://laramieevents.com/wp-content/uploads/sites/3/2025/04/IMG_9059.jpg
END:VEVENT
END:VCALENDAR