BEGIN:VCALENDAR
VERSION:2.0
PRODID:-//Laramie Events - ECPv6.15.17.1//NONSGML v1.0//EN
CALSCALE:GREGORIAN
METHOD:PUBLISH
X-WR-CALNAME:Laramie Events
X-ORIGINAL-URL:https://laramieevents.com
X-WR-CALDESC:Events for Laramie Events
REFRESH-INTERVAL;VALUE=DURATION:PT1H
X-Robots-Tag:noindex
X-PUBLISHED-TTL:PT1H
BEGIN:VTIMEZONE
TZID:America/Denver
BEGIN:DAYLIGHT
TZOFFSETFROM:-0700
TZOFFSETTO:-0600
TZNAME:MDT
DTSTART:20240310T090000
END:DAYLIGHT
BEGIN:STANDARD
TZOFFSETFROM:-0600
TZOFFSETTO:-0700
TZNAME:MST
DTSTART:20241103T080000
END:STANDARD
BEGIN:DAYLIGHT
TZOFFSETFROM:-0700
TZOFFSETTO:-0600
TZNAME:MDT
DTSTART:20250309T090000
END:DAYLIGHT
BEGIN:STANDARD
TZOFFSETFROM:-0600
TZOFFSETTO:-0700
TZNAME:MST
DTSTART:20251102T080000
END:STANDARD
BEGIN:DAYLIGHT
TZOFFSETFROM:-0700
TZOFFSETTO:-0600
TZNAME:MDT
DTSTART:20260308T090000
END:DAYLIGHT
BEGIN:STANDARD
TZOFFSETFROM:-0600
TZOFFSETTO:-0700
TZNAME:MST
DTSTART:20261101T080000
END:STANDARD
END:VTIMEZONE
BEGIN:VEVENT
DTSTART;TZID=America/Denver:20250404T160000
DTEND;TZID=America/Denver:20250404T220000
DTSTAMP:20260424T152038
CREATED:20250313T002547Z
LAST-MODIFIED:20250313T002547Z
UID:10003577-1743782400-1743804000@laramieevents.com
SUMMARY:Tacos & Margaritas For A Cause: To Benefit Injured City Laramie Firefighters
DESCRIPTION:From 4:00 to 10:00 p.m. on April 4th\, Laramie Elks Lodge 582 is hosting a Tacos &  Margaritas for a Cause to support injured City of Laramie Firefighters. Please join us for all you can eat  tacos\, margaritas\, a silent auction\, and entertainment as we come together to raise funds to help Laramie’s  injured firefighters.   \nOn February 28\, three Laramie Fire Department Firefighters were injured while responding to a structure  fire. A building collapse left one firefighter critically injured and two other firefighters severely injured. Injuries  include a spinal injury resulting in paralysis\, a collapsed lung\, and a broken ankle for one firefighter and a  severe knee injury and ankle injury for the other firefighters. Our heroes all face challenging recoveries\,  medical expenses\, and future unknown needs.  \nThe charge is $20.00 at the door and includes all you can eat tacos. Margarita drink specials will be available.  A sombrero silent auction will be available where attendees can bid to win great prizes from local donors.  Entertainment will be provided at the lodge from 7:00 to 10:00 p.m. All proceeds will be donated to  Firefighters Local 946\, IAFF for distribution to the injured firefighters.   \nDonations of silent auction items and food are being accepted at the Laramie Elks Lodge 582\, 103 S. 2nd Street. If you would like to donate or have questions related to this event\, please feel free to contact Todd  Feezer\, Exalted Ruler\, at (307) 421-3032 or at tfeezer@gmail.com or you can contact the Laramie Elks  Lodge at (307) 742-2024 or at laramieelks582@gmail.com.  
URL:https://laramieevents.com/event/tacos-margaritas-for-a-cause-to-benefit-injured-city-laramie-firefighters/
ATTACH;FMTTYPE=image/jpeg:https://laramieevents.com/wp-content/uploads/sites/3/2025/03/taco-4709325_1280.jpg
END:VEVENT
END:VCALENDAR