BEGIN:VCALENDAR
VERSION:2.0
PRODID:-//Laramie Events - ECPv6.15.17.1//NONSGML v1.0//EN
CALSCALE:GREGORIAN
METHOD:PUBLISH
X-ORIGINAL-URL:https://laramieevents.com
X-WR-CALDESC:Events for Laramie Events
REFRESH-INTERVAL;VALUE=DURATION:PT1H
X-Robots-Tag:noindex
X-PUBLISHED-TTL:PT1H
BEGIN:VTIMEZONE
TZID:America/Denver
BEGIN:DAYLIGHT
TZOFFSETFROM:-0700
TZOFFSETTO:-0600
TZNAME:MDT
DTSTART:20240310T090000
END:DAYLIGHT
BEGIN:STANDARD
TZOFFSETFROM:-0600
TZOFFSETTO:-0700
TZNAME:MST
DTSTART:20241103T080000
END:STANDARD
BEGIN:DAYLIGHT
TZOFFSETFROM:-0700
TZOFFSETTO:-0600
TZNAME:MDT
DTSTART:20250309T090000
END:DAYLIGHT
BEGIN:STANDARD
TZOFFSETFROM:-0600
TZOFFSETTO:-0700
TZNAME:MST
DTSTART:20251102T080000
END:STANDARD
BEGIN:DAYLIGHT
TZOFFSETFROM:-0700
TZOFFSETTO:-0600
TZNAME:MDT
DTSTART:20260308T090000
END:DAYLIGHT
BEGIN:STANDARD
TZOFFSETFROM:-0600
TZOFFSETTO:-0700
TZNAME:MST
DTSTART:20261101T080000
END:STANDARD
END:VTIMEZONE
BEGIN:VEVENT
DTSTART;TZID=America/Denver:20250308T143000
DTEND;TZID=America/Denver:20250308T183000
DTSTAMP:20260424T171729
CREATED:20250227T190754Z
LAST-MODIFIED:20250227T190754Z
UID:10003573-1741444200-1741458600@laramieevents.com
SUMMARY:2025 WY Boys State Gymnastics
DESCRIPTION:The Wyoming School Of Gymnastics on Skyline Rd in Laramie is hosting the 2025 Boys State Gymnastics featuring Laramie\, Star Valley\, Sheridan & Cody. Admission is $10 for adults\, $5 for kids 12\, cash only. There will be concessions and a gift basket raffle with proceeds benefit the Laramie Gymnastics Booster Club
URL:https://laramieevents.com/event/2025-wy-boys-state-gymnastics/
ATTACH;FMTTYPE=image/jpeg:https://laramieevents.com/wp-content/uploads/sites/3/2025/02/unnamed.jpg
END:VEVENT
BEGIN:VEVENT
DTSTART;TZID=America/Denver:20250308T180000
DTEND;TZID=America/Denver:20250308T220000
DTSTAMP:20260424T171729
CREATED:20240920T184045Z
LAST-MODIFIED:20250308T161336Z
UID:10003220-1741456800-1741471200@laramieevents.com
SUMMARY:Home Brewers Festival
DESCRIPTION:Food\, live music\, and a silent auction while you taste the creations of local home brewers AND raise money for Laramie Animal Welfare Society!\n\nFood will be available for purchase from Pizza Hut and Noam’s Table Food Truck.\n\nDoors open at 6pm\, VIP tickets get access at 5pm.\n\nTickets will be available at the door until we reach capacity.
URL:https://laramieevents.com/event/home-brewers-festival-2/
LOCATION:Laramie Plains Civic Center\, 710 E Garfield\, Laramie\, WY\, 82070\, United States
CATEGORIES:Fundraiser,Live Music
ATTACH;FMTTYPE=image/png:https://laramieevents.com/wp-content/uploads/sites/3/2022/12/Home-Brewers-Festival-Logo.png
END:VEVENT
END:VCALENDAR