BEGIN:VCALENDAR
VERSION:2.0
PRODID:-//Laramie Events - ECPv6.15.17.1//NONSGML v1.0//EN
CALSCALE:GREGORIAN
METHOD:PUBLISH
X-ORIGINAL-URL:https://laramieevents.com
X-WR-CALDESC:Events for Laramie Events
REFRESH-INTERVAL;VALUE=DURATION:PT1H
X-Robots-Tag:noindex
X-PUBLISHED-TTL:PT1H
BEGIN:VTIMEZONE
TZID:America/Denver
BEGIN:DAYLIGHT
TZOFFSETFROM:-0700
TZOFFSETTO:-0600
TZNAME:MDT
DTSTART:20240310T090000
END:DAYLIGHT
BEGIN:STANDARD
TZOFFSETFROM:-0600
TZOFFSETTO:-0700
TZNAME:MST
DTSTART:20241103T080000
END:STANDARD
BEGIN:DAYLIGHT
TZOFFSETFROM:-0700
TZOFFSETTO:-0600
TZNAME:MDT
DTSTART:20250309T090000
END:DAYLIGHT
BEGIN:STANDARD
TZOFFSETFROM:-0600
TZOFFSETTO:-0700
TZNAME:MST
DTSTART:20251102T080000
END:STANDARD
BEGIN:DAYLIGHT
TZOFFSETFROM:-0700
TZOFFSETTO:-0600
TZNAME:MDT
DTSTART:20260308T090000
END:DAYLIGHT
BEGIN:STANDARD
TZOFFSETFROM:-0600
TZOFFSETTO:-0700
TZNAME:MST
DTSTART:20261101T080000
END:STANDARD
END:VTIMEZONE
BEGIN:VEVENT
DTSTART;TZID=America/Denver:20250306T173000
DTEND;TZID=America/Denver:20250306T213000
DTSTAMP:20260424T171729
CREATED:20250127T181536Z
LAST-MODIFIED:20250127T181536Z
UID:10003302-1741282200-1741296600@laramieevents.com
SUMMARY:Laramie Chamber Business Alliance Annual Awards Banquet
DESCRIPTION:From the event organizers: \n\n\n\nPlease join us on this special evening to celebrate our local businesses \nRegister at this link \nThe following awards will be presented: \nLarge Business of the year(25 or more employees) \nSmall Business of the year(24 or fewer employees) \nBusinessperson of the Year \nJim Cavalli Service to Others Award \nThe Shuster Award \nThe Castle Award \nNonprofit of the Year \nDoors open at 5:30 and dinner starts at 6:30 \nIf you have any questions call 307-745-7339 or email jboudreau@laramie.org \n\nRegister at this link
URL:https://laramieevents.com/event/laramie-chamber-business-alliance-annual-awards-banquet/
ATTACH;FMTTYPE=image/jpeg:https://laramieevents.com/wp-content/uploads/sites/3/2025/01/table-setting-3604064_1280.jpg
END:VEVENT
END:VCALENDAR