BEGIN:VCALENDAR
VERSION:2.0
PRODID:-//Laramie Events - ECPv6.15.17.1//NONSGML v1.0//EN
CALSCALE:GREGORIAN
METHOD:PUBLISH
X-ORIGINAL-URL:https://laramieevents.com
X-WR-CALDESC:Events for Laramie Events
REFRESH-INTERVAL;VALUE=DURATION:PT1H
X-Robots-Tag:noindex
X-PUBLISHED-TTL:PT1H
BEGIN:VTIMEZONE
TZID:America/Denver
BEGIN:DAYLIGHT
TZOFFSETFROM:-0700
TZOFFSETTO:-0600
TZNAME:MDT
DTSTART:20240310T090000
END:DAYLIGHT
BEGIN:STANDARD
TZOFFSETFROM:-0600
TZOFFSETTO:-0700
TZNAME:MST
DTSTART:20241103T080000
END:STANDARD
BEGIN:DAYLIGHT
TZOFFSETFROM:-0700
TZOFFSETTO:-0600
TZNAME:MDT
DTSTART:20250309T090000
END:DAYLIGHT
BEGIN:STANDARD
TZOFFSETFROM:-0600
TZOFFSETTO:-0700
TZNAME:MST
DTSTART:20251102T080000
END:STANDARD
BEGIN:DAYLIGHT
TZOFFSETFROM:-0700
TZOFFSETTO:-0600
TZNAME:MDT
DTSTART:20260308T090000
END:DAYLIGHT
BEGIN:STANDARD
TZOFFSETFROM:-0600
TZOFFSETTO:-0700
TZNAME:MST
DTSTART:20261101T080000
END:STANDARD
END:VTIMEZONE
BEGIN:VEVENT
DTSTART;TZID=America/Denver:20250225T193000
DTEND;TZID=America/Denver:20250225T213000
DTSTAMP:20260424T171730
CREATED:20241223T211429Z
LAST-MODIFIED:20241223T211429Z
UID:10003275-1740511800-1740519000@laramieevents.com
SUMMARY:UW Jazz Festival
DESCRIPTION:REGISTER FOR THE FESTIVAL: https://docs.google.com/…/1Mun87XxRemtaxbt1PJL…/edit…\nConcert tickets for patrons will go on sale in January.\n\n\n\n\nOur goals for the UW Jazz Festival are simple: great music with outstanding and positive jazz education. These simple objectives promise to make this an enlightening and enjoyable experience for students\, teachers\, and audience members.\n\nWe are very excited about this year’s festival featuring the Clayton-Hamilton Jazz Orchestra\, who will perform for our evening concert February 25 @7:30 p.m.!\n\nJohn Clayton\, Jeff Hamilton\, and Jeff Clayton founded the Clayton-Hamilton Jazz Orchestra. While in their twenties\, John and Jeff Hamilton toured and recorded with Monty Alexander\, then moved on to separate big band environs. Jeff joined Woody Herman and John signed up for Count Basie.\nAll along\, Jeff Clayton had been performing and recording in Los Angeles. In 1986\, the three men came together in L.A. and formed the Jazz Orchestra. In 2020\, Jeff Clayton passed away after a lengthy illness. The CHJO reminds audiences that his spirit remains in every note that is played. The excitement of this powerful 19-piece band is the result of the band’s stellar performances and John’s writing.\n\nTheir music is composed and arranged by John\, and it is not unusual to hear his take on a composition by Jeff Hamilton or something from the Hamilton trio book.\n\nAlong with multiple Grammy© nominations\, the orchestra is featured on recordings with Milt Jackson\, Diana Krall\, John Pizzarelli\, Charles Aznavour\, Ernie Andrews\, Barbara Morrison\, Natalie Cole and many more.\nFrom 1999-2001\, they were the in-resident jazz orchestra for the Hollywood Bowl. Their busy schedule still finds them touring the U.S.\, Europe and Japan\, often premiering extended works at jazz festivals and in concert halls.\n\nPeople often describe their sound as being influenced by Ellington\, Basie and Thad Jones. This would never be denied by the orchestra\, but one listen lets you know that their voice is unique\, distinct and impactful.
URL:https://laramieevents.com/event/uw-jazz-festival/
ATTACH;FMTTYPE=image/jpeg:https://laramieevents.com/wp-content/uploads/sites/3/2024/12/470198645_566867869639752_6734629052803574658_n.jpg
END:VEVENT
END:VCALENDAR