BEGIN:VCALENDAR
VERSION:2.0
PRODID:-//Laramie Events - ECPv6.15.17.1//NONSGML v1.0//EN
CALSCALE:GREGORIAN
METHOD:PUBLISH
X-WR-CALNAME:Laramie Events
X-ORIGINAL-URL:https://laramieevents.com
X-WR-CALDESC:Events for Laramie Events
REFRESH-INTERVAL;VALUE=DURATION:PT1H
X-Robots-Tag:noindex
X-PUBLISHED-TTL:PT1H
BEGIN:VTIMEZONE
TZID:America/Denver
BEGIN:DAYLIGHT
TZOFFSETFROM:-0700
TZOFFSETTO:-0600
TZNAME:MDT
DTSTART:20240310T090000
END:DAYLIGHT
BEGIN:STANDARD
TZOFFSETFROM:-0600
TZOFFSETTO:-0700
TZNAME:MST
DTSTART:20241103T080000
END:STANDARD
BEGIN:DAYLIGHT
TZOFFSETFROM:-0700
TZOFFSETTO:-0600
TZNAME:MDT
DTSTART:20250309T090000
END:DAYLIGHT
BEGIN:STANDARD
TZOFFSETFROM:-0600
TZOFFSETTO:-0700
TZNAME:MST
DTSTART:20251102T080000
END:STANDARD
BEGIN:DAYLIGHT
TZOFFSETFROM:-0700
TZOFFSETTO:-0600
TZNAME:MDT
DTSTART:20260308T090000
END:DAYLIGHT
BEGIN:STANDARD
TZOFFSETFROM:-0600
TZOFFSETTO:-0700
TZNAME:MST
DTSTART:20261101T080000
END:STANDARD
END:VTIMEZONE
BEGIN:VEVENT
DTSTART;TZID=America/Denver:20250208T100000
DTEND;TZID=America/Denver:20250208T140000
DTSTAMP:20260424T191855
CREATED:20250404T155103Z
LAST-MODIFIED:20250404T155103Z
UID:10003291-1739008800-1739023200@laramieevents.com
SUMMARY:40th Annual Chocolate Fiesta
DESCRIPTION:40th Annual Chocolate Fiesta. All things chocolate for sale to enjoy – just in time for Valentine’s Day! Candy\, cupcakes\, cakes\, cookies\, muffins\, pies\, fudge and much more. Proceeds benefit the League of Women Voters of Laramie for voter services and education.
URL:https://laramieevents.com/event/40th-annual-chocolate-fiesta/
LOCATION:Unitarian Universalist Fellowship\, 1402 Gibbon St\, Laramie\, 82072\, United States
CATEGORIES:Family,Food,Fundraiser
ATTACH;FMTTYPE=image/jpeg:https://laramieevents.com/wp-content/uploads/sites/3/2025/01/Chocolate-Fiesta-2025-JPEG.jpg
ORGANIZER;CN="Unitarian Universalist Fellowship":MAILTO:uularamie@gmail.com
END:VEVENT
BEGIN:VEVENT
DTSTART;TZID=America/Denver:20250208T170000
DTEND;TZID=America/Denver:20250208T210000
DTSTAMP:20260424T191855
CREATED:20250122T050548Z
LAST-MODIFIED:20250122T050548Z
UID:10003295-1739034000-1739048400@laramieevents.com
SUMMARY:Laramie Ducks Unlimited Banquet
DESCRIPTION:From the organizers: \n\nBanquet Time!!! Laramie Ducks Unlimited would like to invite you to our 2025 Banquet to be held on Saturday\, March 8th.\n\n\nThe evening will include dinner\, raffles\, and auctions. The doors open at 5:00 pm\, dinner will begin around 6:30 pm and the live auction will follow.\n\n\nTickets are $70 per person or $120 per couple and can be purchased at the West Laramie Fly Store\, or online using the link below.\n\n\nhttp://307du.com
URL:https://laramieevents.com/event/laramie-ducks-unlimited-banquet-2/
ATTACH;FMTTYPE=image/jpeg:https://laramieevents.com/wp-content/uploads/sites/3/2025/01/474569678_1048831933950035_2873616116141897710_n.jpg
END:VEVENT
BEGIN:VEVENT
DTSTART;TZID=America/Denver:20250208T183000
DTEND;TZID=America/Denver:20250208T230000
DTSTAMP:20260424T191855
CREATED:20250124T192901Z
LAST-MODIFIED:20250125T190016Z
UID:10003300-1739039400-1739055600@laramieevents.com
SUMMARY:A Night In Paris Adult Prom
DESCRIPTION:The Albany County Advisory Council On Trafficking will hold an adult prom\, “A night In Paris” February 8th 630 to 11pm at The Eagles Club In Laramie. See www.aactwy.org for more details and to get tickets
URL:https://laramieevents.com/event/6519/
ATTACH;FMTTYPE=image/png:https://laramieevents.com/wp-content/uploads/sites/3/2025/01/download-1.png
END:VEVENT
END:VCALENDAR