BEGIN:VCALENDAR
VERSION:2.0
PRODID:-//Laramie Events - ECPv6.15.17.1//NONSGML v1.0//EN
CALSCALE:GREGORIAN
METHOD:PUBLISH
X-WR-CALNAME:Laramie Events
X-ORIGINAL-URL:https://laramieevents.com
X-WR-CALDESC:Events for Laramie Events
REFRESH-INTERVAL;VALUE=DURATION:PT1H
X-Robots-Tag:noindex
X-PUBLISHED-TTL:PT1H
BEGIN:VTIMEZONE
TZID:America/Denver
BEGIN:DAYLIGHT
TZOFFSETFROM:-0700
TZOFFSETTO:-0600
TZNAME:MDT
DTSTART:20230312T090000
END:DAYLIGHT
BEGIN:STANDARD
TZOFFSETFROM:-0600
TZOFFSETTO:-0700
TZNAME:MST
DTSTART:20231105T080000
END:STANDARD
BEGIN:DAYLIGHT
TZOFFSETFROM:-0700
TZOFFSETTO:-0600
TZNAME:MDT
DTSTART:20240310T090000
END:DAYLIGHT
BEGIN:STANDARD
TZOFFSETFROM:-0600
TZOFFSETTO:-0700
TZNAME:MST
DTSTART:20241103T080000
END:STANDARD
BEGIN:DAYLIGHT
TZOFFSETFROM:-0700
TZOFFSETTO:-0600
TZNAME:MDT
DTSTART:20250309T090000
END:DAYLIGHT
BEGIN:STANDARD
TZOFFSETFROM:-0600
TZOFFSETTO:-0700
TZNAME:MST
DTSTART:20251102T080000
END:STANDARD
BEGIN:DAYLIGHT
TZOFFSETFROM:-0700
TZOFFSETTO:-0600
TZNAME:MDT
DTSTART:20260308T090000
END:DAYLIGHT
BEGIN:STANDARD
TZOFFSETFROM:-0600
TZOFFSETTO:-0700
TZNAME:MST
DTSTART:20261101T080000
END:STANDARD
END:VTIMEZONE
BEGIN:VEVENT
DTSTART;TZID=America/Denver:20241231T173000
DTEND;TZID=America/Denver:20250101T010000
DTSTAMP:20260424T210326
CREATED:20241227T165322Z
LAST-MODIFIED:20241227T165322Z
UID:10003278-1735666200-1735693200@laramieevents.com
SUMMARY:
DESCRIPTION:The American Legion in Laramie will hold a 1920’s Casino Night on NYE from 530 to 1pm with poker games\, prizes and food. You’re encouraged to come in costume. Proceeds go to the LHS Rodeo team.
URL:https://laramieevents.com/event/6262/
ATTACH;FMTTYPE=image/jpeg:https://laramieevents.com/wp-content/uploads/sites/3/2024/12/471495016_9063492193710023_110002039129517360_n.jpg
END:VEVENT
BEGIN:VEVENT
DTSTART;TZID=America/Denver:20241231T210000
DTEND;TZID=America/Denver:20250101T020000
DTSTAMP:20260424T210326
CREATED:20241227T165059Z
LAST-MODIFIED:20241227T165059Z
UID:10003277-1735678800-1735696800@laramieevents.com
SUMMARY:New Years Eve Celebration At Front St. Tavern
DESCRIPTION:from the organizers: \nGet ready for a night of fun and memorable night of live music and good vibes as House of Cards takes the stage at Front Street Tavern in Laramie\, WY! We’ll keep the energy high with a mix of recognizable cover songs you know and love\, plus a few of our own to spice things up.\n Date: New Year’s Eve Location: Front Street Tavern\, Laramie\, WY Time: 9:00 PM – Midnight and beyond!\nJoin us as we ring in the new year with live music\, dancing\, and great company. Bring your friends and let’s make this a night to remember!\n No cover charge – Just bring your party spirit! \nSee less
URL:https://laramieevents.com/event/new-years-eve-celebration-at-front-st-tavern/
ATTACH;FMTTYPE=image/jpeg:https://laramieevents.com/wp-content/uploads/sites/3/2024/12/470222752_9030411986997018_9057479333525825786_n.jpg
END:VEVENT
END:VCALENDAR