BEGIN:VCALENDAR
VERSION:2.0
PRODID:-//Laramie Events - ECPv6.15.17.1//NONSGML v1.0//EN
CALSCALE:GREGORIAN
METHOD:PUBLISH
X-WR-CALNAME:Laramie Events
X-ORIGINAL-URL:https://laramieevents.com
X-WR-CALDESC:Events for Laramie Events
REFRESH-INTERVAL;VALUE=DURATION:PT1H
X-Robots-Tag:noindex
X-PUBLISHED-TTL:PT1H
BEGIN:VTIMEZONE
TZID:America/Denver
BEGIN:DAYLIGHT
TZOFFSETFROM:-0700
TZOFFSETTO:-0600
TZNAME:MDT
DTSTART:20230312T090000
END:DAYLIGHT
BEGIN:STANDARD
TZOFFSETFROM:-0600
TZOFFSETTO:-0700
TZNAME:MST
DTSTART:20231105T080000
END:STANDARD
BEGIN:DAYLIGHT
TZOFFSETFROM:-0700
TZOFFSETTO:-0600
TZNAME:MDT
DTSTART:20240310T090000
END:DAYLIGHT
BEGIN:STANDARD
TZOFFSETFROM:-0600
TZOFFSETTO:-0700
TZNAME:MST
DTSTART:20241103T080000
END:STANDARD
BEGIN:DAYLIGHT
TZOFFSETFROM:-0700
TZOFFSETTO:-0600
TZNAME:MDT
DTSTART:20250309T090000
END:DAYLIGHT
BEGIN:STANDARD
TZOFFSETFROM:-0600
TZOFFSETTO:-0700
TZNAME:MST
DTSTART:20251102T080000
END:STANDARD
END:VTIMEZONE
BEGIN:VEVENT
DTSTART;TZID=America/Denver:20241025T173000
DTEND;TZID=America/Denver:20241025T193000
DTSTAMP:20260425T063557
CREATED:20241016T220728Z
LAST-MODIFIED:20241016T220728Z
UID:10003242-1729877400-1729884600@laramieevents.com
SUMMARY:Pumpkin Dunkin And Fall Festival
DESCRIPTION:From The city of Laramie and UniWyo Federal Credit Union \nJoin us for tons of family fun\, including our pumpkin patch in the pool! We’ll have games\, arts and crafts and so much more at the rec center on Boulder Drive\, Oct 25 530 to 730pm. It’s free with a membership or purchase of a day pass \n 
URL:https://laramieevents.com/event/pumpkin-dunkin-and-fall-festival/
ATTACH;FMTTYPE=image/jpeg:https://laramieevents.com/wp-content/uploads/sites/3/2024/10/461344701_934267762075039_8298773889671057961_n.jpg
END:VEVENT
BEGIN:VEVENT
DTSTART;TZID=America/Denver:20241025T183000
DTEND;TZID=America/Denver:20241025T203000
DTSTAMP:20260425T063557
CREATED:20241016T190501Z
LAST-MODIFIED:20241016T190501Z
UID:10003240-1729881000-1729888200@laramieevents.com
SUMMARY:Free Drive In Halloween Movie
DESCRIPTION:From The event organizers: \nJoin us for a sPoOkY drive in movie night at Laramie Range Ford\, 3609 Grand Ave Oct 25th 630 to 830pm ! The first 80 people to arrive will get a festive cotton candy bag and we’ll have complimentary popcorn you to enjoy throughout the movie. Stay warm and cozy with a cup of hot cocoa from the Human Bean. Feel free to come in costume! Doors open at 6:30 for you to get your spot\, movie starts at 7
URL:https://laramieevents.com/event/free-drive-in-halloween-movie/
ATTACH;FMTTYPE=image/jpeg:https://laramieevents.com/wp-content/uploads/sites/3/2024/10/463402031_552998980814600_2846635155936298369_n.jpg
END:VEVENT
BEGIN:VEVENT
DTSTART;TZID=America/Denver:20241025T183000
DTEND;TZID=America/Denver:20241025T213000
DTSTAMP:20260425T063557
CREATED:20241021T004953Z
LAST-MODIFIED:20241021T004953Z
UID:10003244-1729881000-1729891800@laramieevents.com
SUMMARY:Flicker Light Tours At Laramie Plains Museum (Oct 24 and 25)
DESCRIPTION:From the event organizers: \nCome experience the Laramie Plains Museum in a small group\, with local guides\, under the lights of electric candles. An exclusive\, atmospheric after-dark tour in the historic Ivinson Mansion. Experience the museum like never before!\nRefreshments provided after tours.Call 307-742-4448 to reserve your tickets now.\n$15/ticket for museum members$20/ticket for non-museum member
URL:https://laramieevents.com/event/flicker-light-tours-at-laramie-plains-museum-oct-24-and-25/2024-10-25/
ATTACH;FMTTYPE=image/jpeg:https://laramieevents.com/wp-content/uploads/sites/3/2024/10/462459350_947040874111166_4900414864172052288_n.jpg
END:VEVENT
END:VCALENDAR