BEGIN:VCALENDAR
VERSION:2.0
PRODID:-//Laramie Events - ECPv6.15.17.1//NONSGML v1.0//EN
CALSCALE:GREGORIAN
METHOD:PUBLISH
X-WR-CALNAME:Laramie Events
X-ORIGINAL-URL:https://laramieevents.com
X-WR-CALDESC:Events for Laramie Events
REFRESH-INTERVAL;VALUE=DURATION:PT1H
X-Robots-Tag:noindex
X-PUBLISHED-TTL:PT1H
BEGIN:VTIMEZONE
TZID:America/Denver
BEGIN:DAYLIGHT
TZOFFSETFROM:-0700
TZOFFSETTO:-0600
TZNAME:MDT
DTSTART:20230312T090000
END:DAYLIGHT
BEGIN:STANDARD
TZOFFSETFROM:-0600
TZOFFSETTO:-0700
TZNAME:MST
DTSTART:20231105T080000
END:STANDARD
BEGIN:DAYLIGHT
TZOFFSETFROM:-0700
TZOFFSETTO:-0600
TZNAME:MDT
DTSTART:20240310T090000
END:DAYLIGHT
BEGIN:STANDARD
TZOFFSETFROM:-0600
TZOFFSETTO:-0700
TZNAME:MST
DTSTART:20241103T080000
END:STANDARD
BEGIN:DAYLIGHT
TZOFFSETFROM:-0700
TZOFFSETTO:-0600
TZNAME:MDT
DTSTART:20250309T090000
END:DAYLIGHT
BEGIN:STANDARD
TZOFFSETFROM:-0600
TZOFFSETTO:-0700
TZNAME:MST
DTSTART:20251102T080000
END:STANDARD
END:VTIMEZONE
BEGIN:VEVENT
DTSTART;TZID=America/Denver:20241018T180000
DTEND;TZID=America/Denver:20241018T220000
DTSTAMP:20260425T052034
CREATED:20241014T171504Z
LAST-MODIFIED:20241014T171504Z
UID:10003238-1729274400-1729288800@laramieevents.com
SUMMARY:Good Lamaritan Masquerade Party
DESCRIPTION:From the organizers: \nLaramie Connections Center will be hosting its 2nd Annual The Good Lamaritan Awards this coming Friday\,  Oct. 18th. This western style masquerade party will be held at the UW Conference Center at the Hilton Garden Inn. Doors open at 6pm and dinner is served at 7pm. \nThe Good Lamaritan initiative is intended to “Unmask the Good in Laramie” by highlighting 20 volunteers from across our community and give exposure to the non-profits that they serve within.\nTickets are still available at thegoodlamaritan.com\nFor more information call Tim at 303-550-6707
URL:https://laramieevents.com/event/good-lamaritan-masquerade-party/
ATTACH;FMTTYPE=image/jpeg:https://laramieevents.com/wp-content/uploads/sites/3/2024/10/Capture.jpg
END:VEVENT
END:VCALENDAR