BEGIN:VCALENDAR
VERSION:2.0
PRODID:-//Laramie Events - ECPv6.15.17.1//NONSGML v1.0//EN
CALSCALE:GREGORIAN
METHOD:PUBLISH
X-WR-CALNAME:Laramie Events
X-ORIGINAL-URL:https://laramieevents.com
X-WR-CALDESC:Events for Laramie Events
REFRESH-INTERVAL;VALUE=DURATION:PT1H
X-Robots-Tag:noindex
X-PUBLISHED-TTL:PT1H
BEGIN:VTIMEZONE
TZID:America/Denver
BEGIN:DAYLIGHT
TZOFFSETFROM:-0700
TZOFFSETTO:-0600
TZNAME:MDT
DTSTART:20230312T090000
END:DAYLIGHT
BEGIN:STANDARD
TZOFFSETFROM:-0600
TZOFFSETTO:-0700
TZNAME:MST
DTSTART:20231105T080000
END:STANDARD
BEGIN:DAYLIGHT
TZOFFSETFROM:-0700
TZOFFSETTO:-0600
TZNAME:MDT
DTSTART:20240310T090000
END:DAYLIGHT
BEGIN:STANDARD
TZOFFSETFROM:-0600
TZOFFSETTO:-0700
TZNAME:MST
DTSTART:20241103T080000
END:STANDARD
BEGIN:DAYLIGHT
TZOFFSETFROM:-0700
TZOFFSETTO:-0600
TZNAME:MDT
DTSTART:20250309T090000
END:DAYLIGHT
BEGIN:STANDARD
TZOFFSETFROM:-0600
TZOFFSETTO:-0700
TZNAME:MST
DTSTART:20251102T080000
END:STANDARD
END:VTIMEZONE
BEGIN:VEVENT
DTSTART;TZID=America/Denver:20241003T180000
DTEND;TZID=America/Denver:20241003T210000
DTSTAMP:20260425T045809
CREATED:20240929T204108Z
LAST-MODIFIED:20240929T204108Z
UID:10003228-1727978400-1727989200@laramieevents.com
SUMMARY:Short Films Showing Produced By Area Veterans
DESCRIPTION:Thursday Oct 3 Benjamin Patton and Wyoming Area Veterans cordially invite you to a special community screening of short films created by area veterans. Thursday\, October 3rd at 6PM American Legion Post 14 417 East Ivinson Avenue Laramie\, Wyoming. A Meet-and-greet reception to follow. The event is FREE and open to all veterans and civilians.\n*Benjamin Patton is the grandson of Gen. George S. Patton.
URL:https://laramieevents.com/event/short-films-showing-produced-by-area-veterans/
ATTACH;FMTTYPE=image/jpeg:https://laramieevents.com/wp-content/uploads/sites/3/2024/05/download-20.jpg
END:VEVENT
BEGIN:VEVENT
DTSTART;TZID=America/Denver:20241003T190000
DTEND;TZID=America/Denver:20241003T210000
DTSTAMP:20260425T045809
CREATED:20240911T165659Z
LAST-MODIFIED:20240911T165659Z
UID:10003215-1727982000-1727989200@laramieevents.com
SUMMARY:League of Women Voters General Election Candidate Forums
DESCRIPTION:The non-partisan League of Women Voters of Laramie (LWV) and the Albany County Public Library (ACPL) are sponsoring Albany County General Election Candidate Forums on Thursday evenings\, September 12\, 19\, 26 and October 3 and10\, from 7 – 9 pm. These will be hybrid events\, in-person at ACPL (310 S 8th St) and live online and will be available for viewing afterwards on the ACPL\, wyominglwv.org websites. This a great way to learn about each candidates’ stances and motivations for running for office and ask questions. The schedule is as follows: September 12: Albany County Hospital District\, Laramie Rivers Conservation District; September 19: Albany County Commissioners\, Senate District 10; September 26: Albany County School District; October 3: House Districts 13\, 14\, 45\, & 46; October 10: Laramie City Council. Go to the ACPL website: League of Women Voters Candidate Forums 2024 – Albany County Public Library (acplwy.org)
URL:https://laramieevents.com/event/league-of-women-voters-general-election-candidate-forums/2024-10-03/
LOCATION:Albany County Public Library\, 310 S 85h St\, Laramie\, WY\, 82070\, United States
ATTACH;FMTTYPE=image/png:https://laramieevents.com/wp-content/uploads/sites/3/2024/09/ACPL-LWV-Logo-2024.png
ORGANIZER;CN="League of Women Voters of Laramie":MAILTO:laramie@wyominglwv.org
END:VEVENT
END:VCALENDAR