BEGIN:VCALENDAR
VERSION:2.0
PRODID:-//Laramie Events - ECPv6.15.17.1//NONSGML v1.0//EN
CALSCALE:GREGORIAN
METHOD:PUBLISH
X-ORIGINAL-URL:https://laramieevents.com
X-WR-CALDESC:Events for Laramie Events
REFRESH-INTERVAL;VALUE=DURATION:PT1H
X-Robots-Tag:noindex
X-PUBLISHED-TTL:PT1H
BEGIN:VTIMEZONE
TZID:America/Denver
BEGIN:DAYLIGHT
TZOFFSETFROM:-0700
TZOFFSETTO:-0600
TZNAME:MDT
DTSTART:20230312T090000
END:DAYLIGHT
BEGIN:STANDARD
TZOFFSETFROM:-0600
TZOFFSETTO:-0700
TZNAME:MST
DTSTART:20231105T080000
END:STANDARD
BEGIN:DAYLIGHT
TZOFFSETFROM:-0700
TZOFFSETTO:-0600
TZNAME:MDT
DTSTART:20240310T090000
END:DAYLIGHT
BEGIN:STANDARD
TZOFFSETFROM:-0600
TZOFFSETTO:-0700
TZNAME:MST
DTSTART:20241103T080000
END:STANDARD
BEGIN:DAYLIGHT
TZOFFSETFROM:-0700
TZOFFSETTO:-0600
TZNAME:MDT
DTSTART:20250309T090000
END:DAYLIGHT
BEGIN:STANDARD
TZOFFSETFROM:-0600
TZOFFSETTO:-0700
TZNAME:MST
DTSTART:20251102T080000
END:STANDARD
END:VTIMEZONE
BEGIN:VEVENT
DTSTART;TZID=America/Denver:20240917T080000
DTEND;TZID=America/Denver:20240917T170000
DTSTAMP:20260425T063627
CREATED:20240918T015650Z
LAST-MODIFIED:20240918T015745Z
UID:10003218-1726560000-1726592400@laramieevents.com
SUMMARY:Sourdough Starter Class
DESCRIPTION:Have you been wanting to learn how to make your own sourdough bread but don’t know where to start?\n\nJoin Albany County Public Library as we learn the basics of sourdough and walk away with your very own sourdough starter.\n\nSpace is limited so please sign up online today at this link\nhttps://docs.google.com/forms/d/e/1FAIpQLSeeq8gxtSeOwippeQl5rNr8cg3HJeituGniQv_HkdXLBOBo0g/viewform\n\nClass is Nov 10 2 to 3pm
URL:https://laramieevents.com/event/sourdough-starter-class/
ATTACH;FMTTYPE=image/jpeg:https://laramieevents.com/wp-content/uploads/sites/3/2024/09/456050157_890189283143845_1559603734256208671_n.jpg
END:VEVENT
BEGIN:VEVENT
DTSTART;TZID=America/Denver:20240917T150000
DTEND;TZID=America/Denver:20240917T190000
DTSTAMP:20260425T063627
CREATED:20240522T014426Z
LAST-MODIFIED:20240522T161253Z
UID:10002246-1726585200-1726599600@laramieevents.com
SUMMARY:Tuesday Farmers Markets
DESCRIPTION:Fresh local produce\, food\, crafts\, music and fun every Tuesday 3 to 7pm at Undine Park\, 7th & Ord in Laramie \nLearn more on their facebook page at this link  \nand check out their website at this link \n 
URL:https://laramieevents.com/event/tuesday-farmers-markets/2024-09-17/
ATTACH;FMTTYPE=image/jpeg:https://laramieevents.com/wp-content/uploads/sites/3/2024/05/tlm-carrot.jpg
END:VEVENT
END:VCALENDAR