BEGIN:VCALENDAR
VERSION:2.0
PRODID:-//Laramie Events - ECPv6.15.17.1//NONSGML v1.0//EN
CALSCALE:GREGORIAN
METHOD:PUBLISH
X-WR-CALNAME:Laramie Events
X-ORIGINAL-URL:https://laramieevents.com
X-WR-CALDESC:Events for Laramie Events
REFRESH-INTERVAL;VALUE=DURATION:PT1H
X-Robots-Tag:noindex
X-PUBLISHED-TTL:PT1H
BEGIN:VTIMEZONE
TZID:America/Denver
BEGIN:DAYLIGHT
TZOFFSETFROM:-0700
TZOFFSETTO:-0600
TZNAME:MDT
DTSTART:20230312T090000
END:DAYLIGHT
BEGIN:STANDARD
TZOFFSETFROM:-0600
TZOFFSETTO:-0700
TZNAME:MST
DTSTART:20231105T080000
END:STANDARD
BEGIN:DAYLIGHT
TZOFFSETFROM:-0700
TZOFFSETTO:-0600
TZNAME:MDT
DTSTART:20240310T090000
END:DAYLIGHT
BEGIN:STANDARD
TZOFFSETFROM:-0600
TZOFFSETTO:-0700
TZNAME:MST
DTSTART:20241103T080000
END:STANDARD
BEGIN:DAYLIGHT
TZOFFSETFROM:-0700
TZOFFSETTO:-0600
TZNAME:MDT
DTSTART:20250309T090000
END:DAYLIGHT
BEGIN:STANDARD
TZOFFSETFROM:-0600
TZOFFSETTO:-0700
TZNAME:MST
DTSTART:20251102T080000
END:STANDARD
END:VTIMEZONE
BEGIN:VEVENT
DTSTART;VALUE=DATE:20240823
DTEND;VALUE=DATE:20240824
DTSTAMP:20260425T082555
CREATED:20240806T184858Z
LAST-MODIFIED:20240806T184858Z
UID:10003206-1724371200-1724457599@laramieevents.com
SUMMARY:LHS Girls Basketball Golf Tournament Fundraiser
DESCRIPTION:LHS Girls Basketball will hold their 2nd annual golf fundraiser at Jacoby Golf Course. Sign up to play as a team of 4 or sponsor a hole. It all goes down August 23rd at 8am with a rain or shine shotgun star \nSee the flyer for more info\, scan the QR Code or email treese@acsd1.org
URL:https://laramieevents.com/event/lhs-girls-basketball-golf-tournament-fundraiser/
ATTACH;FMTTYPE=image/png:https://laramieevents.com/wp-content/uploads/sites/3/2024/08/Capture.png
END:VEVENT
END:VCALENDAR