BEGIN:VCALENDAR
VERSION:2.0
PRODID:-//Laramie Events - ECPv6.15.17.1//NONSGML v1.0//EN
CALSCALE:GREGORIAN
METHOD:PUBLISH
X-WR-CALNAME:Laramie Events
X-ORIGINAL-URL:https://laramieevents.com
X-WR-CALDESC:Events for Laramie Events
REFRESH-INTERVAL;VALUE=DURATION:PT1H
X-Robots-Tag:noindex
X-PUBLISHED-TTL:PT1H
BEGIN:VTIMEZONE
TZID:America/Denver
BEGIN:DAYLIGHT
TZOFFSETFROM:-0700
TZOFFSETTO:-0600
TZNAME:MDT
DTSTART:20230312T090000
END:DAYLIGHT
BEGIN:STANDARD
TZOFFSETFROM:-0600
TZOFFSETTO:-0700
TZNAME:MST
DTSTART:20231105T080000
END:STANDARD
BEGIN:DAYLIGHT
TZOFFSETFROM:-0700
TZOFFSETTO:-0600
TZNAME:MDT
DTSTART:20240310T090000
END:DAYLIGHT
BEGIN:STANDARD
TZOFFSETFROM:-0600
TZOFFSETTO:-0700
TZNAME:MST
DTSTART:20241103T080000
END:STANDARD
BEGIN:DAYLIGHT
TZOFFSETFROM:-0700
TZOFFSETTO:-0600
TZNAME:MDT
DTSTART:20250309T090000
END:DAYLIGHT
BEGIN:STANDARD
TZOFFSETFROM:-0600
TZOFFSETTO:-0700
TZNAME:MST
DTSTART:20251102T080000
END:STANDARD
END:VTIMEZONE
BEGIN:VEVENT
DTSTART;TZID=America/Denver:20240610T113000
DTEND;TZID=America/Denver:20240815T130000
DTSTAMP:20260425T082556
CREATED:20240422T204526Z
LAST-MODIFIED:20240422T204526Z
UID:10000891-1718019000-1723726800@laramieevents.com
SUMMARY:FREE Summer Lunch Program For 18yo & Younger
DESCRIPTION:It’ll take place June 10th to August 15th 1145am to 1pm every Mon-Thu at Slade Elementary & there is no cost
URL:https://laramieevents.com/event/free-summer-lunch-program-for-18yo-younger/
ATTACH;FMTTYPE=image/jpeg:https://laramieevents.com/wp-content/uploads/sites/3/2024/04/438102777_746326730820475_745949211356943797_n.jpg
END:VEVENT
BEGIN:VEVENT
DTSTART;TZID=America/Denver:20240810T113000
DTEND;TZID=America/Denver:20240810T150000
DTSTAMP:20260425T082556
CREATED:20240805T223529Z
LAST-MODIFIED:20240805T224856Z
UID:10003205-1723289400-1723302000@laramieevents.com
SUMMARY:WyCo Volunteer Fire Department Fundraiser ANd Chili Contest
DESCRIPTION:The WyCo volunteer fire department will hold annual fundraiser and chilli contest August 10th 1130am to 3pm at the firehouse 3987 State Hwy 230. There will be raffles\, food\, silent and live auctions and more. If you want to enter your favorite chili or have questions\, see the flyer below
URL:https://laramieevents.com/event/wyco-volunteer-fire-department-fundraiser-and-chili-contest/
ATTACH;FMTTYPE=image/jpeg:https://laramieevents.com/wp-content/uploads/sites/3/2024/08/Capture.jpg
END:VEVENT
END:VCALENDAR