BEGIN:VCALENDAR
VERSION:2.0
PRODID:-//Laramie Events - ECPv6.15.17.1//NONSGML v1.0//EN
CALSCALE:GREGORIAN
METHOD:PUBLISH
X-WR-CALNAME:Laramie Events
X-ORIGINAL-URL:https://laramieevents.com
X-WR-CALDESC:Events for Laramie Events
REFRESH-INTERVAL;VALUE=DURATION:PT1H
X-Robots-Tag:noindex
X-PUBLISHED-TTL:PT1H
BEGIN:VTIMEZONE
TZID:America/Denver
BEGIN:DAYLIGHT
TZOFFSETFROM:-0700
TZOFFSETTO:-0600
TZNAME:MDT
DTSTART:20230312T090000
END:DAYLIGHT
BEGIN:STANDARD
TZOFFSETFROM:-0600
TZOFFSETTO:-0700
TZNAME:MST
DTSTART:20231105T080000
END:STANDARD
BEGIN:DAYLIGHT
TZOFFSETFROM:-0700
TZOFFSETTO:-0600
TZNAME:MDT
DTSTART:20240310T090000
END:DAYLIGHT
BEGIN:STANDARD
TZOFFSETFROM:-0600
TZOFFSETTO:-0700
TZNAME:MST
DTSTART:20241103T080000
END:STANDARD
BEGIN:DAYLIGHT
TZOFFSETFROM:-0700
TZOFFSETTO:-0600
TZNAME:MDT
DTSTART:20250309T090000
END:DAYLIGHT
BEGIN:STANDARD
TZOFFSETFROM:-0600
TZOFFSETTO:-0700
TZNAME:MST
DTSTART:20251102T080000
END:STANDARD
END:VTIMEZONE
BEGIN:VEVENT
DTSTART;TZID=America/Denver:20240518T180000
DTEND;TZID=America/Denver:20240518T210000
DTSTAMP:20260425T170735
CREATED:20240512T210714Z
LAST-MODIFIED:20240512T210714Z
UID:10002228-1716055200-1716066000@laramieevents.com
SUMMARY:American Legion Annual Crawfish Boil (Need To Buy Tix By Tue May 14)
DESCRIPTION:Friday\, May 17t at 6pm is the American Legion’s annual Crawfish boil at the legion\, 417 east ivinson. . Crawfish\, shrimp\, sausage\, corn\, potatoes\, bread\, and dessert for$35. Tickets need to be purchased by May 14th. Call the legion at 745-5845 or email vstuart124@gmail.com
URL:https://laramieevents.com/event/american-legion-annual-crawfish-boil-need-to-buy-tix-by-tue-may-14/
ATTACH;FMTTYPE=image/jpeg:https://laramieevents.com/wp-content/uploads/sites/3/2024/05/download-20.jpg
END:VEVENT
BEGIN:VEVENT
DTSTART;TZID=America/Denver:20240518T180000
DTEND;TZID=America/Denver:20240518T230000
DTSTAMP:20260425T170735
CREATED:20240124T153324Z
LAST-MODIFIED:20240124T153324Z
UID:10000814-1716055200-1716073200@laramieevents.com
SUMMARY:UW Art Museum '24 Gala: A Hat Ball
DESCRIPTION:The National Advisory Board of the University of Wyoming Art Museum invites you to dust off your boots and kick up your heels at A Hat Ball\, our benefit Gala to be held May 18\, 2024\, at the Marian H. Rochelle Gateway Center\, in Laramie\, Wyoming. \nA Hat Ball will be a festive evening of Western elegance\, fine food\, libations\, music\, and friendship\, all to support the extensive programs of the UW Art Museum. \nDate: Saturday\, May 18\, 2024\nTime: 6 PM\nLocation: Marian H. Rochelle Gateway Center\, Laramie\, WY\nAttire: Western Elegance – Black Tie with inspired Western elements from your place in the West \nThe celebratory evening will include:\n6 PM: Social Hour\, Hors d’oeuvres\, and opportunities to bid on a robust selection of Silent Auction items\, including art\, local contributions\, and exciting travel opportunities.\n8 pm: A Three-Course Dinner\, Program\, and Live Auction of Art and Vacation Packages.\nFollowing dinner: Dance the night away or mingle with friends in our exclusive cocktail lounge.\nDon’t miss this opportunity to support the UW Art Museum by attending the Benefit Gala! Purchase your tickets today here! \nTickets are available until May 4\, 2024 at this link
URL:https://laramieevents.com/event/uw-art-museum-24-gala-a-hat-ball/
ATTACH;FMTTYPE=image/jpeg:https://laramieevents.com/wp-content/uploads/sites/3/2024/01/420153213_945044210629275_5865706477548271717_n.jpg
END:VEVENT
END:VCALENDAR