BEGIN:VCALENDAR
VERSION:2.0
PRODID:-//Laramie Events - ECPv6.15.17.1//NONSGML v1.0//EN
CALSCALE:GREGORIAN
METHOD:PUBLISH
X-ORIGINAL-URL:https://laramieevents.com
X-WR-CALDESC:Events for Laramie Events
REFRESH-INTERVAL;VALUE=DURATION:PT1H
X-Robots-Tag:noindex
X-PUBLISHED-TTL:PT1H
BEGIN:VTIMEZONE
TZID:America/Denver
BEGIN:DAYLIGHT
TZOFFSETFROM:-0700
TZOFFSETTO:-0600
TZNAME:MDT
DTSTART:20230312T090000
END:DAYLIGHT
BEGIN:STANDARD
TZOFFSETFROM:-0600
TZOFFSETTO:-0700
TZNAME:MST
DTSTART:20231105T080000
END:STANDARD
BEGIN:DAYLIGHT
TZOFFSETFROM:-0700
TZOFFSETTO:-0600
TZNAME:MDT
DTSTART:20240310T090000
END:DAYLIGHT
BEGIN:STANDARD
TZOFFSETFROM:-0600
TZOFFSETTO:-0700
TZNAME:MST
DTSTART:20241103T080000
END:STANDARD
BEGIN:DAYLIGHT
TZOFFSETFROM:-0700
TZOFFSETTO:-0600
TZNAME:MDT
DTSTART:20250309T090000
END:DAYLIGHT
BEGIN:STANDARD
TZOFFSETFROM:-0600
TZOFFSETTO:-0700
TZNAME:MST
DTSTART:20251102T080000
END:STANDARD
END:VTIMEZONE
BEGIN:VEVENT
DTSTART;VALUE=DATE:20240506
DTEND;VALUE=DATE:20240509
DTSTAMP:20260425T170729
CREATED:20240411T202918Z
LAST-MODIFIED:20240411T202918Z
UID:10000883-1714953600-1715212799@laramieevents.com
SUMMARY:GRIT Conference On Combating Exploitation And Human Trafficking
DESCRIPTION:The Great Rockies Immersive Training (GRIT) Conference on\nExploitation and Human Trafficking is set to take place from May 6th to May 8th\,\n2024\, at the University of Wyoming Conference Center in Laramie\, Wyoming.\nHosted by Uprising\, a Wyoming-based anti-trafficking nonprofit that offers\neducation\, outreach\, and awareness to combat both labor and sex trafficking in\nWyoming. \nRegistration for the GRIT Conference is open. To learn more and secure your\nspot\, please visit https://www.uprisingwyo.org/grit. \nThe GRIT Conference\, organized by Uprising\, is a unique event that brings\ntogether professionals\, advocates\, and experts in the field of anti-trafficking\nefforts. By integrating the latest research\, trends\, and field expertise with\ninnovative immersion training\, GRIT strives to foster sustainable knowledge in\nhow to respond to\, investigate\, and successfully prosecute exploitation-based\ncrimes while providing care and support to the victims and survivors. \n“At GRIT\, we believe in taking a multidisciplinary approach to combat exploitation\nand human trafficking\,” said Terri Markham\, Executive Director at Uprising. “Our\nconference not only has an immersive setting\, but also emphasizes the\nimportance of providing holistic support for victims and survivors of these heinous\ncrimes.” \nKey highlights of the GRIT Conference include:\n– Insightful presentations by leading experts in the field of exploitation and human\ntrafficking.\n– Immersive training sessions designed to equip attendees with practical tools\nand strategies for intervention and prevention. \n– A Survivor led panel discussion addressing the challenges and opportunities in\ncombating exploitation-based crimes.\n– Networking opportunities for attendees to connect\, collaborate\, and share best\npractices.\n– Break-out sessions focusing on victim-centered approaches and\ntrauma-informed care.\n– Vendors showcasing innovative resources and solutions in the fight against\nexploitation and trafficking.\n“We are proud to partner with Uprising and are grateful the GRIT Conference is\nin Laramie this year. Uprising provides an incredible conference platform for\nin-depth training\, the exchange of ideas\, and networking opportunities\,” said\nMindy Layson\, a member of the Board of Directors for the Albany Advisory\nCouncil on Trafficking (AACT). \nRegistration for the GRIT Conference is open. To learn more and secure your\nspot\, please visit https://www.uprisingwyo.org/grit. \nFor media inquiries\, interview requests\, or additional information about the GRIT\nConference\, please contact Charlie Falkis at (307) 655-7511 or via email at\ninfo@uprisingwyo.org. \nAbout Uprising:\nUprising is a Wyoming-based nonprofit organization dedicated to combating\nexploitation and human trafficking. Through training\, prevention\, and awareness\nthe team at Uprising leads the way in supporting Wyoming in the effort to end\nhuman trafficking. \nAbout the Albany Advisory Council on Trafficking (AACT)\nAACT is a Laramie-based nonprofit volunteer task force that combats human\ntrafficking locally through a holistic approach. For more information please visit\nwww.aactwy.org or contact AACT at info@aactwy.org
URL:https://laramieevents.com/event/grit-conference-on-combating-exploitation-and-human-trafficking/
ATTACH;FMTTYPE=image/png:https://laramieevents.com/wp-content/uploads/sites/3/2024/04/GRIT-WEBSITE-IMAGES-600x600-1.png
END:VEVENT
BEGIN:VEVENT
DTSTART;TZID=America/Denver:20240508T120000
DTEND;TZID=America/Denver:20240508T143000
DTSTAMP:20260425T170729
CREATED:20240430T152846Z
LAST-MODIFIED:20240430T152846Z
UID:10001266-1715169600-1715178600@laramieevents.com
SUMMARY:Roller Skating At The Ice & Event Center
DESCRIPTION:Roller skating will take place during the month of May only with 2 special half price days. See the flier for more details
URL:https://laramieevents.com/event/roller-skating-at-the-ice-event-center/2024-05-08/
ATTACH;FMTTYPE=image/jpeg:https://laramieevents.com/wp-content/uploads/sites/3/2024/04/440239114_878819337596039_5475133921215727850_n.jpg
END:VEVENT
END:VCALENDAR