BEGIN:VCALENDAR
VERSION:2.0
PRODID:-//Laramie Events - ECPv6.15.17.1//NONSGML v1.0//EN
CALSCALE:GREGORIAN
METHOD:PUBLISH
X-ORIGINAL-URL:https://laramieevents.com
X-WR-CALDESC:Events for Laramie Events
REFRESH-INTERVAL;VALUE=DURATION:PT1H
X-Robots-Tag:noindex
X-PUBLISHED-TTL:PT1H
BEGIN:VTIMEZONE
TZID:America/Denver
BEGIN:DAYLIGHT
TZOFFSETFROM:-0700
TZOFFSETTO:-0600
TZNAME:MDT
DTSTART:20230312T090000
END:DAYLIGHT
BEGIN:STANDARD
TZOFFSETFROM:-0600
TZOFFSETTO:-0700
TZNAME:MST
DTSTART:20231105T080000
END:STANDARD
BEGIN:DAYLIGHT
TZOFFSETFROM:-0700
TZOFFSETTO:-0600
TZNAME:MDT
DTSTART:20240310T090000
END:DAYLIGHT
BEGIN:STANDARD
TZOFFSETFROM:-0600
TZOFFSETTO:-0700
TZNAME:MST
DTSTART:20241103T080000
END:STANDARD
BEGIN:DAYLIGHT
TZOFFSETFROM:-0700
TZOFFSETTO:-0600
TZNAME:MDT
DTSTART:20250309T090000
END:DAYLIGHT
BEGIN:STANDARD
TZOFFSETFROM:-0600
TZOFFSETTO:-0700
TZNAME:MST
DTSTART:20251102T080000
END:STANDARD
END:VTIMEZONE
BEGIN:VEVENT
DTSTART;VALUE=DATE:20240426
DTEND;VALUE=DATE:20240501
DTSTAMP:20260425T170732
CREATED:20240328T034044Z
LAST-MODIFIED:20240328T034044Z
UID:10000872-1714089600-1714521599@laramieevents.com
SUMMARY:Albany Co. Public Library Book Sale
DESCRIPTION:From the oganizers: \nHAVE A SPRING FLING…and shop the Friends of the Library SPRING BOOK SALE! Mark your calendars – it begins Friday\, April 26 (members only); then open to everyone\, Saturday-Tuesday\, April 27-30. Happy Spring! Happy Shopping! Happy Reading! \nSee the flier for more info \n 
URL:https://laramieevents.com/event/albany-co-public-library-book-sale-4/
ATTACH;FMTTYPE=image/jpeg:https://laramieevents.com/wp-content/uploads/sites/3/2024/03/434173078_819375750217768_3493815984114013347_n.jpg
END:VEVENT
BEGIN:VEVENT
DTSTART;TZID=America/Denver:20240430T173000
DTEND;TZID=America/Denver:20240430T190000
DTSTAMP:20260425T170732
CREATED:20240424T023003Z
LAST-MODIFIED:20240424T023003Z
UID:10000893-1714498200-1714503600@laramieevents.com
SUMMARY:Slade Elementary 5th Grade Art Show\, Book Fair & Choir Concert
DESCRIPTION:The 5th graders at Slade Elementary will hold a 5th grade art show Tue.\, June 30th at the school 530pm to 645pm. Every 5th grader will have something on display and there will be art stations where you can create your own art projects and there will be a book fair and choir concert too \n 
URL:https://laramieevents.com/event/slade-elementary-5th-grade-art-show-book-fair-choir-concert/
ATTACH;FMTTYPE=image/jpeg:https://laramieevents.com/wp-content/uploads/sites/3/2024/04/439405982_953464546485455_8072059343314265659_n.jpg
END:VEVENT
END:VCALENDAR